BEGIN:VCALENDAR
VERSION:2.0
PRODID:-//PIKK.ee - ECPv6.13.2.1//NONSGML v1.0//EN
CALSCALE:GREGORIAN
METHOD:PUBLISH
X-WR-CALNAME:PIKK.ee
X-ORIGINAL-URL:https://www.pikk.ee
X-WR-CALDESC:Events for PIKK.ee
REFRESH-INTERVAL;VALUE=DURATION:PT1H
X-Robots-Tag:noindex
X-PUBLISHED-TTL:PT1H
BEGIN:VTIMEZONE
TZID:Europe/Tallinn
BEGIN:DAYLIGHT
TZOFFSETFROM:+0200
TZOFFSETTO:+0300
TZNAME:EEST
DTSTART:20190331T010000
END:DAYLIGHT
BEGIN:STANDARD
TZOFFSETFROM:+0300
TZOFFSETTO:+0200
TZNAME:EET
DTSTART:20191027T010000
END:STANDARD
END:VTIMEZONE
BEGIN:VEVENT
DTSTART;VALUE=DATE:20190521
DTEND;VALUE=DATE:20190522
DTSTAMP:20260422T055124
CREATED:20190502T063944Z
LAST-MODIFIED:20190503T143557Z
UID:10007370-1558396800-1558483199@www.pikk.ee
SUMMARY:Õpiring piimakarjakasvatajatele
DESCRIPTION:GRUPP ON KOMPLEKTEERITUD! \nÕpiring toimub 21. mai 2019  Halinga OÜ-s\, Pärnumaal \nÕpiringis osalejad moodustavad ühinenud õppijate rühma\, kes plaanipäraselt saavad kokku\, et saada teada ja õppida tundma teatud protsesse ning oma oskusi ja võimeid arendada. \nAjakava \n10.45 – 11.00  Kogunemine Halinga OÜ piimakarjafarmis \n11.00 – 12.30 Ettevõtte tootmisega tutvumine\, farmi külastus. \n12.30 – 14:00 Arutelud\, kogemuste vahetamine. \nÕpiringi teema: piimatootmine ja noorkarjakasvatus  sh söötmine\, heaolu\, lüpsmine ja piimakvaliteet. \n  \nEttevõtet tutvustab loomakasvatusjuht Karin Feldmann \nÕpiringi juhendaja –  Marika Oeselg\, loomakasvatuskonsulent MES. \nGrupi suurus 12 inimest. Grupp on komplekteeritud. \n  \nLisainfo: \nMarika Oeselg\nmarika.oeselg[A]gmail.com\ntel. 513 6242 \nÕpiring toimub MAK 2014-2020 meetme „Teadmussiirde pikaajaline programm loomakasvatuse tegevusvaldkonnas II “ raames ja on sihtgrupile tasuta.
URL:https://www.pikk.ee/sundmus/opiring-piimakarjakasvatajatele-5/
LOCATION:Pärnumaa\, Pärnumaa\, Eesti
CATEGORIES:Loomakasvatus,Maaettevõtlus
ORGANIZER;CN="Maaelu Edendamise Sihtasutus":MAILTO:angelika.nops@pikk.ee
END:VEVENT
END:VCALENDAR