BEGIN:VCALENDAR
VERSION:2.0
PRODID:-//PIKK.ee - ECPv6.13.2.1//NONSGML v1.0//EN
CALSCALE:GREGORIAN
METHOD:PUBLISH
X-WR-CALNAME:PIKK.ee
X-ORIGINAL-URL:https://www.pikk.ee
X-WR-CALDESC:Events for PIKK.ee
REFRESH-INTERVAL;VALUE=DURATION:PT1H
X-Robots-Tag:noindex
X-PUBLISHED-TTL:PT1H
BEGIN:VTIMEZONE
TZID:Europe/Tallinn
BEGIN:DAYLIGHT
TZOFFSETFROM:+0200
TZOFFSETTO:+0300
TZNAME:EEST
DTSTART:20190331T010000
END:DAYLIGHT
BEGIN:STANDARD
TZOFFSETFROM:+0300
TZOFFSETTO:+0200
TZNAME:EET
DTSTART:20191027T010000
END:STANDARD
END:VTIMEZONE
BEGIN:VEVENT
DTSTART;VALUE=DATE:20190526
DTEND;VALUE=DATE:20190531
DTSTAMP:20260423T214647
CREATED:20190517T181141Z
LAST-MODIFIED:20191127T075702Z
UID:10009285-1558828800-1559260799@www.pikk.ee
SUMMARY:Jõgevamaa Koostöökoja õppereis Poola Vabariiki Warmia-Masuuria piirkonda
DESCRIPTION:Jõgevamaa Koostöökoda korraldab 26mai – 30. mail 2019 \nmeede 1.1 raames  Poola Warmia-Masuuria piirkonna ettevõtete külastused. \nInfo: info@jogevamaa.com
URL:https://www.pikk.ee/sundmus/jogevamaa-koostookoja-oppereis-poola-vabariiki-warmia-masuuria-piirkonda/
ORGANIZER;CN="J%C3%B5gevamaa Koost%C3%B6%C3%B6koda":MAILTO:info@jogevamaa.co
END:VEVENT
BEGIN:VEVENT
DTSTART;VALUE=DATE:20190527
DTEND;VALUE=DATE:20190528
DTSTAMP:20260423T214647
CREATED:20190418T125941Z
LAST-MODIFIED:20190516T063431Z
UID:10007363-1558915200-1559001599@www.pikk.ee
SUMMARY:KOOLITUS EDASI LÜKATUD\, UUS KUUPÄEV SELGUMAS. Koolitus“ Täienduskoolitus toiduainete töötlemise või põllumajanduse väikeettevõtte turundusest“
DESCRIPTION:Koolitus“ Täienduskoolitus toiduainete töötlemise või põllumajanduse väikeettevõtte turundusest“ \nOlustvere Teenindus- ja Maamajanduskool korraldab PRIA meetme 1.1 raames koolituse \n“Täienduskoolitus toiduainete töötlemise või põllumajanduse väikeettevõtte turundusest” \n24 tundi. Koolitus toimub 17 ja 27.mai ning 12.juuni  10.00 – 17.15\nOlustvere Teenindus- ja Maamajanduskoolis\, Müüri 4\, Olustvere\, Viljandi mk. \n 17.mai\n10.00 – 11.30  –   Turundusmeetmestik\, sihtrühma kaardistamine\, sihtrühma vajaduste analüüs\, kliendiprofiili loomine\, turunduskanalid\, turundussuhtlus\, turundussõnum\, müügiedendus ja müügitoetus\, bränd\, kaubamärk – koolitaja Tiiu Ohvril \n11.30 – 11.45 – Kohvipaus \n11.45– 13.15 –  Turundusmeetmestik\, sihtrühma kaardistamine\, sihtrühma vajaduste analüüs\, kliendiprofiili loomine\, turunduskanalid\, turundussuhtlus\, turundussõnum\, müügiedendus ja müügitoetus\, bränd\, kaubamärk – koolitaja Tiiu Ohvril \n13.15– 14.00 – Lõuna \n14.00 – 15.30 – Turundusmeetmestik\, sihtrühma kaardistamine\, sihtrühma vajaduste analüüs\, kliendiprofiili loomine\, turunduskanalid\, turundussuhtlus\, turundussõnum\, müügiedendus ja müügitoetus\, bränd\, kaubamärk – koolitaja Tiiu Ohvril \n15.30 – 15.45 – Kohvipaus \n15.45 – 17.15 – Internetiturunduse võimalused: äpid\, Google adwords\, sõnumiturundus\, massturundus\, imago ja brändi-kommunikatsioon\, sotsiaalvõrgustik\, erinevad platvormid\, blogid\,  sotsiaalvõrgustikud  – koolitaja Alar Ani \n  \n27.mai\n10.00 – 11.30  –   Turundusmeetmestik\, sihtrühma kaardistamine\, sihtrühma vajaduste analüüs\, kliendiprofiili loomine\, turunduskanalid\, turundussuhtlus\, turundussõnum\, müügiedendus ja müügitoetus\, bränd\, kaubamärk – koolitaja Tiiu Ohvril \n11.30 – 11.45 – Kohvipaus \n11.45– 13.15 –  Turundusmeetmestik\, sihtrühma kaardistamine\, sihtrühma vajaduste analüüs\, kliendiprofiili loomine\, turunduskanalid\, turundussuhtlus\, turundussõnum\, müügiedendus ja müügitoetus\, bränd\, kaubamärk – koolitaja Tiiu Ohvril \n13.15– 14.00 – Lõuna \n14.00 – 15.30 – Turundusmeetmestik\, sihtrühma kaardistamine\, sihtrühma vajaduste analüüs\, kliendiprofiili loomine\, turunduskanalid\, turundussuhtlus\, turundussõnum\, müügiedendus ja müügitoetus\, bränd\, kaubamärk – koolitaja Tiiu Ohvril \n15.30 – 15.45 – Kohvipaus \n15.45 – 17.15 – Internetiturunduse võimalused: äpid\, Google adwords\, sõnumiturundus\, massturundus\, imago ja brändi-kommunikatsioon\, sotsiaalvõrgustik\, erinevad platvormid\, blogid\,  sotsiaalvõrgustikud  – koolitaja Alar Ani \n  \n12.juuni\n10.00 – 11.30  –   Internetiturunduse võimalused: äpid\, Google adwords\, sõnumiturundus\, massturundus\, imago ja brändi-kommunikatsioon\, sotsiaalvõrgustik\, erinevad platvormid\, blogid\,  sotsiaalvõrgustikud  – koolitaja Alar Ani \n11.30 – 11.45 – Kohvipaus \n11.45– 13.15 –  Turundusmeetmestik\, sihtrühma kaardistamine\, sihtrühma vajaduste analüüs\, kliendiprofiili loomine\, turunduskanalid\, turundussuhtlus\, turundussõnum\, müügiedendus ja müügitoetus\, bränd\, kaubamärk – koolitaja Tiiu Ohvril \n13.15– 14.00 – Lõuna \n14.00 – 15.30 – Turundusmeetmestik\, sihtrühma kaardistamine\, sihtrühma vajaduste analüüs\, kliendiprofiili loomine\, turunduskanalid\, turundussuhtlus\, turundussõnum\, müügiedendus ja müügitoetus\, bränd\, kaubamärk – koolitaja Tiiu Ohvril \n15.30 – 15.45 – Kohvipaus \n15.45 – 17.15 – Internetiturunduse võimalused: äpid\, Google adwords\, sõnumiturundus\, massturundus\, imago ja brändi-kommunikatsioon\, sotsiaalvõrgustik\, erinevad platvormid\, blogid\,  sotsiaalvõrgustikud  – koolitaja Alar Ani \n  \nLisainfo:\nMarika Šadeiko\nOlustvere TMK\n+372 4374234\nmarika.shadeiko@olustvere.edu.ee  
URL:https://www.pikk.ee/sundmus/koolitus-taienduskoolitus-toiduainete-tootlemise-voi-pollumajanduse-vaikeettevotte-turundusest/2019-05-27/
LOCATION:Viljandimaa\, Viljandimaa\, Eesti
CATEGORIES:Turundus
GEO:58.2821746;25.5752233
END:VEVENT
BEGIN:VEVENT
DTSTART;VALUE=DATE:20190527
DTEND;VALUE=DATE:20190529
DTSTAMP:20260423T214647
CREATED:20190416T132211Z
LAST-MODIFIED:20190526T110555Z
UID:10009263-1558915200-1559087999@www.pikk.ee
SUMMARY:TASUTA ÜHISTEGEVUSE KOOLITUS: "KOOSTÖÖ ARENDAMISE MEETODID"
DESCRIPTION:Eesti Maaülikool\, Fr. R. Kreutzwaldi 1A\, Tartu 51014\, ruum 0015. \n\nEesti Maaülikool korraldab “Teadmussiirde pikaajaline programm ühistegevuse tegevusvaldkonnas” raames tasuta koolituse teemal: “Koostöö arendamise meetodid”. Tegemist on pikaajalise programmiga ja selle raames toimub mitmeid infopäevi\, täienduskoolitusi\, õpiringe\, konverentse ning ettevõtete külastusi nii Eestis kui ka välisriikides. \n27.05.-28.05.2019 täienduskoolitusest võib osa võtta põllumajandustoodete tootmise\, töötlemise või turustamisega\, põllumajandusmaa hooldamisega\, põllumajandustoodetest mittepõllumajandustoodete töötlemisega\, sealhulgas toidu valmistamise või töötlemisega\, või metsa majandamisega seotud või nimetatud tegevusega tegelev füüsilisest isikust ettevõtja ja tema töötaja\, eraõigusliku juriidilise isiku osanik\, aktsionär\, liige\, juhtorgani liige ja tema töötaja\, metsa majandamisega tegelev füüsiline isik ja toidu valmistamise või töötlemisega tegelev avalik-õiguslik juriidilise isiku juhtorgani liige või töötaja. \nKoolituse tulemusel suurenevad õppija teadmised koostöö arendamise meetoditest. Eriti ootame osalema ühistute juhtkonda ja nõukogu liikmeid. \n27.05.2019 koolituse ajakava: \n09:45 – 10:00 Registreerimine ja tervituskohvi \n10:00 – 12:15 Sissejuhatus. Koostöö olemus. \n12:15 – 13:15 Lõunapaus \n13:15 – 15:30 Inimesed ja koostöö. Suhtlemistehnikad koostöös. Praktilised ülesanded. \n  \n28.05.2019 koolituse ajakava: \n09:45 – 10:00 Registreerimine ja tervituskohvi \n10:00 – 12:15 Päeva sissejuhatus. Tagasiside koostöö arendamisel. Motiveerivad faktorid. Usalduskultuur. \n12:15 – 13:15 Lõunapaus \n13:15 – 15:30 Vastupanu. Konfliktid ja koostöö. Praktilised ülesanded. Kokkuvõtted ja lõpetamine. \n15:30 – 15:45 Tagasiside \nLektoriks on Kera OÜ koolitaja Kristel Jalak. \nÕppekavaga on võimalik tutvuda järgmisel lingil: õppekava \nEelregistreerimine toimub kuni 22.05.2019\, osalejate arv on piiratud. Lisainfo saamiseks ja eelregistreerimiseks palume saata e-mail programmi assistendile: liis.volli[A]emu.ee. Eelregistreerimiseks palume osalejatel saata järgnev informatsioon: ettevõtlusvorm ja nimi; ettevõtlusvaldkond; reg. number; osaleja nimi; osaleja ametikoht; osaleja isikukood; osaleja telefoninumber. \nRegistreerimisel esitatud isikuandmed edastatakse Põllumajanduse Registrite ja Informatsiooni Ametile\, kuna ühistegevuse teadmussiirde pikaajalise programmi tegevusi toetatakse Euroopa Maaelu Arengu Põllumajandusfondist. \n  \nNB! Eelregistreerimine on tingimata vajalik! \nLisainformatsioon ja küsimused: liis.volli[A]emu.ee või tel: +372 51 92 9840 (programmi assistent Liis Võlli). \nyhistegevus.emu.ee \nfacebook.com/yhistegevus \ninstagram.com/yhistegevus \nKoolituse korraldamist toetab Euroopa Maaelu Arengu Põllumajandusfond. \nKoostöös teeme paremini!
URL:https://www.pikk.ee/sundmus/tasuta-uhistegevuse-koolitus-koostoo-arendamise-meetodid/
LOCATION:Tartumaa\, Eesti
CATEGORIES:Aiandus,Bioenergia ja biomajandus,Finantsmajandus,Keskkond,Loomakasvatus,Maaettevõtlus,Metsandus,Taimekaitse,Taimekasvatus,Toiduainete tootmine,Turundus,Ühistegevus
GEO:58.4057128;26.801576
END:VEVENT
BEGIN:VEVENT
DTSTART;VALUE=DATE:20190527
DTEND;VALUE=DATE:20190529
DTSTAMP:20260423T214647
CREATED:20190515T113808Z
LAST-MODIFIED:20190515T114010Z
UID:10009281-1558915200-1559087999@www.pikk.ee
SUMMARY:LEAN Tootmise juhtimise koolitus 27.-28.mail
DESCRIPTION:LEAN Tootmise juhtimise koolitus \nLäbiviija: TJO Koolitused OÜ\nToimumiskoht: Väike-Paala tn 1 Tallinn Harjumaa 11415 \nRegistreerimine lingil: https://forms.gle/oTW7HUmW2wtDfwk47 \nKooliotusel osalemine on TASUTA\, aga oluline on eelregistreerimine! \nKoolituse tutvustus\nLEAN on tänapäeval populaarne tootmise juhtimise kontseptsioon\, mille läbivaks\nideeks on keskendumine väärtuse loomisele\, protsesside pidevale parendamisele ja\nraiskamiste vähendamisele. LEAN mõtteviis ja tehnikad aitavad ettevõtetel oma\nkonkurentsivõimet kasvatada\, mistõttu on LEAN põhimõtete kasutuselevõtt ja\nefektiivsuse suurendamine tulevikus vältimatu.\nSamas esitab aina suurenev konkurents ning suund pideva täiustamise ning\nefektiivsuse suurendamise poole uusi juhtimisväljakutseid ka LEAN-ettevõtete\ntootmisjuhtidele.\nKoolituse eesmärgiks on käsitelda juhtide ja tootmisjuhtide rolli LEAN-mõtteviisi\,\ntööriistu ning tehnikaid rakendada soovivas tootmisettevõttes ning toetada neid\njuhtidena praktiliste sammude astumisel. \nI päev\n9.15 – 9.30 Saabumine\, osalejate registreerimine\n9.30 – 11.00 LEAN-mõtteviis kui konkurentsivõimelise tootmisettevõtte toimimise vundament. LEAN-maja.\nProtsesside parendamisega seotud LEAN-tehnikad.\n11.00 – 11.15 Paus\n11.15 – 12.45 Töötajate ja töökohaga seotud LEAN-tehnikad.\n12.45 – 13.15 Lõuna\n13.15 – 14.30 Tehnoloogia ja seadmetega seotud LEAN-tehnikad.\n14.30 – 14.45 Paus\n14.45 – 16.15 Tootmise efektiivsuse suurendamise võimalused. \nII päev\n9.30 – 11.00 Tootmisjuhi roll ja ootused juhile (sh keskastmejuhi roll)\n11.00 – 11.15 Paus\n11.15 – 12.45 Juhtimine kui protsess\, PDCA-tsükkel \nP- Eesmärkide püstitamine\, planeerimine ja otsustamine\, prioriteetide määramine; \nD- Ülesannete delegeerimine (käsundamine) ja vahendite eraldamine \n12.45 – 13.15 Lõuna \n13.15 – 14.30 Juhtimine kui protsess\, PDCA-tsükkel jätkub \nC – Eesmärkide täitmise jälgimine\, kontrollimine; \nA – Andmete analüüsimine\, hindamine\, tunnustamine \n14.30 – 14.45 Paus \n14.45 – 16.15 Tootmisega seotud inimeste motiveerimine\, mitterahalised\, rahalised motivaatorid\, motiveerimise mudelid. \nMotiveeriva õhkkonna saavutamine. \nDistsipliini ja korra tagamine. \nKoolituse kokkuvõte ja viited tootmise efektiivsuse tõstmise \nVõimalustele \nTootmise efektiivsuse mõõdikud. \nRegistreerimine lingil: https://forms.gle/oTW7HUmW2wtDfwk47 \nKoolitusel osalemine on TASUTA\, aga oluline on eelregistreerimine! \n 
URL:https://www.pikk.ee/sundmus/lean-tootmise-juhtimise-koolitus-27-28-mail/
LOCATION:Harjumaa\, Harjumaa\, Eesti
CATEGORIES:Toiduainete tootmine
END:VEVENT
END:VCALENDAR