BEGIN:VCALENDAR
VERSION:2.0
PRODID:-//PIKK.ee - ECPv6.13.2.1//NONSGML v1.0//EN
CALSCALE:GREGORIAN
METHOD:PUBLISH
X-WR-CALNAME:PIKK.ee
X-ORIGINAL-URL:https://www.pikk.ee
X-WR-CALDESC:Events for PIKK.ee
REFRESH-INTERVAL;VALUE=DURATION:PT1H
X-Robots-Tag:noindex
X-PUBLISHED-TTL:PT1H
BEGIN:VTIMEZONE
TZID:Europe/Tallinn
BEGIN:DAYLIGHT
TZOFFSETFROM:+0200
TZOFFSETTO:+0300
TZNAME:EEST
DTSTART:20190331T010000
END:DAYLIGHT
BEGIN:STANDARD
TZOFFSETFROM:+0300
TZOFFSETTO:+0200
TZNAME:EET
DTSTART:20191027T010000
END:STANDARD
END:VTIMEZONE
BEGIN:VEVENT
DTSTART;VALUE=DATE:20190620
DTEND;VALUE=DATE:20190621
DTSTAMP:20260422T090131
CREATED:20190404T110408Z
LAST-MODIFIED:20190606T071432Z
UID:10009249-1560988800-1561075199@www.pikk.ee
SUMMARY:Taimekaitse täienduskoolitus professionaalsele taimekaitsevahendite kasutajale
DESCRIPTION:Räpina Aianduskool osaleb Eesti maaelu arengukava 2014–2020 meetme 1 “Teadmussiire ja teavitus” tegevuse „Pikaajalised programmid” hankes. Kursused viiakse läbi “Taimekasvatuse Teadmussiirde Programmi” raames ning on osalejale tasuta. \nMaaeluministri 17.06.2015 määruse nr 68 „Teadmussiirde ja teavituse toetus“ § 5 lg 7 kohaselt võivad TASUTA täienduskoolitusest osa võtta põllumajandustoodete tootmise või töötlemise\, põllumajandustoodetest mittepõllumajandustoodete töötlemise või metsanduses tegutsev füüsilisest isikust ettevõtja ja tema töötaja ning eraõigusliku juriidilise isiku osanik\, aktsionär\, liige\, juhtorgani liige ja tema töötaja. \n– 20. juunil 9.00 – 20.00 Tartu Kutsehariduskeskuses\, Kopli 1a\, Tartu \nTaimekaitse koolitus lõpeb eksamiga. Eksamil tuleb täita test. \n\nVajalik eelregistreerimine\, sest kohtade arv on piiratud. Registreerimine kursusele lõpetatakse\n\n3 tööpäeva enne koolituse algust või õppegrupi täitumisel. \nNB! Vajalik eelregistreerimine\, sest kohtade arv on piiratud. Registreerimine kursusele lõpetatakse \n3 tööpäeva enne koolituse algust või õppegrupi täitumisel. \nKursusele registreerimine toimub Räpina Aianduskooli kodulehel www.aianduskool.ee/taienduskoolitus või tel: 796 1549 ja 5346 1209 \nKaasa võtta isikut tõendav dokument ja oma sülearvuti ning arvuti laadimise vajadusel ka pikendusjuhe \n  \n 
URL:https://www.pikk.ee/sundmus/taimekaitse-taienduskoolitus-professionaalsele-taimekaitsevahendite-kasutajale-11/
LOCATION:Tartumaa\, Eesti
CATEGORIES:Taimekaitse
ORGANIZER;CN="R%C3%A4pina Aianduskool":MAILTO:elina.oeselg@aianduskool.ee
GEO:58.4057128;26.801576
END:VEVENT
BEGIN:VEVENT
DTSTART;VALUE=DATE:20190620
DTEND;VALUE=DATE:20190621
DTSTAMP:20260422T090131
CREATED:20190603T083238Z
LAST-MODIFIED:20190620T164234Z
UID:10007401-1560988800-1561075199@www.pikk.ee
SUMMARY:Põllumajanduse suurandmete temaatikat tutvustavad infopäevad
DESCRIPTION:Infopäevad toimuvad: \n  \n\njuunil 2019 Tartus\, Põllumajanduse Registrite ja Informatsiooni Ametis (Tähe 4\, ruum 122);\njuunil 2019 Sakus\, Põllumajandusuuringute Keskuses (Teaduse 4/6\, suur saal).\n\nInfopäevade eesmärgiks on tutvustada põllumajanduse suurandmete tegevusvaldkonna teadmussiirde pikaajalise programmi tegevusi ja tulemeid ning arutleda\, missugused ootused\, lootused või hirmud on seotud tulevikus loodava suurandmete süsteemiga. \nLisaks tutvustatakse rahvusvahelist projekti Euroopa Liidu otse- ja maaelu arengu toetuste ühtse administreerimise ja kontrolli süsteemi uute e-lahenduste arendamiseks (NIVA). \nPäevakava 20.06.2019 Tartu\, PRIA\, Tähe 4\, ruum 122 \n12.45 – 13.00 Kogunemine\, registreerimine \n13.00 – 14.15 Põllumajanduse suurandmete projekt. Mis see on ja kuidas see on kasulik põllumajandustootjale? Mis teenused on võimalikud? Näited andmete kasutamisest. Plaanid seoses ePõlluraamatuga – Mati Mõtte (Põllumajandusuuringute Keskus) Põllumajanduse suurandmete PIP \n14.15 – 14.30 Kohvipaus \n14.30 – 15.00 Prototüübid kasutaja vaates eAgronomi näitel – Stenver Jerkku (E-Agronom OÜ) eAgronom ja suurandmete projekt \n15.00 – 15.30 NIVA projekti tutvustus – Kadri Pärnpuu (Põllumajanduse Registrite ja Informatsiooni Amet) NIVA projekt \n15.30 – 15.45 Kokkuvõttev arutelu \n  \nPäevakava 21.06.2019 Saku\, PMK\, Teaduse 4/6\, suur saal \n10.45 – 11.00 Kogunemine\, registreerimine \n11.00 – 12.15 Põllumajanduse suurandmete projekt. Mis see on ja kuidas see on kasulik põllumajandustootjale? Mis teenused on võimalikud? Näited andmete kasutamisest. Plaanid seoses ePõlluraamatuga – Urmas Visse (Põllumajandusuuringute Keskus) Suurandmete PIP \n12.15 – 12.30 Kohvipaus \n12.30 – 13.00 Prototüübid kasutaja vaates eAgronomi näitel – Urmas Visse (Põllumajandusuuringute Keskus) eAgronom ja suurandmete projekt \n13.00 – 13.30 NIVA projekti tutvustus – Maris Kruuse (Põllumajandusuuringute Keskus) NIVA projekt \n13.30 – 13.45 Kokkuvõttev arutelu \n  \nOodatud on teemast huvitatud osapooled: põllumajandustootjad\, teadlased\, ametnikud\, aga ka tarkvaraarendajad jt. \nPalume end kindlasti aegsasti kirja panna! Registreerimine: https://docs.google.com/forms/suurandmed \nInfopäevad korraldab Põllumajandusuuringute Keskus koostöös Eesti Maaülikooli\, Eesti Taimekasvatuse Instituudi\, Tieto Estonia AS ja E-Agronom OÜ-ga. \nOsalemine on tasuta. Infopäevad toimuvad „Teadmussiirde pikaajaline programm põllumajanduse suurandmete tegevusvaldkonnas“ raames\, toetab Euroopa Maaelu Arengu Põllumajandusfond. \n  \nKontakt: \nProgrammi juht: Urmas Visse\, tel. 5623 8768\, e-mail urmas.visse@pmk.agri.ee \nProgrammi koordinaator: Maris Kruuse\, tel. 5563 0001\, e-mail maris.kruuse@pmk.agri.ee \n  \nLisainfo ja aruanded: http://pmk.agri.ee/teadmussiirde-pikaajaline-programm-pollumajanduse-suurandmete-tegevusvaldkonnas/ \nProgrammi interaktiivne aruandekeskkond: https://tietoanalytics.ee/PRIA
URL:https://www.pikk.ee/sundmus/pollumajanduse-suurandmete-temaatikat-tutvustavad-infopaevad/2019-06-20/
LOCATION:Eesti
END:VEVENT
END:VCALENDAR