BEGIN:VCALENDAR
VERSION:2.0
PRODID:-//PIKK.ee - ECPv6.13.2.1//NONSGML v1.0//EN
CALSCALE:GREGORIAN
METHOD:PUBLISH
X-ORIGINAL-URL:https://www.pikk.ee
X-WR-CALDESC:Events for PIKK.ee
REFRESH-INTERVAL;VALUE=DURATION:PT1H
X-Robots-Tag:noindex
X-PUBLISHED-TTL:PT1H
BEGIN:VTIMEZONE
TZID:Europe/Tallinn
BEGIN:DAYLIGHT
TZOFFSETFROM:+0200
TZOFFSETTO:+0300
TZNAME:EEST
DTSTART:20190331T010000
END:DAYLIGHT
BEGIN:STANDARD
TZOFFSETFROM:+0300
TZOFFSETTO:+0200
TZNAME:EET
DTSTART:20191027T010000
END:STANDARD
END:VTIMEZONE
BEGIN:VEVENT
DTSTART;VALUE=DATE:20190703
DTEND;VALUE=DATE:20190704
DTSTAMP:20260424T100351
CREATED:20190610T142040Z
LAST-MODIFIED:20190702T115323Z
UID:10009290-1562112000-1562198399@www.pikk.ee
SUMMARY:Mahemarja- ja puuviljakultuuride demokatsete esitluspäev Pollis
DESCRIPTION:Eesti Maaülikool korraldab 3. juulil Polli külas\, EMÜ PKI Polli aiandusuuringute keskuses ja katsepõldudel demokatse esitluspäeva\, kus tutvustatakse marjakultuuride\, astelpaju\, õunapuu ja maguskirsi kasvatamis- ja kasutusvõimalusi. \nAeg: 3. juuli 2019\, kell 10-15 \nAsukoht: Polli küla\, Mulgi vald\, Viljandimaa (polli.emu.ee )\nEesti Maaülikooli Polli aiandusuuringute keskus \nPäevakava \n9.45 – 10.00    Kogunemine Polli aiandusuuringute keskuse peahoones \n10.00 – 10.30  Erinevate mahekasvatuses lubatud leheväetiste kasutamise tulemustest MTÜ Aiandusklaster musta sõstra kasvatuse katsetes – Hedi Kaldmäe\, Kersti Kahu \n10.30 – 10.50  Mahe musta sõstra kasvatusest Taanis (MTÜ Aiandusklaster õppereis) – Hedi Kaldmäe\, Kersti Kahu \n10.50 – 11.20  Energiapaus ja arutelu \n11.20 – 12.20  Maguskirsi kasvatamine\, sordid ja viljade degusteerimine – Kersti Kahu \n12.20 – 12.50  Astelpaju kasvatus ja sordid – Kersti Kahu \n12.50 – 14.00  Õunapuude suvine lõikus ja viljade harvendamine – Toivo Univer \n14.00 – 15.00  Erinevate marjakultuuride sortide tutvustamine – Ave Kikas\, Mailis Vinogradov \nREGISTREERUMINE ON LÕPPENUD! \nEsitluspäev läheb arvesse mahepõllumajandusliku tootmise toetuse saamise kohustusliku koolitusena (6 tundi). \nEsitluspäev toimub “Teadmussiirde pikaajaline programm mahepõllumajanduse tegevusvaldkonnas” raames\, toetab Euroopa Liit.
URL:https://www.pikk.ee/sundmus/mahemarja-ja-puuviljakultuuride-demokatsete-esitluspaev-pollis/
LOCATION:Viljandimaa\, Viljandimaa\, Eesti
CATEGORIES:Aiandus
GEO:58.2821746;25.5752233
END:VEVENT
BEGIN:VEVENT
DTSTART;VALUE=DATE:20190703
DTEND;VALUE=DATE:20190704
DTSTAMP:20260424T100351
CREATED:20190618T060054Z
LAST-MODIFIED:20190618T060054Z
UID:10009294-1562112000-1562198399@www.pikk.ee
SUMMARY:eAgronomi koolitus Pärnus
DESCRIPTION:Teeme tiiru peale kogu eAgronomi süsteemile (sh uutele võimalustele!). Muutunud veebruarikuuga võrreldes nii mõndagi!\nLoomulikult kuulame ka iga õppegrupi soovi selles osas\, millistele teemadele rõhku panna.\nKoolituste hinnanguline pikkus on 2 tundi\, kuid vahel saab kiiremini ja mõnikord läheb kauem. Sõltub sellest\, kui palju on küsimusi ja arutelu. \n  \nLoe lähemalt ja registreeru: https://eagronom.com/et/koolitused/
URL:https://www.pikk.ee/sundmus/eagronomi-koolitus-parnus/
LOCATION:Pärnumaa\, Pärnumaa\, Eesti
ORGANIZER;CN="eAgronom":MAILTO:kristjan@eagronom.ee
END:VEVENT
END:VCALENDAR