BEGIN:VCALENDAR
VERSION:2.0
PRODID:-//PIKK.ee - ECPv6.13.2.1//NONSGML v1.0//EN
CALSCALE:GREGORIAN
METHOD:PUBLISH
X-WR-CALNAME:PIKK.ee
X-ORIGINAL-URL:https://www.pikk.ee
X-WR-CALDESC:Events for PIKK.ee
REFRESH-INTERVAL;VALUE=DURATION:PT1H
X-Robots-Tag:noindex
X-PUBLISHED-TTL:PT1H
BEGIN:VTIMEZONE
TZID:Europe/Tallinn
BEGIN:DAYLIGHT
TZOFFSETFROM:+0200
TZOFFSETTO:+0300
TZNAME:EEST
DTSTART:20190331T010000
END:DAYLIGHT
BEGIN:STANDARD
TZOFFSETFROM:+0300
TZOFFSETTO:+0200
TZNAME:EET
DTSTART:20191027T010000
END:STANDARD
END:VTIMEZONE
BEGIN:VEVENT
DTSTART;VALUE=DATE:20190713
DTEND;VALUE=DATE:20190718
DTSTAMP:20260425T195308
CREATED:20190625T144544Z
LAST-MODIFIED:20190625T144544Z
UID:10009306-1562976000-1563407999@www.pikk.ee
SUMMARY:Islandi ettevõtete külastus
DESCRIPTION:OÜ Merelika korraldab Islandi põllumajandusettevõtete külastuse. Grupp komplekteeritud
URL:https://www.pikk.ee/sundmus/islandi-ettevotete-kulastus/
LOCATION:Muu\, Eesti
CATEGORIES:Maaettevõtlus
ORGANIZER;CN="O%C3%9C Merelika":MAILTO:liia@kamari.ee
GEO:58.595272;25.0136071
END:VEVENT
BEGIN:VEVENT
DTSTART;VALUE=DATE:20190716
DTEND;VALUE=DATE:20190717
DTSTAMP:20260425T195308
CREATED:20190618T130353Z
LAST-MODIFIED:20190618T130353Z
UID:10009298-1563235200-1563321599@www.pikk.ee
SUMMARY:Maheviljelusviiside esitluspäev
DESCRIPTION:Eesti Maaülikool korraldab 2. juulil ja 16. juulil maheviljelusviiside esitluspäevad Tartumaal. \nAeg:\n2. juuli kell 10.00-14.45\n16. juuli kell 10.00-14.45 \nAsukoht: Eesti Maaülikooli Mahekeskus\, Eerika tee 2\, Õssu küla\, Kambja vald\, Tartumaa (http://mahekeskus.emu.ee/uldinfo/kontakt/) \nPäevakava \n\nVahekultuurid pikaajalises mahe külvikorrakatses – Liina Talgre\, Eesti Maaülikool\nMahetaliviljade külvikord – Peeter Lääniste\, Eesti Maaülikool\nMulla pH neutraliseerimine maheviljeluses – Pille-Riin Tõlgo\, Baltic Agro\, Andres Rammul\, Nordkalk (02.07) ja Maikel Jätsa\, Nordkalk (16.07).\nEestis kasvatatavad põllukultuurid – Peeter Lääniste\, Eesti Maaülikool\n\nEsitluspäeval osalemine on tasuta\, registreerumine lõppeb kohtade täitumisel.\nOsalemiseks on kindlasti vajalik eelregistreerimine (eelistatult): \n\n2. juuli hiljemalt 28. juuniks siin: https://forms.gle/vDib3w7rA6Lu1bqaA\n16. juuli hiljemalt 12. juuliks siin: https://forms.gle/E3gTRKq9Wx7SFmPz7\n\nvõi telefonil 53044003. \nEsitluspäev läheb arvesse mahepõllumajandusliku tootmise toetuse saamise kohustusliku koolitusena (6 tundi). \nLisainfo:\nElen Peetsmann\nEesti Maaülikooli Mahekeskus\nmaheteave@gmail.com\ntel: 53044003 \nEsitluspäev toimub “Teadmussiirde pikaajaline programm mahepõllumajanduse tegevusvaldkonnas” raames\, toetab Euroopa Liit.
URL:https://www.pikk.ee/sundmus/maheviljelusviiside-esitluspaev-2/
LOCATION:Tartumaa\, Eesti
CATEGORIES:Taimekasvatus
GEO:58.4057128;26.801576
END:VEVENT
END:VCALENDAR