BEGIN:VCALENDAR
VERSION:2.0
PRODID:-//PIKK.ee - ECPv6.13.2.1//NONSGML v1.0//EN
CALSCALE:GREGORIAN
METHOD:PUBLISH
X-WR-CALNAME:PIKK.ee
X-ORIGINAL-URL:https://www.pikk.ee
X-WR-CALDESC:Events for PIKK.ee
REFRESH-INTERVAL;VALUE=DURATION:PT1H
X-Robots-Tag:noindex
X-PUBLISHED-TTL:PT1H
BEGIN:VTIMEZONE
TZID:Europe/Tallinn
BEGIN:DAYLIGHT
TZOFFSETFROM:+0200
TZOFFSETTO:+0300
TZNAME:EEST
DTSTART:20190331T010000
END:DAYLIGHT
BEGIN:STANDARD
TZOFFSETFROM:+0300
TZOFFSETTO:+0200
TZNAME:EET
DTSTART:20191027T010000
END:STANDARD
END:VTIMEZONE
BEGIN:VEVENT
DTSTART;VALUE=DATE:20190727
DTEND;VALUE=DATE:20190728
DTSTAMP:20260421T083445
CREATED:20190715T135953Z
LAST-MODIFIED:20190822T111422Z
UID:10009309-1564185600-1564271999@www.pikk.ee
SUMMARY:Infopäev "Mesilasemade kasvatamine" Läänemaal
DESCRIPTION:bInfopäev teemal „Mesilasemade kasvatamine“ toimub 27. juulil 2019 Altmõisa külalistemajas (Altmõisa talu\, Tuuru küla Haapsalu linn\, 90426) Läänemaal. \nVajalik registreerimine SIIN \nAjakava “Mesilasemade kasvatamine”\n10.15-10.30 kogunemine\, kohvipaus\n10.30-12.00 ettekanne\n12.00-12.15 jala sirutamise paus\n12.15-13.45 ettekanne\, küsimused ja arutelu \n  \nInfopäeva lektor Valmar Lutsar (Mesinduse eriala õpetaja Olustvere Teenindus ja Maamajanduskoolis. Pikaajaline praktiline kogemus Soome suurmesilas töötades – mesilasemade kasvatamises müügiks.) \nInfopäev on osavõtjatele tasuta. \nInfopäeva materjalid: Emadekasvatus \nInfopäev toimub MAK 2014-2020 meetme “Teadmussiirde ja teavituse toetuse maakondliku ulatusega tegevuste” meetme raames\, tegevust toetab Euroopa Liit. \nLisainfo:\nAngelika Nöps\nAngelika.nops[at]pikk.ee\ntel. 5308 9961\nKorraldaja Maaelu Edendamise Sihtasutus
URL:https://www.pikk.ee/sundmus/infopaev-mesilasemade-kasvatamine-laanemaal/
LOCATION:Läänemaa
ORGANIZER;CN="Maaelu Edendamise Sihtasutus":MAILTO:angelika.nops@pikk.ee
END:VEVENT
BEGIN:VEVENT
DTSTART;VALUE=DATE:20190727
DTEND;VALUE=DATE:20190728
DTSTAMP:20260421T083445
CREATED:20190715T140315Z
LAST-MODIFIED:20190822T111151Z
UID:10009310-1564185600-1564271999@www.pikk.ee
SUMMARY:Infopäev “Mesilasperede laiendamine” Läänemaal
DESCRIPTION:Infopäev teemal „Mesilasperede laiendamine“ toimub 27. juulil 2019 Altmõisa külalistemajas (Altmõisa talu\, Tuuru küla Haapsalu linn\, 90426) Läänemaal. \nVajalik registreerimine SIIN \nAjakava “Mesilasperede laiendamine”\n14.15-15.45 ettekanne\n15.45-16.00 kohvipaus\n16.00-17.30 ettekanne\, küsimused ja arutelu \n  \nInfopäeva lektor Valmar Lutsar (Mesinduse eriala õpetaja Olustvere Teenindus ja Maamajanduskoolis. Pikaajaline praktiline kogemus Soome suurmesilas töötades – mesilasemade kasvatamises müügiks.) \nInfopäev on osavõtjatele tasuta. \nInfopäeva materjalid Mesilasperede laiendamine 2 Mesilasperede laiendamine 1 \nInfopäev toimub MAK 2014-2020 meetme “Teadmussiirde ja teavituse toetuse maakondliku ulatusega tegevuste” meetme raames\, tegevust toetab Euroopa Liit. \nLisainfo:\nAngelika Nöps\nAngelika.nops[at]pikk.ee\ntel. 5308 9961\nKorraldaja Maaelu Edendamise Sihtasutus
URL:https://www.pikk.ee/sundmus/infopaev-mesilasperede-laiendamine-laanemaal/
LOCATION:Läänemaa
ORGANIZER;CN="Maaelu Edendamise Sihtasutus":MAILTO:angelika.nops@pikk.ee
END:VEVENT
END:VCALENDAR