BEGIN:VCALENDAR
VERSION:2.0
PRODID:-//PIKK.ee - ECPv6.13.2.1//NONSGML v1.0//EN
CALSCALE:GREGORIAN
METHOD:PUBLISH
X-WR-CALNAME:PIKK.ee
X-ORIGINAL-URL:https://www.pikk.ee
X-WR-CALDESC:Events for PIKK.ee
REFRESH-INTERVAL;VALUE=DURATION:PT1H
X-Robots-Tag:noindex
X-PUBLISHED-TTL:PT1H
BEGIN:VTIMEZONE
TZID:Europe/Tallinn
BEGIN:DAYLIGHT
TZOFFSETFROM:+0200
TZOFFSETTO:+0300
TZNAME:EEST
DTSTART:20190331T010000
END:DAYLIGHT
BEGIN:STANDARD
TZOFFSETFROM:+0300
TZOFFSETTO:+0200
TZNAME:EET
DTSTART:20191027T010000
END:STANDARD
END:VTIMEZONE
BEGIN:VEVENT
DTSTART;VALUE=DATE:20190813
DTEND;VALUE=DATE:20190814
DTSTAMP:20260421T231632
CREATED:20190719T082655Z
LAST-MODIFIED:20190719T082743Z
UID:10009312-1565654400-1565740799@www.pikk.ee
SUMMARY:Mullaproovide võtmise koolitus
DESCRIPTION:Mullaproovide võtmise koolitus \n\naugust 2019\, algus kell 10\n\nAsukoht: Teaduse 6\, Saku \nKoolituse sisu: \n\n\n\nmullaproovide kogumise metoodika\nkaardimaterjali vormistamine\ntellimuslehe vormistamine\nagrokeemia labori külastus\n\n\n\nKoolituse läbinud saavad tunnistuse ja õoguse võtta keskkonnasõbraliku majandamise ja mahetoetuse nõutele vastavaid mullaproove. \nRegistreerimise link: \nhttps://docs.google.com/forms/d/e/1FAIpQLSe0qKjmkLjV4voGNLGriLB0lIK_6LzSRXyZ7xq2C0n-ikWGFg/viewform
URL:https://www.pikk.ee/sundmus/mullaproovide-votmise-koolitus-3/
LOCATION:Harjumaa\, Harjumaa\, Eesti
CATEGORIES:Taimekasvatus
END:VEVENT
END:VCALENDAR