BEGIN:VCALENDAR
VERSION:2.0
PRODID:-//PIKK.ee - ECPv6.13.2.1//NONSGML v1.0//EN
CALSCALE:GREGORIAN
METHOD:PUBLISH
X-WR-CALNAME:PIKK.ee
X-ORIGINAL-URL:https://www.pikk.ee
X-WR-CALDESC:Events for PIKK.ee
REFRESH-INTERVAL;VALUE=DURATION:PT1H
X-Robots-Tag:noindex
X-PUBLISHED-TTL:PT1H
BEGIN:VTIMEZONE
TZID:Europe/Tallinn
BEGIN:DAYLIGHT
TZOFFSETFROM:+0200
TZOFFSETTO:+0300
TZNAME:EEST
DTSTART:20190331T010000
END:DAYLIGHT
BEGIN:STANDARD
TZOFFSETFROM:+0300
TZOFFSETTO:+0200
TZNAME:EET
DTSTART:20191027T010000
END:STANDARD
END:VTIMEZONE
BEGIN:VEVENT
DTSTART;VALUE=DATE:20190814
DTEND;VALUE=DATE:20190816
DTSTAMP:20260423T170145
CREATED:20190729T122005Z
LAST-MODIFIED:20190729T122005Z
UID:10009315-1565740800-1565913599@www.pikk.ee
SUMMARY:Ettevõtete külastus Tartumaal ja Põlvamaal.
DESCRIPTION:Eesti Maaelu Nõuandeteenistus korraldab 2 päevase ettevõtete külastuse Tartu- ja Põlvamaal. \nAEG: 14-15. august 2019 \nInfo: 56 624644 Arvo Aller \nTäpne päevakava on koostamisel. \nRegistreerimine: Kohad täis.
URL:https://www.pikk.ee/sundmus/ettevotete-kulastus-tartumaal-ja-polvamaal/
LOCATION:Põlvamaa\, Põlvamaa\, Eesti
CATEGORIES:Maaettevõtlus,Muu,Taimekasvatus
ORGANIZER;CN="Eesti Maaelu N%C3%B5uandeteenistus MT%C3%9C":MAILTO:maanouanne@gmail.com
GEO:58.1160622;27.2066394
END:VEVENT
BEGIN:VEVENT
DTSTART;VALUE=DATE:20190815
DTEND;VALUE=DATE:20190816
DTSTAMP:20260423T170145
CREATED:20190731T082456Z
LAST-MODIFIED:20190917T065805Z
UID:10009317-1565827200-1565913599@www.pikk.ee
SUMMARY:Infopäev „Investeeringute toetamine majandustegevuse mitmekesistamiseks maapiirkonnas mittepõllumajandusliku tegevuse suunas“
DESCRIPTION:Tartumaa Põllumeeste Liit korraldab algusega 10.00 tasuta infopäevad meetme „Investeeringute toetamine majandustegevuse mitmekesistamiseks maapiirkonnas mittepõllumajandusliku tegevuse suunas“ tutvustamiseks. Toetust\, kuni 150 000 eurot\, saab taotleda kuni üheksa töötajaga vähemalt kaks aastat tegutsenud ettevõtte. \nMaaeluministeeriumi poolt tutvustab meetme eesmärki ja võimalusi Allar Korjas\, PRIAst Marje Leppik. \nTegemist on vähese tähtsusega abiga. \n15. augustil Tartumaa Põllumeeste Liidus Jalaka 48. \nRegistreerimine: https://forms.gle/AaWzUFK1TPrLVRbW8. \n28. augustil Võrumaal Navi seltsimajas. \nRegistreerimine: https://forms.gle/1sQW4ptEa1Ue2L51A. \n29. augustil Ida-Virumaal Maidla rahvamajas. \nRegistreerimine: https://forms.gle/uQvautzEj9Z3Xtsv9. \nSlaidid: Mitmekesistamine 2019 \nLisainfo 508 7320.
URL:https://www.pikk.ee/sundmus/infopaev-investeeringute-toetamine-majandustegevuse-mitmekesistamiseks-maapiirkonnas-mittepollumajandusliku-tegevuse-suunas/
LOCATION:Tartumaa\, Eesti
CATEGORIES:Maaettevõtlus
GEO:58.4057128;26.801576
END:VEVENT
BEGIN:VEVENT
DTSTART;VALUE=DATE:20190815
DTEND;VALUE=DATE:20190816
DTSTAMP:20260423T170145
CREATED:20190731T083252Z
LAST-MODIFIED:20190731T083331Z
UID:10009318-1565827200-1565913599@www.pikk.ee
SUMMARY:Esitluspäev:  Õuna-ja ploomipuude kasvatamine
DESCRIPTION:Eesti Maaülikool korraldab 15.augustil \, 2019.a. Polli külas \, EMÜ PKI Polli aiandusuuringute keskuse katseaedades puuviljakasvatuse esitluspäeva\, kus tutvustatakse sorte\, haigustõrje ajastamist vastavalt ilmastikule ning võraaluste erinevaid harimisvõimalusi. \nAeg: 15. august 2019\, kell 10-14.30 \nKogunemine: Uus tänav 2\, Polli küla\, Mulgi vald\, Viljandimaa\, \nPÄEVAKAVA\n10.00-10.15 Kogunemine Pollis\n10.15-11.15 Esimesi tulemusi õunapuude renoveerimiskatsest – T. Univer\n11.15-12.15 Õunapuu kärntõve tõrje ajastamine vastavalt ilmastikule – N. Univer\n12.15-12.40 Energiapaus\n12.40-13.40 Erinevad võraaluste harimisvõimalused noortes puuviljaaedades\, Demonstratsioon- N. Univer\, K. Põrk\n13.40- 14.30 Ploomisortide tutvustus ja erinevate multšide kasutusvõimalusi – K. Kahu \nEsitluspäeval osalemine on tasuta. Esitluspäev toimub õues. Palun vastavalt riietuda. Osalemiseks on vajalik registreerimine hiljemalt 13.augustiks aadressil: http://bit.ly/6unapuud \nPäeva koordinaator Kersti Kahu\nKontakt: 53474802\, e- mail: kersti.kahu@emu.ee \nEsitlustegevus toimub “Teadmussiirde pikaajaline programm aianduse tegevusvaldkonnas ” raames\, toetab Euroopa Liit.
URL:https://www.pikk.ee/sundmus/esitluspaev-ouna-ja-ploomipuude-kasvatamine/
LOCATION:Viljandimaa\, Viljandimaa\, Eesti
CATEGORIES:Aiandus
GEO:58.2821746;25.5752233
END:VEVENT
END:VCALENDAR