BEGIN:VCALENDAR
VERSION:2.0
PRODID:-//PIKK.ee - ECPv6.13.2.1//NONSGML v1.0//EN
CALSCALE:GREGORIAN
METHOD:PUBLISH
X-ORIGINAL-URL:https://www.pikk.ee
X-WR-CALDESC:Events for PIKK.ee
REFRESH-INTERVAL;VALUE=DURATION:PT1H
X-Robots-Tag:noindex
X-PUBLISHED-TTL:PT1H
BEGIN:VTIMEZONE
TZID:Europe/Tallinn
BEGIN:DAYLIGHT
TZOFFSETFROM:+0200
TZOFFSETTO:+0300
TZNAME:EEST
DTSTART:20190331T010000
END:DAYLIGHT
BEGIN:STANDARD
TZOFFSETFROM:+0300
TZOFFSETTO:+0200
TZNAME:EET
DTSTART:20191027T010000
END:STANDARD
END:VTIMEZONE
BEGIN:VEVENT
DTSTART;VALUE=DATE:20190819
DTEND;VALUE=DATE:20190820
DTSTAMP:20260425T134747
CREATED:20190731T110103Z
LAST-MODIFIED:20190819T182052Z
UID:10009321-1566172800-1566259199@www.pikk.ee
SUMMARY:Esitluspäev: Aedmaasika taimekaitse
DESCRIPTION:Eesti Maaülikool koostöös Kindel Käsi OÜ-ga korraldab aedmaasikate taimekaitse-alase esitluspäeva 19. augustil 2019 Unipihas Tartumaal \nAeg: 19. august 2019 kell 9.45 – 16.00\nKoht: Kindel Käsi OÜ\, Unipiha\, Nõo vald\, Tartumaa (kogunemine hoidla juures; https://goo.gl/maps/ZDnzcrRr7AZLYQpn6 ) \nPäevakava\n09.45 Kogunemine\n10.00 Maasika-jahukaste tõrje katsete tulemustest tava- ja maheviljeluses. EMÜ aianduse osakonna dotsent Ulvi Moor \n10.45 Maasika-jahukaste erinevate tõrjemeetodite esitlusala külastus Kindel Käsi OÜ tootmisistanduses.\n12. 00 Lõuna\n12.45 Kuidas mõjutavad taimekaitsevahendid mesilasi? Taimekaitsevahenditest tulevikus. EMÜ taimetervise õppetooli teadur Reet Karise.\n13.30. Maasikakahjustajate keemilise tõrje võimalused. Indrek Teder\, Baltic Agro\n14.00 Kokkuvõte 2019. aasta maasikahooajast. Helen Kaskema\, Kindel Käsi OÜ\nArutelu \nEsitluspäev on tasuta\, osalemiseks on vajalik eelregistreerumine hiljemalt 12.08.2019 aadressil http://bit.ly/aedmaasikas19 \nKohtade arv on piiratud\, registreerumine lõpetatakse kohtade täitumisel. \nLisainfo:\nUlvi Moor\, Eesti Maaülikool\, aianduse osakond\ne-post: ulvi.moor@emu.ee \nEsitlustegevus toimub “Teadmussiirde pikaajaline programm aianduse tegevusvaldkonnas ” raames\, toetab Euroopa Liit.
URL:https://www.pikk.ee/sundmus/esitluspaev-aedmaasika-taimekaitse/
LOCATION:Tartumaa\, Eesti
CATEGORIES:Aiandus
GEO:58.4057128;26.801576
END:VEVENT
END:VCALENDAR