BEGIN:VCALENDAR
VERSION:2.0
PRODID:-//PIKK.ee - ECPv6.13.2.1//NONSGML v1.0//EN
CALSCALE:GREGORIAN
METHOD:PUBLISH
X-WR-CALNAME:PIKK.ee
X-ORIGINAL-URL:https://www.pikk.ee
X-WR-CALDESC:Events for PIKK.ee
REFRESH-INTERVAL;VALUE=DURATION:PT1H
X-Robots-Tag:noindex
X-PUBLISHED-TTL:PT1H
BEGIN:VTIMEZONE
TZID:Europe/Tallinn
BEGIN:DAYLIGHT
TZOFFSETFROM:+0200
TZOFFSETTO:+0300
TZNAME:EEST
DTSTART:20190331T010000
END:DAYLIGHT
BEGIN:STANDARD
TZOFFSETFROM:+0300
TZOFFSETTO:+0200
TZNAME:EET
DTSTART:20191027T010000
END:STANDARD
END:VTIMEZONE
BEGIN:VEVENT
DTSTART;VALUE=DATE:20190930
DTEND;VALUE=DATE:20191002
DTSTAMP:20260421T073601
CREATED:20190514T081944Z
LAST-MODIFIED:20190514T081944Z
UID:10009279-1569801600-1569974399@www.pikk.ee
SUMMARY:Taimekasvatus konsulendile - Rohumaade majandamine
DESCRIPTION:Koolitus toimub Fr. R. Kreutzwaldi 56/1 III korrusel ruumis A 303 30.09.2019 ja 01.10.2019 kell 9.00-16.00 \nTäpsem info ja registreerumine: https://ois.emu.ee/pls/ois/!tere.tulemast?leht=OK.AY.VP&id_ay_programm=10222&id_ay_toimumine=13524&systeemi_seaded=3\,1\,12\,1\, \nKoolituse sihtrühma kuuluvad  isikud\, kes vastavad vähemalt ühele järgmistest nõuetest:\n1) isikule on kutseseaduses sätestatud alusel ja korras antud konsulendi kutse ja tal on kehtiv kutsetunnistus;\n2) isikule kutseseaduse alusel ja korras antud konsulendi kutsetunnistuse kehtivuse lõppemisest ei ole möödunud rohkem kui 12 kuud;\n3) isik on Euroopa Liidu ühise põllumajanduspoliitika rakendamise seaduse § 71 lõikes 1 sätestatud valikumenetluse kohaselt valitud nõustamisteenuse osutajaga lepingulises suhtes ning tegeleb põllu- või maamajandusliku nõustamisteenuse osutamisega. \nKoolitust finantseeritakse Eesti maaelu arengukava (MAK) 2014-2020 vahenditest ning see on sihtrühma kuuluvatele isikutele tasuta. \nNB! Teavitame! Täienduskoolitus rahastatakse nõustajate koolitustoetusena\, mis määratletakse kui RIIGIABI osalejatele\, juhul kui koolitusel osaleja ise on ettevõtja või mõne ettevõtja töötaja\, osanik\, aktsionär\, liige või juhtorgani liige. \nKoolituse korraldaja:\nEesti Maaülikooli avatud ülikool\nFr. R. Kreutzwaldi 56/1\n51006 Tartu\,\ntel 731 3275\, 731 3174\, 534 41844\ne-post: avayl@emu.ee\nhttp://avatudylikool.emu.ee/
URL:https://www.pikk.ee/sundmus/taimekasvatus-konsulendile-rohumaade-majandamine/
LOCATION:Tartumaa\, Eesti
CATEGORIES:Taimekasvatus
GEO:58.4057128;26.801576
END:VEVENT
END:VCALENDAR