BEGIN:VCALENDAR
VERSION:2.0
PRODID:-//PIKK.ee - ECPv6.13.2.1//NONSGML v1.0//EN
CALSCALE:GREGORIAN
METHOD:PUBLISH
X-WR-CALNAME:PIKK.ee
X-ORIGINAL-URL:https://www.pikk.ee
X-WR-CALDESC:Events for PIKK.ee
REFRESH-INTERVAL;VALUE=DURATION:PT1H
X-Robots-Tag:noindex
X-PUBLISHED-TTL:PT1H
BEGIN:VTIMEZONE
TZID:Europe/Tallinn
BEGIN:DAYLIGHT
TZOFFSETFROM:+0200
TZOFFSETTO:+0300
TZNAME:EEST
DTSTART:20190331T010000
END:DAYLIGHT
BEGIN:STANDARD
TZOFFSETFROM:+0300
TZOFFSETTO:+0200
TZNAME:EET
DTSTART:20191027T010000
END:STANDARD
END:VTIMEZONE
BEGIN:VEVENT
DTSTART;VALUE=DATE:20191010
DTEND;VALUE=DATE:20191012
DTSTAMP:20260423T042100
CREATED:20190503T081355Z
LAST-MODIFIED:20191001T055112Z
UID:10009267-1570665600-1570838399@www.pikk.ee
SUMMARY:Aiandus mitteaianduskonsulendile – alternatiivsed kultuurid
DESCRIPTION:Toimumisaeg\n10.-11. oktoober ja 24.-25. oktoober 2019\nNB! Koolituson neli päeva kestev tervik ja eeldab osavõttu kõigil neljal koolituspäeval\n\n\nMaht\n35 akadeemilist tundi (22 tundi auditoorset\, 10 tundi praktikat\, 3 tundi iseseisvat tööd)\n\n\nToimumiskoht\nTartu Eesti Maaülikool\nKreutzwaldi 56/1 auditoorium A 303 (tehnikamaja III korrus)\nPraktilised tegevused Rõhul (Õunaaia tee 5 Rõhu küla) ja aiandis Aiasõber OÜ (Ändi tee 18 Tükiküla Tartumaa)\, sõit praktikakohta osalejate oma transpordiga.\n\n\nAjakava\nAlgus esimesel koolituspäeval kell 9.15 ja lõpp 16.15\, täpsemat tunniplaaniv vt kodulehelt:http://avatudylikool.emu.ee/taiendope/konsulentideeri/\n\n\nÕppekeel\neesti keel\n\n\nÕppejõud\nÕpe viiakse läbi ühe või mitme koolitaja poolt\, kellel on kõrgharidus ja vähemalt kolmeaastane töökogemus vastava mooduli teemal (vastaval erialal töötamine\, osalemine lektorina koolitustel või teadusprojektides). \n  \nKadri Karp\, D.Sc\, Eesti Maaülikooli Põllumajandus- ja keskkonnainstituudi professor \nLeila Mainla\, Ph.D\, Eesti Maaülikooli Põllumajandus- ja keskkonnainstituudi dotsent \nLiina Arus\, teadur\, Polli Aiandusuuringute Keskus \nMaret Prits\, MSc\, Eesti Maaülikooli Majandus- ja sotsiaalinstituudi maamajanduse ökonoomika õppetooli lektor\, täiskasvanute koolitaja\, tase 7\n\n\n\n\n\n\n\n\n\n\n\n\n\n\n\nHinnainfo\nSihtrühmale on osalemine tasuta. \nKoolituse tellijaks on PRIA.\nTegevust finantseeritakse Eesti maaelu arengukava 2014-2020 vahenditest.\n\n\nSihtrühm\nSihtrühm isik\, kellele on kutseseaduses sätestatud alusel ja korras antud konsulendi\nkutsetunnistus;\nvõi\nisik\, kellele kutseseaduse alusel ja korras antud konsulendi kutsetunnistuse kehtivuse\nlõppemisest ei ole möödunud rohkem kui 12 kuud;\nvõi\nisik\, kes on Euroopa Liidu ühise põllumajanduspoliitika rakendamise seaduse § 71 lg 1\nsätestatud valikumenetluse kohaselt valitud nõustamisteenuse osutajaga lepingulises suhtes\nning tegeleb põllu- või maamajandusliku nõustamisteenuse osutamisega.\n\n\nMaksimaalne osalejate arv\n20\n\n\nEesmärk\nAnda mitteaianduskonsulendile esmased teadmised valdkonnast kujul\, mis\nvõimaldaks tal hinnata vastava valdkonna tootmise sobivust kliendile\, hinnata peamisi riske.\n\n\n\n\n\nÕpingute alustamise tingimused\nKuulumine sihtrühma.\nNB! Koolituson neli päeva kestev tervik ja eeldab osavõttu kõigil neljal koolituspäeval\n\n\n\n\n\nÕpiväljundid\nAlternatiivsete kultuuride mooduli läbinu teab\n* milliseid alternatiivseid või uusi kultuurtaimi kasvatada saab\, sealhulgas: astelpaju\, aroonia\, mustikas\, viinamari\, pampel\, kuslapuu\, lillekasvatus.\n* millised on kättesaadavad sordid\, sordi valiku põhimõtted\n* millised on peamised kasvatusviisid\, sh. mahekasvatuses\, ning milliseid agrotehnilisi võtteid sealjuures rakendatakse\n* millistest allikatest otsida põhjalikumat informatsiooni ning meie kliimasse ja tingumustesse sobivaid juhendeid alternatiivsete kultuuride kasvatusest\n\n\n\n\n\nSisu\nKoolituse rõhk on praktikal.\nKülastus Rõhule ja puukooli\, muu hulgas kujundatakse viinapuu ja astelpaju võra\, lõigatakse kevadist aedmustikat\, tehakse viimapuu suvist hooldust ja analüüsitakse aedmustika kevadist lõikust.Alternatiivsed ja perspektiivsed puuvilja-\, marjakultuurid\, sh. astelpaju\, aroonia\, aedmustikas\, viinapuu.\n* Bioloogia\, kasvunõuded\, levik Eestis ja turustusvõimalused\n* Eestis koduaeda ja tootmisse sobivad sordid ning nende omadused. Uute kultuuride ja sortide katsetamise põhimõtted\n* Agrotehnilised võtted lähtuvalt saagi realiseerimisest\n* Rakendusuuringute tulemustest selgunud innovatiivsed lahendused kasvatus- ja töötlemistehnoloogiates\n* Infoallikate kasutamine\nIlutaimed:\n* Ilutaimede rühmad\, nende eristamise tunnused ja tuntumate liikide kasvunõuded ning kasutamine.\n* Agrotehnilised võtted ilutaimede kvaliteedi tagamiseks.\n* Ilutaimede üldseisundi hindamine ja hooldusvõtete rakendamine\n* Ilutaimede kasvatustehnoloogiad ja tootmine lähtuvalt taimerühmast ning keskkonnateadlik tootmine.\n* Ilutaimedega katsete läbiviimise põhitõed ja metoodika\, rahvusvaheliste andmebaaside kasutamine ja innovatiivsed uuringutulemusedÕpetamise metoodika täiendamine – teabe edastamine nõustamisel\n\n\n\n\n\n\n\n\n\n\n\n\n\nNõuded lõpetamiseks\nOsalemine ja aktiivne kaasa töötamine igal õppepäeval ja arvestuse sooritamine.\n\n\nKursus toimub\, kui osalejaid on vähemalt\n10\n\n\nRegistreerumise tähtaeg\n3.10.2019\n\n\nRegistreerumise lisainfo\nNB! Teavitame Teid \nTäienduskoolitus rahastatakse nõustajate koolitustoetusena\, mis määratletakse kui riigiabi osalejatele\, juhul kui koolitusel osaleja ise on ettevõtja või mõne ettevõtja töötaja\, osanik\, aktsionär\, liige või juhtorgani liige. \nTäiendusõppijaks arvamise aluseks on osaleda soovija kirjalikku taasesitamist võimaldavas vormis registreerumine vastavale täiendusõppele.\nTäiendusõppest loobumise korral teavitada kirjalikku taasesitamist võimaldaval viisil täiendusõppe korraldajat hiljemalt kolm tööpäeva enne õppe alguskuupäeva.\nJuhul\, kui täienduskoolitus on täiendusõppijale tasuta ja õppes osaleda soovija ei teavita koolituse korraldajat oma loobumisest õigeaegselt\, on ülikoolil õigus esitada koolitusele registreerunule isikupõhine arve tehtud kulutuste katteks.\n\n\nOsalemissoovi korral on vajalik eelregistreerimine: https://ois.emu.ee/pls/ois/!tere.tulemast?leht=OK.AY.VP&id_ay_programm=7502&id_ay_toimumine=13464&systeemi_seaded=3\,1\,12\,1\,\,\n(kerida lk lõppu\, vajutada registreeru ja täita väljad)Lähem info\nEesti Maaülikooli avatud ülikool\nFr. R. Kreutzwaldi 56 (III korrus\, ruumid 303-306)\, 51006 Tartu\,tel 731 3175\, 534 41844e-post: avayl@emu.ee
URL:https://www.pikk.ee/sundmus/aiandus-mitteaianduskonsulendile-alternatiivsed-kultuurid-2/2019-10-10/
CATEGORIES:Aiandus
END:VEVENT
BEGIN:VEVENT
DTSTART;TZID=Europe/Tallinn:20191010T090000
DTEND;TZID=Europe/Tallinn:20191010T183000
DTSTAMP:20260423T042100
CREATED:20190926T131612Z
LAST-MODIFIED:20190926T131612Z
UID:10009355-1570698000-1570732200@www.pikk.ee
SUMMARY:Taimekaitse täienduskoolitus professionaalsele taimekaitsevahendite kasutajale
DESCRIPTION:Räpina Aianduskool osaleb Eesti maaelu arengukava 2014–2020 meetme 1 “Teadmussiire ja teavitus” tegevuse „Pikaajalised programmid” hankes. Kursused viiakse läbi “Taimekasvatuse Teadmussiirde Programmi” raames ning on osalejale tasuta. \nMaaeluministri 17.06.2015 määruse nr 68 „Teadmussiirde ja teavituse toetus“ § 5 lg 7 kohaselt võivad  TASUTA täienduskoolitusest osa võtta põllumajandustoodete tootmise või töötlemise\, põllumajandustoodetest mittepõllumajandustoodete töötlemise või metsanduses tegutsev füüsilisest isikust ettevõtja ja tema töötaja ning eraõigusliku juriidilise isiku osanik\, aktsionär\, liige\, juhtorgani liige ja tema töötaja.    \nTaimekaitse täienduskoolitus professionaalsele taimekaitsevahendite kasutajale 10. oktoobril kell 9.00 – 18.30 Tartu Põllumeeste Liidus\, Jalaka 48\, Tartu \nKursusele registreerimine: http://www.aianduskool.ee/taimekaitse-taienduskoolitus-profile/ \nNB! \n\nVajalik eelregistreerimine\, sest kohtade arv on piiratud. Registreerimine kursusele lõpetatakse 3 tööpäeva enne koolituse algust või õppegrupi täitumisel.\n\nKursusele registreerimine toimub Räpina Aianduskooli kodulehel www.aianduskool.ee/taienduskoolitus või tel: 796 1549 ja 5346 1209 \nKaasa võtta isikut tõendav dokument ja oma sülearvuti ning arvuti laadimise vajadusel ka pikendusjuhe \n 
URL:https://www.pikk.ee/sundmus/taimekaitse-taienduskoolitus-professionaalsele-taimekaitsevahendite-kasutajale-12/
LOCATION:Tartumaa\, Eesti
CATEGORIES:Taimekaitse
ORGANIZER;CN="R%C3%A4pina Aianduskool":MAILTO:elina.oeselg@aianduskool.ee
GEO:58.4057128;26.801576
END:VEVENT
END:VCALENDAR