BEGIN:VCALENDAR
VERSION:2.0
PRODID:-//PIKK.ee - ECPv6.13.2.1//NONSGML v1.0//EN
CALSCALE:GREGORIAN
METHOD:PUBLISH
X-WR-CALNAME:PIKK.ee
X-ORIGINAL-URL:https://www.pikk.ee
X-WR-CALDESC:Events for PIKK.ee
REFRESH-INTERVAL;VALUE=DURATION:PT1H
X-Robots-Tag:noindex
X-PUBLISHED-TTL:PT1H
BEGIN:VTIMEZONE
TZID:Europe/Tallinn
BEGIN:DAYLIGHT
TZOFFSETFROM:+0200
TZOFFSETTO:+0300
TZNAME:EEST
DTSTART:20190331T010000
END:DAYLIGHT
BEGIN:STANDARD
TZOFFSETFROM:+0300
TZOFFSETTO:+0200
TZNAME:EET
DTSTART:20191027T010000
END:STANDARD
END:VTIMEZONE
BEGIN:VEVENT
DTSTART;VALUE=DATE:20191022
DTEND;VALUE=DATE:20191023
DTSTAMP:20260423T182916
CREATED:20190905T130654Z
LAST-MODIFIED:20191021T140953Z
UID:10009335-1571702400-1571788799@www.pikk.ee
SUMMARY:Konsulentide teabepäev
DESCRIPTION:Põllumajandusuuringute Keskus/ Maaeluvõrgustik korraldab konsulentide teabepäeva 22. oktoobril TARTUS (Raadimõisa hotellis) \nPäevakava  siin: https://maainfo.ee/ \n\n\n\n10.30 – 11.00\nKogunemine\, tervituskohv\n\n\n\n11.00\nTeabepäeva avamine\n\n\n 11.10 – 12.15\nEsineja ja teema muutus: Loomakasvatuse tulevik –  toidutootmise kestlikkus ja kliimamuutused \n\nMarko Kass\, Eesti Maaülikool\n\n\n\n\n12.15 – 13.00\nLoomapidaja kui sööda käitleja – majandustegevusteate esitamise kohustus \n\nEda Ernes\, Maaeluministeerium\n\n\n\n\n 13.00 – 14.00\nLõuna\n\n\n 14.00 – 14.30\nToiduseadus ja selle muudatused \n\nElsa Peipman\, Maaeluministeeriumi toiduohutuse osakond\n\n\n\n\n14.30 – 15.00\nFütobiootikumid alternatiivina antibiootikumidele (www.phytobiotics.com) \n\nDiana Laur\, Fütomeister OÜ\n\n\n\n\n 15.00 – 15.30\nPõllumajandustootjate ja toidutöötlejate teadmussiirde uuringu esmased tulemused\, arutelu \n\nHanna Tamsalu\, Põllumajandusuuringute Keskus
URL:https://www.pikk.ee/sundmus/konsulentide-teabepaev-5/
LOCATION:Tartumaa\, Eesti
GEO:58.4057128;26.801576
END:VEVENT
BEGIN:VEVENT
DTSTART;VALUE=DATE:20191022
DTEND;VALUE=DATE:20191023
DTSTAMP:20260423T182916
CREATED:20191003T062109Z
LAST-MODIFIED:20191009T100039Z
UID:10007460-1571702400-1571788799@www.pikk.ee
SUMMARY:Konverents „Aasta Põllumees 2019“
DESCRIPTION:Konverents „Aasta Põllumees 2019“\nTuleviku põllumajandus ja keskkonnahoid \n22.oktoobril 2019 Riigikogu konverentsikeskus (Lossi plats 1a Tallinn) \n  \nPäevakava \n09.30    Registreerimine ja tervituskohv \n10.30    Sissejuhatus ja tervitus – Roomet Sõrmus\, Eesti Põllumajandus-Kaubanduskoja juhatuse esimees; Andres Eilart\, Maalehe peatoimetaja \n10.40    Tervitus – Tarmo Tamm\, Riigikogu Maaelukomisjoni esimees \nTuleviku põllumajanduspoliitika keskkonnamõõde \n10.45    Eesti rõhuasetused tuleviku põllumajanduspoliitikas – Mart Järvik\, maaeluminister \n11.00    Ühise põllumajanduspoliitika strateegiakava 2020-2027 keskkonnamõõde – Katrin Rannik\, Maaeluministeeriumi maakasutuspoliitika osakonna juhataja \nSäästev taimekaitse tuleviku põllumajanduses \n11.30    Põllumehe vajadused ja väljakutsed taimede kaitsmisel – Olav Kreen\, Rabaveere talu \n11.45    Taimekaitsevahendite turule lubamise poliitika – Klaus Berend\, Euroopa Komisjon\, Tervise peadirektoraat\, Pestitsiidide ja biotsiidide üksuse juht \n12.15    Säästva taimekaitse strateegiad muutuvates oludes – Klaus Kunz\, Kestlikkuse ja ärijuhtimise globaalne juht\, Bayer Crop Science \n12.45    Kohvipaus \nPõllumajandustootmine keskkonna- ja kliimapoliitika raamides \n13.15    Keskkonna- ja kliimapoliitika lähiaja rõhuasetused – Rene Kokk\, keskkonnaminister \n13.40    Eesti põllumehe keskkonnavaldkonna väljakutsed ja kohanemine muutustega – Aasta Põllumees 2018 Jaan Metsamaa\, Metsaküla Piim juhatuse liige \n13.55    Paus \n14.00    „Aasta Põllumees 2019“ nominentide tutvustus – Maalehe ajakirjanik Silja Lättemäe \n14.40    Aasta Põllumees 2019 väljakuulutamine \n15.00    Vastuvõtt Riigikogu kohvikus \n  \nOsalemiseks tuleb ennast registreerida kuni 16. oktoobrini: https://forms.gle/PXaPdwvmdsKd3MSa9 \nKonverentsi korraldamist toetab Euroopa Liit. \n 
URL:https://www.pikk.ee/sundmus/konverents-aasta-pollumees-2019/
LOCATION:Harjumaa\, Harjumaa\, Eesti
CATEGORIES:Finantsmajandus,Loomakasvatus,Maaettevõtlus,Metsandus,Taimekaitse,Taimekasvatus,Turundus,Ühistegevus
END:VEVENT
BEGIN:VEVENT
DTSTART;VALUE=DATE:20191022
DTEND;VALUE=DATE:20191023
DTSTAMP:20260423T182916
CREATED:20191007T124110Z
LAST-MODIFIED:20191021T080758Z
UID:10007472-1571702400-1571788799@www.pikk.ee
SUMMARY:Keskkonnasõbraliku maasikakasvatuse infopäev
DESCRIPTION:Eesti Maaülikool korraldab keskkonnasõbraliku maasikakasvatuse infopäeva. \nAeg: 22. oktoober 2019\, kell 10:00-14:00\nAsukoht: Rapla Kultuurikeskus\, Tallinna mnt. 17\, II korrus (Weinbergi saal) \nInfopäeva viib läbi EMÜ aianduse osakonna dotsent\, aianduskonsulent Ulvi Moor. \nPäevakava\n10.00 – 10.45 Istandiku planeerimine\, maa ettevalmistamine\, sobivad eelkultuurid.\n10.45 – 11.30 Erinevate maasikasortide vastupidavus haigustele ja kahjuritele – keskkonnasõbralikku- ja mahekasvatusse sobivad sordid.\n11.30 – 12.00 Lõunapaus\n12.00 – 12.45 Maasikataimede toiteelementide vajadus erinevates kasvufaasides\, maheväetiste kasutamise võimalused.\n12.45 – 13.30 Haiguste ja kahjurite tõrje keskkonnasõbralikud variandid.\n13.30 – 14.00 Arutelu\, kohapeal tekkinud küsimused. \nInfopäeva jaotusmaterjal:  221019_jaotusmaterjal  \n  \nInfopäeval osalemine on tasuta.\nOsalemiseks on vajalik eelregistreerumine hiljemalt 16. oktoobriks http://bit.ly/raplamaasikas19 \nLisainfo e-postilt: ulvi.moor@emu.ee \nInfopäev toimub “Teadmussiirde pikaajaline programm aianduse tegevusvaldkonnas ” raames\, toetab Euroopa Liit.
URL:https://www.pikk.ee/sundmus/keskkonnasobraliku-maasikakasvatuse-infopaev-raplas/
LOCATION:Raplamaa\, Raplamaa
CATEGORIES:Aiandus
GEO:58.8492625;24.7346569
END:VEVENT
END:VCALENDAR