BEGIN:VCALENDAR
VERSION:2.0
PRODID:-//PIKK.ee - ECPv6.13.2.1//NONSGML v1.0//EN
CALSCALE:GREGORIAN
METHOD:PUBLISH
X-WR-CALNAME:PIKK.ee
X-ORIGINAL-URL:https://www.pikk.ee
X-WR-CALDESC:Events for PIKK.ee
REFRESH-INTERVAL;VALUE=DURATION:PT1H
X-Robots-Tag:noindex
X-PUBLISHED-TTL:PT1H
BEGIN:VTIMEZONE
TZID:Europe/Tallinn
BEGIN:DAYLIGHT
TZOFFSETFROM:+0200
TZOFFSETTO:+0300
TZNAME:EEST
DTSTART:20190331T010000
END:DAYLIGHT
BEGIN:STANDARD
TZOFFSETFROM:+0300
TZOFFSETTO:+0200
TZNAME:EET
DTSTART:20191027T010000
END:STANDARD
END:VTIMEZONE
BEGIN:VEVENT
DTSTART;VALUE=DATE:20191106
DTEND;VALUE=DATE:20191107
DTSTAMP:20260422T220548
CREATED:20191008T055008Z
LAST-MODIFIED:20191008T125032Z
UID:10009360-1572998400-1573084799@www.pikk.ee
SUMMARY:Veebiseminar „Lepingud metsanduses I: „Milline leping metsamajandamisel valida?“
DESCRIPTION:„Lepingud metsanduses I: „Milline leping metsamajandamisel valida?“ \n06.11.2019 kell 13:00-16:15 \nÄripäeva veebiseminar \nVeebiseminaril „Lepingud metsa majandamisel“ käsitletakse metsanduse valdkonna tüüpilisi lepinguid ja nendega seotud probleeme.  Räägitakse järgmistest lepingutest: \n1) kasvava metsa raieõiguse võõrandamise leping; \n2) metsamaterjali võõrandamise leping; \n3) raieteenuse leping; \n4) naaberkinnisasja kasutamise kokkulepe (seoses juurdepääsutee kasutamise ja laoplatsi rajamisega); 5) kasutusvalduse seadmise leping. \nSeminaridel käsitletakse lepingute olemust\, millisel eesmärgil ühte või teist lepingut sõlmida\, samuti vorminõudeid ning olulisemaid tingimusi. Räägitakse ka põhjalikumalt juba sõlmitud lepingute täitmisest\, sellest millised on lepingute täitmise tagamise võimalused ja mida teha siis kui teine pool lepingut rikub. Käsitletakse kõige olulisemaid probleeme ja kohtupraktikat. \nI seminaril „Milline leping metsamajandamisel valida?“ käsitletakse metsa majandamise lepingute kontekstis täpsemalt järgmisi teemasid: \n1)            millisel eesmärgil ühte või teist lepingut metsa majandamisel sõlmida; \n2)            millise eeltöö võiks metsaomanik ära teha enne lepingu sõlmimist; \n3)            metsateatise olemasolu lepingute sõlmimise eeldusena; \n4)            mida tähendab tüüptingimustel sõlmitud leping ja miks erametsa omanikul on vaja seda teada; \n5)            metsaseadusest tulenevad nõuded lepingutele; \n6)            lepingute vormi- ja sisunõuded. \nSeminari sihtgrupp: eelkõige erametsamaa omanikud\, kes soovivad saada rohkem teada metsanduse valdkonna tüüpilistest lepingutest ning nendega seotud probleemidest. \nKoolituse läbimine aitab ennetada metsanduse valdkonnas lepingute sõlmimisega kaasneda võivaid juriidilisi probleeme. Koolituse läbinud metsaomanik oskab hinnata\, millal millist lepingut sõlmida\, oskab märgata sõlmitavates lepingutes tema jaoks olulist ja seeläbi maandada riske\, mis on seotud teise poole võimaliku lepingu rikkumisega. \nVeebiseminari viib läbi advokaadibüroo EnvirLaw partner ja vandeadvokaat Mirjam Vili. \nVeebiseminar on TASUTA. Registreeru veebiseminarile SIIN ja lisainfot leiad SIIT. \nVeebiseminar toimub 6. novembril kell 13:00-16:15 internetis Äripäeva veebiseminaride keskkonnas.  Enne veebiseminari saadetakse registreerunud kasutajatele infomeil lingiga\, mille kaudu pääseb enne seminari algust veebiseminari keskkonda. \nSeminari on võimalik jälgida oma arvutist töökohal\, kodus või mujal Teile sobivas kohas ning selle jälgimiseks on tarvis arvutit\, internetiühendust ning mugavamaks kuulamiseks kõrvaklappe. Veebiseminari kestel on Teil võimalik esitada ka lektorile küsimusi\, mille saate kirjutada vestluse kasti. \nLisainfot veebiseminari kohta saab küsida kirjutades liina.aru@aripaev.ee. \n  \nVeebiseminar toimub MAK 2014-2020 “Teadmussiirde ja teavituse toetuse (meede 1) üleriigilise ulatusega tegevuste” meetme raames\, tegevust toetab Euroopa Liit.
URL:https://www.pikk.ee/sundmus/veebiseminar-lepingud-metsanduses-i-milline-leping-metsamajandamisel-valida/
CATEGORIES:Metsandus
ORGANIZER;CN="AS %C3%84rip%C3%A4ev":MAILTO:liina.aru@aripaev.ee
END:VEVENT
BEGIN:VEVENT
DTSTART;VALUE=DATE:20191106
DTEND;VALUE=DATE:20191107
DTSTAMP:20260422T220548
CREATED:20191023T100250Z
LAST-MODIFIED:20191111T073040Z
UID:10009396-1572998400-1573084799@www.pikk.ee
SUMMARY:Infopäev "Efektiivne taimekasvatus\, kasutades andmehaldusprogrammi eAgronom"
DESCRIPTION:Infopäev \nEfektiivne taimekasvatus\, kasutades andmehaldusprogrammi eAgronom \n\n november 2019 kell 9:00 kuni 13:30 Tartus \n\nEesti Maaülikoolis (Mahekeskuses)\, Eerika tee 2\, Õssu küla\, Tartumaa. \nInfopäeval tutvume taimekasvatustööde andmete haldusprogrammiga „eAgronom“. \nPäevakava\n9:00 – 12:30   eAgronom programmi tutvustus (Ella Käi-Edo\, eAgronom OÜ).\n12:30 – 13:00    Einepaus.\n13:00 – 13:30    Küsimused ja arutelu (Toomas Tõrra\, Eesti Maaülikool). \nKoolitusel osalemiseks palume eelnevalt registreeruda: \nhttps://forms.gle/qmabW7fMVZ8dhEpB8 \nKoolitus on osalejatele tasuta\, koolitus toimub “Teadmussiirde pikaajaline programm taimekasvatuse tegevusvaldkonnas” raames\, toetab Euroopa Maaelu Arengu Põllumajandusfond.
URL:https://www.pikk.ee/sundmus/infopaev-efektiivne-taimekasvatus-kasutades-andmehaldusprogrammi-eagronom/
LOCATION:Tartumaa\, Eesti
CATEGORIES:Taimekasvatus
GEO:58.4057128;26.801576
END:VEVENT
BEGIN:VEVENT
DTSTART;TZID=Europe/Tallinn:20191106T100000
DTEND;TZID=Europe/Tallinn:20191106T133000
DTSTAMP:20260422T220548
CREATED:20191009T104816Z
LAST-MODIFIED:20191113T114501Z
UID:10009372-1573034400-1573047000@www.pikk.ee
SUMMARY:Infopäev  Nõuded loomakasvatuses 06.11.2019 Jänedal
DESCRIPTION:Infopäev toimub 06. novembril 2019 Lääne-Virumaal\, Jäneda küla Tapa vald\, Põllumajandusuuringute Keskuse Jäneda maja sinises saalis. \nRegistreerimine kuni 04.11.2019 SIIN. \nPäevakava:\n10.00-11.30 Uus veeseadus. Nõuded sõnniku hoidmisele\, talvisele söötmisplatsile\, karjatamisele ja põlluraamatu pidamisele\n11.30-12.00 Kohvipaus\n12.00-13.00 Loomade heaolu\, söödaohutuse ja bioturvalisuse nõuded\n13.00-13.30 Nõuetele vastavuse nõuded \nLektor loomakasvatuse konsulent Vaike Nõu. Tel. 5242319\, vaike.nou@mail.ee \nInfopäev on osavõtjatele tasuta. \nEttekanded: \nNõuetele vastavuse nõuded Söödahügieeni nõuded Loomade heaolu nõuded ja bioturvalisus Keskkonnanõuded loomakasvatuses \nKorraldaja Maaelu Edendamise Sihtasutus \nInfopäev toimub MAK 2014-2020 “Teadmussiirde ja teavituse toetuse maakondliku ulatusega tegevuste” meetme raames\, tegevust toetab Euroopa Liit.
URL:https://www.pikk.ee/sundmus/infopaev-nouded-loomakasvatuses-06-11-2019-janedal/
LOCATION:Lääne-Virumaa\, Lääne-Virumaa\, Eesti
CATEGORIES:Keskkond,Loomakasvatus
ORGANIZER;CN="Maaelu Edendamise Sihtasutus":MAILTO:angelika.nops@pikk.ee
END:VEVENT
BEGIN:VEVENT
DTSTART;TZID=Europe/Tallinn:20191106T150000
DTEND;TZID=Europe/Tallinn:20191106T190000
DTSTAMP:20260422T220548
CREATED:20191018T125332Z
LAST-MODIFIED:20191018T125332Z
UID:10009389-1573052400-1573066800@www.pikk.ee
SUMMARY:Infopäev Toetused metsaomanikele
DESCRIPTION:Eesti Kaugmetsaomanike Liit korraldab  6.11.2019 üleriigilise infopäeva: \nToetused metsaomanikele  \nLektorid: metsanduse konsulendid  Piret Arvi\, Aivar Pedaspuu \n  \nAsukoht:  Endla 59\,  Tallinn\,  tasuta parkimine maja taga \n  \nSihtgrupp: erametsaomanikud\, metsaomanikega seotud isikud\, metsahuvilised \n  \nPÄEVAKAVA \n15.00   Kogunemine ja kohv \n15.15-16.30    I osa \n16.30-17.00    Kohvipaus\, kerge eine \n17.00-18.30    II osa \n18.00-19.00    Küsimused \n  \nPalume registreerida   SIIN \n  \nInfopäev on osavõtjatele tasuta. \nLisainfo kaugmets@gmail.com \, tel 5021260 \n  \nInfopäev toimub MAK 2014-2020 “Teadmussiirde ja teavituse toetuse üleriigilise ulatusega tegevuste” meetme raames\, tegevust toetab Euroopa Liit.
URL:https://www.pikk.ee/sundmus/infopaev-toetused-metsaomanikele/
LOCATION:Harjumaa\, Harjumaa\, Eesti
CATEGORIES:Metsandus
END:VEVENT
END:VCALENDAR