BEGIN:VCALENDAR
VERSION:2.0
PRODID:-//PIKK.ee - ECPv6.13.2.1//NONSGML v1.0//EN
CALSCALE:GREGORIAN
METHOD:PUBLISH
X-ORIGINAL-URL:https://www.pikk.ee
X-WR-CALDESC:Events for PIKK.ee
REFRESH-INTERVAL;VALUE=DURATION:PT1H
X-Robots-Tag:noindex
X-PUBLISHED-TTL:PT1H
BEGIN:VTIMEZONE
TZID:Europe/Tallinn
BEGIN:DAYLIGHT
TZOFFSETFROM:+0200
TZOFFSETTO:+0300
TZNAME:EEST
DTSTART:20190331T010000
END:DAYLIGHT
BEGIN:STANDARD
TZOFFSETFROM:+0300
TZOFFSETTO:+0200
TZNAME:EET
DTSTART:20191027T010000
END:STANDARD
END:VTIMEZONE
BEGIN:VEVENT
DTSTART;VALUE=DATE:20191115
DTEND;VALUE=DATE:20191116
DTSTAMP:20260423T045003
CREATED:20191025T105203Z
LAST-MODIFIED:20191111T054239Z
UID:10009401-1573776000-1573862399@www.pikk.ee
SUMMARY:Keskonnasõbraliku aianduse toetus
DESCRIPTION:Tartumaa Põllumeeste Liit korraldab 10.00-15.00 tasuta infopäevad Keskkonnasõbraliku aianduse toetuse tutvustamiseks: \n\nnovembril Tartumaa Põllumeeste Liidus Jalaka 48\, registreerimine: https://forms.gle/YbdFpMQXQf4pCgsM8.\n\n14. novembril Võrumaal Navi seltsimajas. \n14. novembri infopäev Navil jääb ära\, kuna registreerunud vaid kolm inimest. Soovijatel palun tulla Tartusse 11. novembril. \n15. novembril Pärnus Nooruse Majas Roheline 1\, registreerimine: https://forms.gle/bSvHjTzQLDGVd2P37 \nPalume kindlasti registreerida\, et saaksime tellida kohvipausi ja lõunasöögi. \nLektoriteks on EMÜ Aianduse õppetooli lektor ja aianduse konsulent Priit Põldma ning aianduse konsulent Margus Kopp. \nToetust antakse keskkonnasõbraliku majandamise kohustusega liitunud kasvatajale\, kes kasvatab toetusaluseid taimi vähemalt 0\,3 ha: köögiviljad\, ravimtaimed ja maitsetaimed (344 EUR/ha)\, maasikad (248 EUR/ha)\, puuviljad ja marjad (160 EUR/ha). KSA toetuse määrus: https://www.riigiteataja.ee/akt/102052015003?leiaKehtiv. \nTeemad \n\nÜlevaade toetuse taotlemise nõuetest.\nBioloogilist mitmekesisust toetavad elemendid\, nende valmistamine ja paigaldamine.\nTaimehaigused ja -kahjurid\, nende seire ja tõrje; keskkonnasõbralikud võtted köögivilja- ning marjakasvatuses.\nKasvuaasta 2019: olulisemad kahjustajad köögivilja- ja marjakultuuridel ning nende tõrje võimalused.\n\nSelle aasta keeruline kasvuperiood mõjutas paljude aiakultuuride kasvu ning saagikust. Paljudel tootjatel oli probleeme umbrohu ja kahjurite tõrje efektiivsusega. Seetõttu räägitakse pikemalt umbrohu- ja kahjuritõrje alternatiivsetest võimalustest. \nLisainfo 508 7320 \nSlaidid: \nPoldmaa \nMargus_Kopp
URL:https://www.pikk.ee/sundmus/keskonnasobraliku-aianduse-toetus/
LOCATION:Pärnumaa\, Pärnumaa\, Eesti
CATEGORIES:Aiandus
END:VEVENT
BEGIN:VEVENT
DTSTART;VALUE=DATE:20191115
DTEND;VALUE=DATE:20191116
DTSTAMP:20260423T045003
CREATED:20190923T064937Z
LAST-MODIFIED:20190923T081838Z
UID:10009349-1573808400-1573834500@www.pikk.ee
SUMMARY:Põllumajandusettevõtte juhtimine konsulendile: äri- ja turundusstrateegiad
DESCRIPTION:Kolmepäevame koolitus toimub 18.oktoober (R) ja 14.-15. november (N / R ) 2019.\nKoolituse toimumise kohaks on Põltsamaa\, Kesk 4\, Carl Schmidt’i Maja. \nTäpsem info ja registreerumine: https://ois.emu.ee/pls/ois/!tere.tulemast?leht=OK.AY.VP&id_ay_programm=10462&id_ay_toimumine=13986&systeemi_seaded=3\,1\,12\,1\, \nKoolituse sihtrühma kuuluvad  isikud\, kes vastavad vähemalt ühele järgmistest nõuetest:\n1) isikule on kutseseaduses sätestatud alusel ja korras antud konsulendi kutse ja tal on kehtiv kutsetunnistus;\n2) isikule kutseseaduse alusel ja korras antud konsulendi kutsetunnistuse kehtivuse lõppemisest ei ole möödunud rohkem kui 12 kuud;\n3) isik on Euroopa Liidu ühise põllumajanduspoliitika rakendamise seaduse § 71 lõikes 1 sätestatud valikumenetluse kohaselt valitud nõustamisteenuse osutajaga lepingulises suhtes ning tegeleb põllu- või maamajandusliku nõustamisteenuse osutamisega. \nKoolitust finantseeritakse Eesti maaelu arengukava (MAK) 2014-2020 vahenditest ning see on sihtrühma kuuluvatele isikutele tasuta. \nNB! Teavitame! Täienduskoolitus rahastatakse nõustajate koolitustoetusena\, mis määratletakse kui RIIGIABI osalejatele\, juhul kui koolitusel osaleja ise on ettevõtja või mõne ettevõtja töötaja\, osanik\, aktsionär\, liige või juhtorgani liige. \n. \nKoolituse korraldaja:\nEesti Maaülikooli majandus- ja sotsiaalinstituut\nFr. R. Kreutzwaldi 1a\n51006 Tartu\,\ntel 7313061\ne-post: jaana.orin@emu.ee\nhttp://ms.emu.ee/et/avaleht/
URL:https://www.pikk.ee/sundmus/pollumajandussaaduste-tootlemine-konsulendile-lihatoodete-vaiketootlemine-koopia/2019-11-15/
LOCATION:Jõgevamaa\, Jõgevamaa\, Eesti
CATEGORIES:Maaettevõtlus,Turundus
END:VEVENT
BEGIN:VEVENT
DTSTART;TZID=Europe/Tallinn:20191115T140000
DTEND;TZID=Europe/Tallinn:20191115T170000
DTSTAMP:20260423T045003
CREATED:20191105T083348Z
LAST-MODIFIED:20191107T132042Z
UID:10007515-1573826400-1573837200@www.pikk.ee
SUMMARY:Ettevõtete külastused Tartumaal (Viinamärdi Talu OÜ ja Green Bite OÜ)
DESCRIPTION:GRUPP ON TÄIS! Liikumine oma transpordiga. \nPäevakava 15. november 2019 \n14.00-15.30 külastatakse Viinamärdi Talu OÜ (Märdi\, Luke küla\, Nõo vald\, Tartumaa\, 61614) \nToimub tutvumine ettevõtte tegevusega (loomad ja meierei) ning toodete degusteerimine. \nEttevõtte tegevust tutvustavad perenaine Annemari Polikarpus ja peremees Denis Pretto www.viinamarditalu.ee \n  \n16.00-17.00 külastatakse Green Bite OÜ-d (Palsami 6\, Tartu\, 50411) \nKülastuse käigus näeme\, kuidas kasvatatakse putukaid söögiks\, saame neid maitsta ja teada\, milliseid tooteid putukatest valmistatakse. \nEttevõtte tegevust tutvustab Marge Kõllamägi www.greenbite.ee \n  \nCa kell 17.00 Kokkuvõtted ja lõpetamine \nGruppi saadab Angelika Nöps \nSihtgrupp: Ettevõtte külastuse puhul toetatakse põllumajandustoodete tootmise\, töötlemise või turustamisega\, põllumajandusmaa hooldamisega\, põllumajandustoodetest mittepõllumajandustoodete töötlemisega\, sealhulgas toidu valmistamise või töötlemisega\, või metsa majandamisega seotud või nimetatud tegevusega tegelevat füüsilisest isikust ettevõtjat ja tema töötajat\, eraõigusliku juriidilise isiku osanikku\, aktsionäri\, liiget\, juhtorgani liiget ja tema töötajat\, metsa majandamisega tegelevat füüsilist isikut ja toidu valmistamise või töötlemisega tegelevat avalik-õigusliku juriidilise isiku juhtorgani liiget või töötajat. \nEttevõtete külastused toimuvad MAK 2014-2020 meetme „Teadmussiirde pikaajaline programm loomakasvatuse tegevusvaldkonnas II “ raames\, rahastamisallikas: riigieelarve\, Euroopa Maaelu Põllumajandusfond (EAFRD).
URL:https://www.pikk.ee/sundmus/ettevotete-kulastused-tartumaal-viinamardi-talu-ou-ja-green-bite-ou/
LOCATION:Tartumaa\, Eesti
ORGANIZER;CN="Maaelu Edendamise Sihtasutus":MAILTO:angelika.nops@pikk.ee
GEO:58.4057128;26.801576
END:VEVENT
END:VCALENDAR