BEGIN:VCALENDAR
VERSION:2.0
PRODID:-//PIKK.ee - ECPv6.13.2.1//NONSGML v1.0//EN
CALSCALE:GREGORIAN
METHOD:PUBLISH
X-ORIGINAL-URL:https://www.pikk.ee
X-WR-CALDESC:Events for PIKK.ee
REFRESH-INTERVAL;VALUE=DURATION:PT1H
X-Robots-Tag:noindex
X-PUBLISHED-TTL:PT1H
BEGIN:VTIMEZONE
TZID:Europe/Tallinn
BEGIN:DAYLIGHT
TZOFFSETFROM:+0200
TZOFFSETTO:+0300
TZNAME:EEST
DTSTART:20190331T010000
END:DAYLIGHT
BEGIN:STANDARD
TZOFFSETFROM:+0300
TZOFFSETTO:+0200
TZNAME:EET
DTSTART:20191027T010000
END:STANDARD
END:VTIMEZONE
BEGIN:VEVENT
DTSTART;VALUE=DATE:20191127
DTEND;VALUE=DATE:20191128
DTSTAMP:20260425T191716
CREATED:20191023T111932Z
LAST-MODIFIED:20191216T125301Z
UID:10009397-1574812800-1574899199@www.pikk.ee
SUMMARY:TEADUSLIK – PRAKTILINE KONVERENTS „Põllumajandus muutuvas kliimas”
DESCRIPTION:Päevakava: \n10.00 -10.30 Registreerumine\, tervituskohv \n10.30  Avasõnad\,  Mait Klaassen\, Eesti Maaülikooli rektor \n10.40  Põllumajandus globaalselt muutuvas kliimas – Ülo Niinemets\, Eesti Maaülikool \n11.10 Kliimakohanemine Põhjamaade põllumajanduses (inglise keeles) – Janina Käyhkö\, Helsingi Ülikool\, Soome \n11.40  Baltimaade agrokliima eripärad (inglise keeles) – Algimantas Paulauskas\, Vytautas Magnus Ülikool\, Leedu \n12.15  Lõuna  \n13.00  Loomakasvatus ja kliimamuutused – Ragnar Leming\, Eesti Maaülikool \n13.30  Kliima mõju putukate ökoloogiale (inglise keeles) – Indrikis Krams\, Daugavpilsi Ülikool\, Läti \n14.00  Kohvipaus \n14.15  Tark taimekaitse – Sigmar Suu ja Evelin Hillep\, Maaeluministeerium \n14.45  Kindlustusühistu kui uus võimalus – Tarmo Lääne\, Kindlustusühistu asutamise eestvedaja \n15.15  Kliima mõju põllumehele ja tootmises rakendatavad kohanemismeetmed – Jaak ja Roosi Soosaar\, MTÜ Põllukultuuride Klaster \n15.45-16.15 Arutelu\,  kokkuvõte  \n  \nÜritus on tasuta. Registreerimine Eesti Maaülikooli kodulehel: http://eestitaimekaitse.emu.ee/et/uudised-ja-sundmused/ \nToetajad: \nKonverentsi rahastavad \n“Teadmussiirde pikaajaline programm taimekasvatuse tegevusvaldkonnas”   \nLIFE programm” projekt 8V160156VLVS
URL:https://www.pikk.ee/sundmus/teaduslik-praktiline-konverents-pollumajandus-muutuvas-kliimas/
LOCATION:Tartumaa\, Eesti
CATEGORIES:Taimekaitse,Taimekasvatus
GEO:58.4057128;26.801576
END:VEVENT
BEGIN:VEVENT
DTSTART;VALUE=DATE:20191127
DTEND;VALUE=DATE:20191128
DTSTAMP:20260425T191716
CREATED:20191108T071033Z
LAST-MODIFIED:20191108T071614Z
UID:10009419-1574812800-1574899199@www.pikk.ee
SUMMARY:Sügiskonverents "“KASVATAME ROHKEM MAHEDAT. PÕLLUMEES KOHTUB TÖÖTLEJAGA”
DESCRIPTION:Konverentsi eesmärgiks on mahemajanduse elavdamine ja kohaliku bioressursi kasutamise hoogustamine. Lahenduste otsimine tarneahela edukaks toimimiseks. \nAEG: 27. november 2019 kl 10.00-15.00\nKOHT: Tehnopol\, Saturni saal\, Teaduspargi 6/1\, Tallinn\nSIHTGRUPP: praegused ja tulevased mahetooraine tootjad/pakkujad\, väärindajad (sh toitlustajad)\, mahesertifikaadiga hulgilaod\, toiduvõrgustikud\, ühistud \nKonverentsi modereerib Organic Estonia tegevjuht Krista Kulderknup \nProgramm:\n10.00-10.15  – Tervitussõnad “Miks meil on vaja mahedat?” – Krista Kulderknup\, Organic Estonia tegevjuht \n10.15-10.35  – “Kuidas riik saab luua eeldusi mahetoodangu kasvatamiseks?” Mahekonsulendid ja üleminekutoetused – Maaeluministeeriumi esindaja \n10.35-11.30  – Töötlejate vestlusring – “Kus king pigistab? Mis takistab tootmismahtude kasvu?” Vestlusringi juhib Krista Kulderknup \n11.30-11.45 – Kohvipaus\n11.45-12.20  – “Ühistegevusest ja ühistutest Eestis: võlud ja valud”. Mahetoodangu mahu kasvu eelduseks on ühistud – esineja kokkuleppimisel \n12.20-12.40  – Ülevaade Eestis toimetavatest toiduvõrgustikest ja nende roll\, Maaeluvõrgustik \n12.40-13.00  – “Hulgiladu kui koostööpartner põllumehe ja töötleja vahel” – esineja kokkuleppimisel \n13.00-13.30  – Lõuna\n13.30-14.45  – Põllumajandustootjate ja tooraine pakkujate vestlusring – esinejad kokkuleppimisel \n14.45-15.00  – Konverentsi kokkuvõte\, networking \nLisainfo ja küsimused: Mare Timian\, Organic Estonia kommunikatsioonijuht mare@organicestonia.ee \nKonverentsil osalemine on TASUTA\, vajalik on eelnev registreerumine hiljemalt reedeks 22. novembriks! Kohtade arv on piiratud\, registreerimine lõpeb kohtade täitumisel. \nRegistreerumine https://www.organicestonia.ee/organic-estonia-sugiskonverentsi-fookuses-on-mahetooraine/ \nKonverentsi eesmärgiks on mahemajanduse elavdamine ja kohaliku bioressursi kasutamise hoogustamine. Lahenduste otsimine tarneahela edukaks toimimiseks. \n 
URL:https://www.pikk.ee/sundmus/sugiskonverents-kasvatame-rohkem-mahedat-pollumees-kohtub-tootlejaga/
LOCATION:Harjumaa\, Harjumaa\, Eesti
END:VEVENT
BEGIN:VEVENT
DTSTART;VALUE=DATE:20191127
DTEND;VALUE=DATE:20191128
DTSTAMP:20260425T191716
CREATED:20191111T121415Z
LAST-MODIFIED:20191126T104247Z
UID:10009424-1574812800-1574899199@www.pikk.ee
SUMMARY:Infopäev põllukultuuride seemne tootjatele ja turustajate
DESCRIPTION:Tartumaa Põllumeeste Liit korraldab 27. novembril algusega 10.00-14.00 Tartus Jalaka 48 tasuta infopäeva \npõllukultuuride seemne tootjatele ja turustajate  \nInfopäeva eesmärgiks on tutvustada taimetervise määrusega 2016/2031 ja kontrollimäärusega 2017/625 kaasnevaid nõudeid ja muudatusi taimekaitseseaduses ja taimede paljundamise ja sordikaitse seaduses. Lisaks tutvustatakse BREXITi mõju taimetervise ja taimse paljundusmaterjali valdkonnas. \nRegistreerimine: https://forms.gle/nUYEPVbTRwKNsiBb8 \nPÄEVAKAVA \n10.00 – 10.15 Kogunemine\, tervitussõnad \n10.15 – 11.00 Muudatused seadusandluses seoses taimetervise uue määrusega. Olga Lavrentjeva\, Maaeluministeerium \n\nSeemnetootjate ja -turustajate kohustused\, mis tulenevad taimetervisemäärusest\, kontrollimäärusest\, korrakaitseseadusest\nPõllumajandusameti kohustused\, mis tulenevad taimetervisemäärusest\, kontrollmäärusest\, korrakaitseseadusest\n\n10.45 – 11.15 Taimekahjustajate kontrollimine. Kristiina Digryte\, Maaeluministeerium \n11.15 – 12.15 Taimepass ja taimepassi väljastamise tegevusluba. Maria Brizmer\, Põllumajandusamet  \nJUHEND TOOTJALE JA TURUSTAJALE „TAIMEPASSI VORMI ja SISU NÕUDED“ \nJuhend kättesaadav veebis: https://www.pma.agri.ee/index.php?id=104&sub=133&sub2=217 \n12.15 – 13.00 Kohvipaus \n13.00 –  13.30 Seemnete sertifitseerimise ülevaade. Piia Puusepp\, Põllumajandusamet  \n13.30 –  14.00 BREXITi mõju taimetervise vaatest Olga Lavrentjeva\, Maaeluministeerium \n                BREXITi mõju põllukultuuride sortide turustamisele. Piia Puusepp\, Põllumajandusamet \n14:00 Kokkuvõte \n  \nLisainfo: Jaan Sõrra\, 508 7320. \nSert_ylevaade_Puusepp Taimekahjustajad_Digryte Taimepass_Brizmer Brexit_Lavrentjeva Brexiti_Puusepp Muudatused_seadusandluses_Lavrentjeva
URL:https://www.pikk.ee/sundmus/infopaev-pollukultuuride-seemne-tootjatele-ja-turustajate/
LOCATION:Tartumaa\, Eesti
CATEGORIES:Taimekasvatus
GEO:58.4057128;26.801576
END:VEVENT
BEGIN:VEVENT
DTSTART;VALUE=DATE:20191127
DTEND;VALUE=DATE:20191128
DTSTAMP:20260425T191716
CREATED:20191111T202139Z
LAST-MODIFIED:20191125T101000Z
UID:10009429-1574812800-1574899199@www.pikk.ee
SUMMARY:Infopäev „Nutikad lahendused marjakasvatuses (maasikas\, vaarikas\, mustikas\, sõstar)
DESCRIPTION:Tartumaa põllumeeste liit korraldab 10.00-14.00 tasuta infopäevad „Nutikad lahendused marjakasvatuses (maasikas\, vaarikas\, mustikas\, sõstar) \n\nnovembril Sakus PMK saalis Teaduse 4/5\, registreerimine: https://forms.gle/1wZVFukw1BztRxnU8\nnovembril Jõgeva kultuurikeskuse keldrisaalis\, registreerimine: https://forms.gle/sPLUjY4CTA6cyP1x9\nnovember Põlvas kohviku Aal väikeses saalis\, registreerimine: https://forms.gle/aU8ZncPQLe6MwdxQ9\n\n Teemad \nNõuded eri viljelusviisidele\, sh maa ettevalmistamine\, väetamine\, istutamine\, umbrohutõrje ja taimekaitse. \nKultuurmustikas – uued sordid\, istandiku rajamine\, tolmeldamisvõimalused\, öökülma tõrje\, uuemad suunad ja uuenduslikud võimalused öökülma tõrjeks\, innovatsioon mustikakasvatuses. \nMullaproovi tulemuste analüüs\, mullaviljakuse tõestamine agrotehniliste võtetega sõstrakasvatuses. Hooldus ja saagikoristuse masinad\, toetused aiandusele \nLektor on aianduskonsulent Margus Kopp. \nLisainfo: Jaan Sõrra\, 508 7320. \nSostrakasvatus
URL:https://www.pikk.ee/sundmus/infopaev-nutikad-lahendused-marjakasvatuses-maasikas-vaarikas-mustikas-sostar-3/
LOCATION:Põlvamaa\, Põlvamaa\, Eesti
CATEGORIES:Aiandus
GEO:58.1160622;27.2066394
END:VEVENT
BEGIN:VEVENT
DTSTART;VALUE=DATE:20191127
DTEND;VALUE=DATE:20191128
DTSTAMP:20260425T191716
CREATED:20191114T190423Z
LAST-MODIFIED:20191128T065804Z
UID:10007535-1574812800-1574899199@www.pikk.ee
SUMMARY:Infopäev: Mahepõllumajanduslik lambakasvatus Saaremaal ja Hiiumaal
DESCRIPTION:Eesti Mahepõllumajanduse Sihtasutus korraldab infopäevad „Mahepõllumajanduslik lambakasvatus“ Saaremaal ja Hiiumaal \n27. novembril 2019 algusega 12.00-17.00  Saaremaal\, Kuressaares\, Tallinna mnt 58\, Saarte Koostöökogu seminariruumis\n28. novembril 2019 algusega 9:00-14:00 Hiiumaal\, Suuremõisa külas\, Lossi 1\, Suuremõisa lossi seminariruumis \nKavas:\nHaiguste ennetamine ja ravimite kasutamine mahelambakasvatuses – Katrin Tähepõld\nErinevad söötmis- ja pidamisviisid ekstensiivses lambakasvatuses – Liilia Tali \nKatrin Tähepõld on loomaarst ning lamba- ja kitsekasvatuse konsulent\nLiilia Tali on lambakasvataja ning lamba- ja kitsekasvatuse konsulent \nInfopäevadel osalemine on tasuta. Osalemiseks on kindlasti vajalik eelregistreerimine siin (eelistatult): \nSaaremaa:  https://forms.gle/ojTcgWNPNxc6YpUKA\nHiiumaa:  https://forms.gle/hmQkC6BMVzjuBdBV9 \nvõi telefonil 5225936. Kohtade arv on piiratud\, Registreerimine lõpetatakse kohtade täitumisel. \nInfopäev läheb arvesse mahepõllumajandusliku tootmise toetuse saamise kohustusliku koolitusena (6 tundi).
URL:https://www.pikk.ee/sundmus/infopaev-mahepollumajanduslik-lambakasvatus-saaremaal-2/2019-11-27/
LOCATION:Hiiumaa\, Hiiumaa\, Eesti
CATEGORIES:Loomakasvatus
END:VEVENT
END:VCALENDAR