BEGIN:VCALENDAR
VERSION:2.0
PRODID:-//PIKK.ee - ECPv6.13.2.1//NONSGML v1.0//EN
CALSCALE:GREGORIAN
METHOD:PUBLISH
X-ORIGINAL-URL:https://www.pikk.ee
X-WR-CALDESC:Events for PIKK.ee
REFRESH-INTERVAL;VALUE=DURATION:PT1H
X-Robots-Tag:noindex
X-PUBLISHED-TTL:PT1H
BEGIN:VTIMEZONE
TZID:Europe/Tallinn
BEGIN:DAYLIGHT
TZOFFSETFROM:+0200
TZOFFSETTO:+0300
TZNAME:EEST
DTSTART:20200329T010000
END:DAYLIGHT
BEGIN:STANDARD
TZOFFSETFROM:+0300
TZOFFSETTO:+0200
TZNAME:EET
DTSTART:20201025T010000
END:STANDARD
END:VTIMEZONE
BEGIN:VEVENT
DTSTART;VALUE=DATE:20200128
DTEND;VALUE=DATE:20200131
DTSTAMP:20260424T133515
CREATED:20200110T052411Z
LAST-MODIFIED:20200110T052411Z
UID:10009481-1580169600-1580428799@www.pikk.ee
SUMMARY:Taimekaitse aluskoolitus professionaalsele kasutajale
DESCRIPTION:Päevakava \n  \nI PÄEV  \n9.45-10.00 Koolituse alustamine\, dokumentide täitmine\n10.00-11.30 Taimekaitseseadme tüübid; ohutusnõuded taimekaitseseadme kasutamisel\n11.30-11.45  KOHVIPAUS\n11.45-13.15 Ohutusnõuded taimekaitseseadme kasutamisel;  taimekaitseseadme ettevalmistamine tööks; taimekaitseseadme tehniline kontroll (PRAKTILINE töö koolikeskkonnas)\n13.15-14.00 LÕUNA\n14.00-15.30  Sissejuhatus. Integreeritud taimekaitse põhimõtted; turule lubatud taimekaitsevahendite liigitus\n15.30-15.45 KOHVIPAUS\n15.45-18.00  Piraattaimekaitsevahendid;  tööohutus \nII PÄEV  \n9.00-10.30  Tööohutus; ohutusnõuded taimekaitsevahendite  kasutamisel\n10.30-10.45 KOHVIPAUS\n10.45-13.15 Kultuurtaimede kahjustajad\, umbrohud\, nende tõrjevõimalused\n12.15-13.00 LÕUNA\n13.00- 14.30 Taimekaitsevahendi pakendi märgistuse ja ohutuskaardi lugemine;  taimekaitsevahendi   pakendi käitlemine (PRAKTILINE töö koolikeskkonnas)\n14.30-14.45 KOHVIPAUS\n14.45-17.15 Taimekaitsevahendi pakendi käitlemine; seadusandlus\, isikukaitsevahendid\, (PRAKTILINE töö koolikeskkonnas) \nIII PÄEV  \n9.00-10.30 Ülevaade turule lubatud taimekaitsevahenditest\, nende liigitamine (PRAKTILINE töö koolikeskkonnas)\n10.30-10.45  KOHVIPAUS\n10.45-12.15 Taimekaitsevahendi töölahuse valmistamine\, kulunormi arvutamine (PRAKTILINE töö koolikeskkonnas)\n12.15-13.00 LÕUNA\n13.00-16.00 EKSAM – PMA piirkonna inspektor ja Kaja Marrandi \nLektorid: Kaja Marrandi ja Marek Kõbu \nRegistreerimine koolitustele: http://jkhk.ee/pages/taeienduskoolitused/tasuta-pria-kursused.php \n  \nRuth Türk\nJKHK koolitusjuht\nruth.turk@jkhk.ee\n5329 2188 \nKoolitused toimuvad “Teadmussiirde pikaajaline programm taimekasvatuse tegevusvaldkonnas” raames\, toetab Euroopa Liit.
URL:https://www.pikk.ee/sundmus/taimekaitse-aluskoolitus-professionaalsele-kasutajale-28/
CATEGORIES:Taimekaitse
END:VEVENT
BEGIN:VEVENT
DTSTART;VALUE=DATE:20200129
DTEND;VALUE=DATE:20200131
DTSTAMP:20260424T133515
CREATED:20191211T110817Z
LAST-MODIFIED:20200106T112358Z
UID:10009463-1580256000-1580428799@www.pikk.ee
SUMMARY:Põllumajandusloomade tapatoimingute pädevustaseme koolitus
DESCRIPTION:Toimumisaeg: 29.01.2020 – 30.01.2020 \nMaht: 16 akadeemilist tundi (8 tundi auditoorset\, 8 tundi praktikat) \nToimumiskoht:\n– teooria (29.1.) toimub Tartus Eesti Maaülikoolis Kreutzwaldi 56/1 auditooriumis A 303 (III korrusel)\n– praktika (30.1.) toimub Kõldu Lihakarn OÜ-s (Lihakarni\, Kõldu küla Haljala vald Lääne-Virumaa) \nKoolituse ajakava:\n9.30 – 11.00 õppetöö\n11.00 – 11.15 kohvipaus\n11.15 – 12.45 õppetöö\n12.45 – 13.15 kohvipaus\n13.15 – 14.45 õppetöö\n14.45 – 14.55 paus\n14.55 – 16.25 õppetöö \nLektorid:\nRiina Soidla\, MSc\,  Eesti Maaülikooli Veterinaarmeditsiini ja loomakasvatusinstituudi toiduteaduse ja toiduainete tehnoloogia lektor\nDea Anton\, Eesti Maaülikooli Veterinaarmeditsiini ja loomakasvatusinstituudi toiduhügieeni ja rahvatervise õppetooli nooremteadur \nKoolitus toimub programmi “Teadmussiirde pikaajaline programm loomakasvatuse valdkonnas” raames ja on sihtrühma kuulujale tasuta. \nSihtrühm:\nPõllumajandustoodete tootmise\, töötlemise või turustamisega\, põllumajandusmaa hooldamisega\, põllumajandustoodetest mittepõllumajandustoodete töötlemisega\, sealhulgas toidu valmistamise või töötlemisega\, või metsa majandamisega seotud või nimetatud tegevusega tegelev füüsilisest isikust ettevõtja ja tema töötaja\, eraõigusliku juriidilise isiku osanik\, aktsionär\, liige\, juhtorgani liige ja tema töötaja\, metsa majandamisega tegelev füüsiline isik ja toidu valmistamise või töötlemisega tegelev avalik-õiguslik juriidilise isiku juhtorgani liige või töötaja.\nLisaks valdkonna teenindamisega tegelejad (nt loomasööda\, veterinaarravimite müüjad)\, oma ettevõtte tegevusvaldkonda laiendada soovijad\, põllumajanduslike esindus- ja erialaorganisatsioonide juhatuse liikmed ja töötajad. \nSisu:\n– Ülevaade Nõukogu Määrusest (EÜ) nr 1099/2009\, 24. september 2009\, loomade kaitse kohta surmamisel\n– Tapaloomade anatoomia\, füsioloogia\n– Tapaloomade käitumine\n– Tapaloomade stress\, loomade kannatused\, teadvuselolek ja tundlikkus\n– Nõuded loomade kohtlemisel tapamajas\n– Loomade liikumise mehhaanilise piiramise vahendid\n– Elusloomadele köidikahelate asetamine või nende üleriputamine\n– Uimastamine\, uimastamise tõhususe hindamine\n– Uimastamise ja/või surmamise varumeetodid\n– Uimastamisseadmete üldhooldus ja puhastamine\n– Tapaloomade veretustamine\, elusoleku tunnuste puudumise hindamine\n– Tapahügieen\n– Veretustamisnugade nõuetekohane kasutamine ja hooldus\n– Õppefilm: uimastamine\, veretustamine \nPraktiline õpe: loomade käitlemise ja nende liikumise piiramise praktilised aspektid\, uimastamine\, uimastamise tõhususe hindamine\, veretustamine.\nPädevustaseme eksam. \nKoolituse eduka läbimise eelduseks on aktiivne kaasa töötamine mõlemal koolituspäeval ja testi positiivne sooritamine. \nOsalemissoovi korral on vajalik eelnevalt registreeruda\, seda saate teha SIIT \nKoolituse edukalt lõpetanutele väljastatakse digitunnistus. \nLähem info koolituse korraldajalt:\nEesti Maaülikooli avatud ülikool\nFr. R. Kreutzwaldi 56 (III korrus\, ruumid 303-306)\, 51014 Tartu\,\ntel 731 3174\, 731 3175\, 731 3275\, 534 41844\ne-post: avayl@emu.ee\nhttp://avatudylikool.emu.ee/
URL:https://www.pikk.ee/sundmus/pollumajandusloomade-tapatoimingute-padevustaseme-koolitus-3/
LOCATION:Tartumaa\, Eesti
CATEGORIES:Loomakasvatus
GEO:58.4057128;26.801576
END:VEVENT
BEGIN:VEVENT
DTSTART;VALUE=DATE:20200130
DTEND;VALUE=DATE:20200201
DTSTAMP:20260424T133515
CREATED:20200107T162801Z
LAST-MODIFIED:20200117T131603Z
UID:10009476-1580342400-1580515199@www.pikk.ee
SUMMARY:TASUTA ÜHISTEGEVUSE KOOLITUS: “KOOSTÖÖ ARENDAMISE MEETODID”
DESCRIPTION:GRUPP ON TÄITUNUD. \nEesti Maaülikool\, Fr. R. Kreutzwaldi 1A\, Tartu 51014\, ruum 0015. \n\nEesti Maaülikool korraldab “Teadmussiirde pikaajaline programm ühistegevuse tegevusvaldkonnas” raames tasuta koolituse teemal: “Koostöö arendamise meetodid”. Tegemist on pikaajalise programmiga ja selle raames toimub mitmeid infopäevi\, täienduskoolitusi\, õpiringe\, konverentse ning ettevõtete külastusi nii Eestis kui ka välisriikides. \n30.01.-31.01.2020 täienduskoolitusest võib osa võtta põllumajandustoodete tootmise\, töötlemise või turustamisega\, põllumajandusmaa hooldamisega\, põllumajandustoodetest mittepõllumajandustoodete töötlemisega\, sealhulgas toidu valmistamise või töötlemisega\, või metsa majandamisega seotud või nimetatud tegevusega tegelev füüsilisest isikust ettevõtja ja tema töötaja\, eraõigusliku juriidilise isiku osanik\, aktsionär\, liige\, juhtorgani liige ja tema töötaja\, metsa majandamisega tegelev füüsiline isik ja toidu valmistamise või töötlemisega tegelev avalik-õiguslik juriidilise isiku juhtorgani liige või töötaja. \nKoolituse tulemusel suurenevad õppija teadmised koostöö arendamise meetoditest. \n30.01.2020 koolituse ajakava: \n10:00 – 10:15 Registreerimine ja tervituskohvi \n10:15 – 12:30 Sissejuhatus. Koostöö olemus. \n12:30 – 13:30 Lõunapaus \n13:30 – 15:45 Inimesed ja koostöö. Suhtlemistehnikad koostöös. Praktilised ülesanded. \n  \n31.01.2020 koolituse ajakava: \n10:00 – 10:15 Registreerimine ja tervituskohvi \n10:15 – 12:30 Päeva sissejuhatus. Tagasiside koostöö arendamisel. Motiveerivad faktorid. Usalduskultuur. \n12:30 – 13:30 Lõunapaus \n13:30 – 15:45 Vastupanu. Konfliktid ja koostöö. Praktilised ülesanded. Kokkuvõtted ja lõpetamine. \n15:45 – 16:00 Tagasiside \nKoolitajaks on Kristel Jalak\, Kera OÜ täiskasvanute koolitaja ja suhtlemistreener. \nÕppekavaga on võimalik tutvuda järgmisel lingil: õppekava \nGRUPP ON TÄITUNUD. Lisainfo saamiseks palume saata e-mail programmi assistendile: liis.volli[A]emu.ee. \nRegistreerimisel esitatud isikuandmed edastatakse Põllumajanduse Registrite ja Informatsiooni Ametile\, kuna ühistegevuse teadmussiirde pikaajalise programmi tegevusi toetatakse Euroopa Maaelu Arengu Põllumajandusfondist. \n  \nNB! Eelregistreerimine on tingimata vajalik! \nLisainformatsioon ja küsimused: liis.volli[A]emu.ee või tel: +372 51 92 9840 (programmi assistent Liis Võlli). \nyhistegevus.emu.ee \nfacebook.com/yhistegevus \ninstagram.com/yhistegevus \nKoolituse korraldamist toetab Euroopa Maaelu Arengu Põllumajandusfond. \nKoostöös teeme paremini!
URL:https://www.pikk.ee/sundmus/tasuta-uhistegevuse-koolitus-koostoo-arendamise-meetodid-4/
LOCATION:Tartumaa\, Eesti
CATEGORIES:Ühistegevus
GEO:58.4057128;26.801576
END:VEVENT
END:VCALENDAR