BEGIN:VCALENDAR
VERSION:2.0
PRODID:-//PIKK.ee - ECPv6.13.2.1//NONSGML v1.0//EN
CALSCALE:GREGORIAN
METHOD:PUBLISH
X-ORIGINAL-URL:https://www.pikk.ee
X-WR-CALDESC:Events for PIKK.ee
REFRESH-INTERVAL;VALUE=DURATION:PT1H
X-Robots-Tag:noindex
X-PUBLISHED-TTL:PT1H
BEGIN:VTIMEZONE
TZID:Europe/Tallinn
BEGIN:DAYLIGHT
TZOFFSETFROM:+0200
TZOFFSETTO:+0300
TZNAME:EEST
DTSTART:20200329T010000
END:DAYLIGHT
BEGIN:STANDARD
TZOFFSETFROM:+0300
TZOFFSETTO:+0200
TZNAME:EET
DTSTART:20201025T010000
END:STANDARD
END:VTIMEZONE
BEGIN:VEVENT
DTSTART;VALUE=DATE:20200211
DTEND;VALUE=DATE:20200214
DTSTAMP:20260423T091833
CREATED:20191126T121921Z
LAST-MODIFIED:20191126T121921Z
UID:10009454-1581379200-1581638399@www.pikk.ee
SUMMARY:Innovatsioonilaager
DESCRIPTION:Põllumajandusuuringute Keskus/ Eesti Maaeluvõrgustik korraldab: \n11.-13. veebruaril 2019 kolmepäevase ingliskeelse seminari innovatsiooni toetavast võrgustumisest ja meetoditest. Läbiviimist toetavad Dr. Eelke Wielinga ja Karen Jonkers Hollandist. \nLaager on mõeldud innovatsiooniprojektide läbiviijatele ja nõustajatele. \nPäevakava täpsustamisel
URL:https://www.pikk.ee/sundmus/innovatsioonilaager/
LOCATION:Muu\, Eesti
CATEGORIES:Muu,Ühistegevus
GEO:58.595272;25.0136071
END:VEVENT
BEGIN:VEVENT
DTSTART;VALUE=DATE:20200213
DTEND;VALUE=DATE:20200214
DTSTAMP:20260423T091833
CREATED:20200122T111014Z
LAST-MODIFIED:20200122T111014Z
UID:10009503-1581552000-1581638399@www.pikk.ee
SUMMARY:FIE raamatupidamine ja tuludeklaratsiooni koostamine
DESCRIPTION:Tartumaa põllumeeste liit korraldab 13. veebruaril 10.00-14.00 Valga Kesk t 12 tasuta infopäeva „FIE raamatupidamine ja tuludeklaratsiooni koostamine“. Lektor Aino Vooro käsitleb teemasid: \n\nFIE tuludeklaratsioon\, E-vormi täitmine\, kahjumi edasikand-mine. FIE ettevõtlusvormi eelised ja puudused; FIE tegevust puudutav seadusandlus; FIE kassapõhine ja tekkepõhine arvestus.\nAlgdokumendid ja päevaraamat; ettevõtluse tulud ja kulud\, isikliku tarbimise proportsiooni arvestus. FIE põhivara arvestus; FIE laenude ja liisingute arvestus; FIE PRIA toetuste arvestus.\nFIE käibemaksukohustuslasena; FIE erikonto. Ettevõtluse peatamine ja lõpetamine\, maksuriskid; FIE vara üleandmine või pärimine.\nFIE ümberkujundamine äriühinguks. FIE tulumaks\, sotsiaalmaks ja avansilised makse.\n\nRegistreerimine: https://forms.gle/uuV1ASq4abe2wzF89. \nLisainfo 508 7320.
URL:https://www.pikk.ee/sundmus/fie-raamatupidamine-ja-tuludeklaratsiooni-koostamine-2/
LOCATION:Valgamaa\, Eesti
CATEGORIES:Finantsmajandus
END:VEVENT
BEGIN:VEVENT
DTSTART;VALUE=DATE:20200213
DTEND;VALUE=DATE:20200214
DTSTAMP:20260423T091833
CREATED:20200127T081649Z
LAST-MODIFIED:20200210T122532Z
UID:10009510-1581552000-1581638399@www.pikk.ee
SUMMARY:Täienduskoolitus- Silo tootmine väikemäletsejatele
DESCRIPTION:Täienduskoolitus- Silo tootmine väikemäletsejatele \nRegistreerimine on lõppenud\, grupp on täis. \nKoolitus toimub Olustvere Teenindus ja Maamajanduskoolis 13.02.2020  \nÕppetöö eesmärk: Kvaliteetne rohusööda valmistamine.  \nÕppetöö sisu: Rohumaaviljeluse põhitõed. Rullsilo valmistamise tehnoloogiad ( märg-\, närb\,-kuivsilo\, niitmine\, pressimine\, jm) ning fermentatsiooni ja kvaliteeti mõjutavad faktorid. \nAjakava: \n09.45 – 10.00 Kogunemine ja registreerimine \n10.00 – 11.30 Õppetöö \n11.30 – 11:45 Paus \n11.45 – 13.15 Õppetöö \n13.15 – 14.00 Lõuna \n14.00 – 15:30 Õppetöö \n15.30 – 17:00 Praktiline õpe \nLektor: A. Selge\, EMÜ\, Põllumajandus- ja keskkonnainstituut\, taimekasvatuse ja rohumaaviljeluse osakond\, Dotsent \nÕppekava leiad SIIT \nhttps://www.olustvere.edu.ee/et/content/pip-loomakasvatusprogrammi-koolitus-silo-tootmine-vaikemaletsejatele \nInfo marika.oeselg@gmail.com tel. 513 6242 \n  \nSihtgrupp: Koolitusest võivad osa võtta põllumajandustoodete tootmise\, töötlemise või turustamisega\, põllumajandusmaa hooldamisega\, põllumajandustoodetest mittepõllumajandustoodete töötlemisega\, sealhulgas toidu valmistamise või töötlemisega\, või metsa majandamisega seotud või nimetatud tegevusega tegelevat füüsilisest isikust ettevõtjat ja tema töötajat\, eraõigusliku juriidilise isiku osanikku\, aktsionäri\, liiget\, juhtorgani liiget ja tema töötajat\, metsa majandamisega tegelevat füüsilist isikut ja toidu valmistamise või töötlemisega tegelevat avalik-õigusliku juriidilise isiku juhtorgani liiget või töötajat. (Teadmussiirde pikaajaliste programmide rakendamise toetus määruse 28.04.2016 nr.46  muutmine. Vastu võetud 24.08.2017 nr 59.RT I\, 30.08.2017\, 1 ) \nTäienduskoolitus toimub MAK 2014-2020 meetme „Teadmussiirde pikaajaline programm loomakasvatuse tegevusvaldkonnas II “ raames\, rahastamisallikas: riigieelarve\, Euroopa Maaelu Põllumajandusfond (EAFRD).
URL:https://www.pikk.ee/sundmus/taienduskoolitus-silo-tootmine-vaikemaletsejatele/
LOCATION:Viljandimaa\, Viljandimaa\, Eesti
CATEGORIES:Loomakasvatus
GEO:58.2821746;25.5752233
END:VEVENT
END:VCALENDAR