BEGIN:VCALENDAR
VERSION:2.0
PRODID:-//PIKK.ee - ECPv6.13.2.1//NONSGML v1.0//EN
CALSCALE:GREGORIAN
METHOD:PUBLISH
X-ORIGINAL-URL:https://www.pikk.ee
X-WR-CALDESC:Events for PIKK.ee
REFRESH-INTERVAL;VALUE=DURATION:PT1H
X-Robots-Tag:noindex
X-PUBLISHED-TTL:PT1H
BEGIN:VTIMEZONE
TZID:Europe/Tallinn
BEGIN:DAYLIGHT
TZOFFSETFROM:+0200
TZOFFSETTO:+0300
TZNAME:EEST
DTSTART:20200329T010000
END:DAYLIGHT
BEGIN:STANDARD
TZOFFSETFROM:+0300
TZOFFSETTO:+0200
TZNAME:EET
DTSTART:20201025T010000
END:STANDARD
END:VTIMEZONE
BEGIN:VEVENT
DTSTART;VALUE=DATE:20200310
DTEND;VALUE=DATE:20200430
DTSTAMP:20260423T153249
CREATED:20200228T172116Z
LAST-MODIFIED:20200228T172116Z
UID:10007654-1583798400-1588204799@www.pikk.ee
SUMMARY:Lihaveisekasvatuse alused (56 t)
DESCRIPTION:Koolitus toimub Säreveres\n10 ja 11 märts\n24 ja 25 märts\n14 ja 15 aprill\n28 ja 29 aprill\, ühel päeval toimub õppekäik Virumaale\nLektorid on: Kristjan Reino\, Mirja-Mai Urve\, Anne Pavlenko\, Jaanus Vessart\, Pille-Riin Puskar\nTäpsema info koolituse kohta saadan registreerunuile.\nKoolitusele registreerimine toimub SIIT
URL:https://www.pikk.ee/sundmus/lihaveisekasvatuse-alused-56-t/
LOCATION:Järvamaa\, Järvamaa\, Eesti
CATEGORIES:Loomakasvatus
GEO:58.8866713;25.5000624
END:VEVENT
BEGIN:VEVENT
DTSTART;VALUE=DATE:20200311
DTEND;VALUE=DATE:20200501
DTSTAMP:20260423T153249
CREATED:20200228T172531Z
LAST-MODIFIED:20200228T172531Z
UID:10009556-1583884800-1588291199@www.pikk.ee
SUMMARY:Suurloomade esmaabi "Terve loom-Suurem kasum" (80 t)
DESCRIPTION:Koolitus toimub Säreveres\n11\,12\,13 märts\n19\,20\,21 märts\n1\,2\,3 aprill\nlisanduvad 3 päeva\nLektor Ulvi Martin\nTäpsema info koolituse kohta saadan registreerunuile.\nKoolitusele registreerimine toimub SIIT
URL:https://www.pikk.ee/sundmus/suurloomade-esmaabi-terve-loom-suurem-kasum-80-t/
LOCATION:Järvamaa\, Järvamaa\, Eesti
CATEGORIES:Loomakasvatus
GEO:58.8866713;25.5000624
END:VEVENT
BEGIN:VEVENT
DTSTART;VALUE=DATE:20200420
DTEND;VALUE=DATE:20200421
DTSTAMP:20260423T153249
CREATED:20200412T151658Z
LAST-MODIFIED:20200507T071923Z
UID:10009576-1587340800-1587427199@www.pikk.ee
SUMMARY:Pindala- ja loomatoetuste veebikoolitus
DESCRIPTION:Tartumaa põllumeeste liit korraldab pindala- ja loomatoetuste taotlejatele tasuta VEEBIKOOLITUSED. Koolitust saab vaadata-kuulata alljärgnevatel kuupäevadel\, palun registreerida maakonnapõhiselt: \n20.-21.04 Harjumaa põllumehed\, registreerimine: registreerimine on lõppenud \n20.-21.04 Hiiumaa põllumehed\, registreerimine:  registreerimine on lõppenud \n21.-22.04 Ida-Virumaa põllumehed\, registreerimine: registreerimine on lõppenud \n21.-22.04 Jõgevamaa põllumehed\, registreerimine: registreerimine on lõppenud \n22.-23.04 Tartumaa põllumehed\, registreerimine: registreerimine on lõppenud \n24.-26.04 Järvamaa põllumehed\, registreerimine: registreerimine on lõppenud \n24.-26.04 Läänemaa põllumehed\, registreerimine: registreerimine on lõppenud \n27.-28.04 Pärnumaa põllumehed\, registreerimine: registreerimine on lõppenud \n28.-29.04 Viljandimaa põllumehed\, registreerimine: registreerimine on lõppenud \n29.-30.04 Saaremaa põllumehed\, registreerimine: registreerimine on lõppenud \n30.04-3.05 Lääne-Virumaa põllumehed\, registreerimine: registreerimine on lõppenud \n4.-5.05 Põlvamaa põllumehed\, registreerimine: registreerimine on lõppenud \n5.-6.05 Raplamaa põllumehed\, registreerimine: registreerimine on lõppenud \n6.-7.05 Valgamaa põllumehed\, registreerimine: registreerimine on lõppenud \n6.-7.05 Võrumaa põllumehed\, registreerimine: registreerimine on lõppenud \nRegistreerimine lõpeb eelmisel päeval kell 18.00. Registreerunud saavad meilile veebikoolitusse sisenemise lingi ja parooli\, samuti kontaktid küsimuste esitamiseks. \nPäevakava \nMAK muudatused M. Mandel ja K. Zeren \nOtsetoetuste muudatused R. Paju \nLoomatoetuste muudatused M. Põlma \nÜlevaade 2019. a leitud rikkumistest G. Toom ja U. Laur \nSordikaitsest L. Puur \nLisainfo Jaan Sõrra 508 7320.
URL:https://www.pikk.ee/sundmus/pindala-ja-loomatoetuste-veebikoolitus/2020-04-20/
LOCATION:Muu\, Eesti
CATEGORIES:Taimekasvatus
GEO:58.595272;25.0136071
END:VEVENT
END:VCALENDAR