BEGIN:VCALENDAR
VERSION:2.0
PRODID:-//PIKK.ee - ECPv6.13.2.1//NONSGML v1.0//EN
CALSCALE:GREGORIAN
METHOD:PUBLISH
X-WR-CALNAME:PIKK.ee
X-ORIGINAL-URL:https://www.pikk.ee
X-WR-CALDESC:Events for PIKK.ee
REFRESH-INTERVAL;VALUE=DURATION:PT1H
X-Robots-Tag:noindex
X-PUBLISHED-TTL:PT1H
BEGIN:VTIMEZONE
TZID:Europe/Tallinn
BEGIN:DAYLIGHT
TZOFFSETFROM:+0200
TZOFFSETTO:+0300
TZNAME:EEST
DTSTART:20200329T010000
END:DAYLIGHT
BEGIN:STANDARD
TZOFFSETFROM:+0300
TZOFFSETTO:+0200
TZNAME:EET
DTSTART:20201025T010000
END:STANDARD
END:VTIMEZONE
BEGIN:VEVENT
DTSTART;VALUE=DATE:20200528
DTEND;VALUE=DATE:20200529
DTSTAMP:20260422T150503
CREATED:20200114T122307Z
LAST-MODIFIED:20200429T083557Z
UID:10009488-1590624000-1590710399@www.pikk.ee
SUMMARY:Veebipõhine koolitus Põllumajandusloomade transport vastavalt loomakaitsenõuetele\, pädevuskoolitus
DESCRIPTION:Toimumisaeg: 28. mai 2020\nKoolitus toimub veebipõhiselt \nAjakava\n9:00 – 16.30 õppetöö \nSihtrühm:\nPõllumajandustoodete tootmise\, töötlemise või turustamisega\, põllumajandusmaa hooldamisega\, põllumajandustoodetest mittepõllumajandustoodete töötlemisega\, sealhulgas toidu valmistamise või töötlemisega\, või metsa majandamisega seotud või nimetatud tegevusega tegelev füüsilisest isikust ettevõtja ja tema töötaja\, eraõigusliku juriidilise isiku osanik\, aktsionär\, liige\, juhtorgani liige ja tema töötaja\, metsa majandamisega tegelev füüsiline isik ja toidu valmistamise või töötlemisega tegelev avalik-õiguslik juriidilise isiku juhtorgani liige või töötaja.\nLisaks valdkonna teenindamisega tegelejad (nt loomasööda\, veterinaarravimite müüjad)\, oma ettevõtte tegevusvaldkonda laiendada soovijad\, põllumajanduslike esindus- ja erialaorganisatsioonide juhatuse liikmed ja töötajad. \nKoolitus toimub programmi “Teadmussiirde pikaajaline programm loomakasvatuse valdkonnas” raames ja on sihtrühmale tasuta. \nSisu:\n– Farmist tapamajani põllumajandusloomadega kohalduv seadusandlus (loomakaitseseadus ja määrus 1/2005);\n– Määruse 1/2005 reguleerimisala\, mõisted ja loomade vedamise üldtingimused;\n– Korraldajad\, vedajad\, loomapidajad ja kogumiskeskused\nVeovalmidus\, veovahendid\nKõigile veovahenditele kohaldatavad sätted\nTäiendavad sätted auto- ja raudteevedude korral\nLisatingimused loomade vedamisel veeremilaevadega\nLisatingimused loomade vedamisel õhutranspordiga\nLisatingimused loomade vedamisel konteinerites\nVeotavad\nPeale- ja mahalaadimine ning hooldamine\nVahendid ja menetlused\nHooldamine\nEraldamine\nVedamise ajal kontrollimine\nTäiendavad tingimused loomaveolaevadele ja merekonteinereid vedavatele laevadele\nNõuded loomaveolaevade ehitusele ja seadmetele\nVee ja söödaga varustamine loomaveolaevadel ja merekonteinereid vedavatel laevadel\nJootmise ja söötmise ajavahemik\, teekonna kestus ja puhkeajad\nTäiendavad tingimused koduhobuslaste\, koduloomadena peetavate veiste\, lammaste\, kitsede ja sigade pikaajalise veo korral\nRuuminõuded\nTeekonnaleht\nVõimalusel tutvutakse erinevate loomaveokitega ning hinnatakse nende sobivust loomade transpordiks \nLektor: Terje Elias\, PhD\, DVM Eesti Maaülikooli Veterinaarmeditsiini ja loomakasvatuse instituudi toiduhügieeni ja rahvatervise õppetooli dotsent \nOsalemissoovi korral on vajalik eelregistreerimine lingi alt: SIIN \nKorraldaja \nEesti Maaülikooli avatud ülikool​\nKreutzwaldi 56/1 (III korrus\, ruumid 303-306)\,\n51006 Tartu\ntel 731 3174\, 731 3175\, 731 3275\, 5344 1844\ne-post: avayl@emu.ee
URL:https://www.pikk.ee/sundmus/koolitus-pollumajandusloomade-transport-vastavalt-loomakaitsenouetele-padevuskoolitus-2/
LOCATION:Tartumaa\, Eesti
CATEGORIES:Loomakasvatus
GEO:58.4057128;26.801576
END:VEVENT
END:VCALENDAR