BEGIN:VCALENDAR
VERSION:2.0
PRODID:-//PIKK.ee - ECPv6.13.2.1//NONSGML v1.0//EN
CALSCALE:GREGORIAN
METHOD:PUBLISH
X-WR-CALNAME:PIKK.ee
X-ORIGINAL-URL:https://www.pikk.ee
X-WR-CALDESC:Events for PIKK.ee
REFRESH-INTERVAL;VALUE=DURATION:PT1H
X-Robots-Tag:noindex
X-PUBLISHED-TTL:PT1H
BEGIN:VTIMEZONE
TZID:Europe/Tallinn
BEGIN:DAYLIGHT
TZOFFSETFROM:+0200
TZOFFSETTO:+0300
TZNAME:EEST
DTSTART:20200329T010000
END:DAYLIGHT
BEGIN:STANDARD
TZOFFSETFROM:+0300
TZOFFSETTO:+0200
TZNAME:EET
DTSTART:20201025T010000
END:STANDARD
END:VTIMEZONE
BEGIN:VEVENT
DTSTART;VALUE=DATE:20200728
DTEND;VALUE=DATE:20200730
DTSTAMP:20260421T031316
CREATED:20200715T084628Z
LAST-MODIFIED:20200724T083921Z
UID:10009633-1595894400-1596067199@www.pikk.ee
SUMMARY:Ettevõtete külastus mahelambakasvatajatele
DESCRIPTION:Ökoloogiliste Tehnoloogiate Keskus korraldab 28.-29. juulil mahelambakasvatajatele ettevõtete külastuse. \nProgramm \n28.juuli k 10.30 – 20.00 \n\nOutserv OÜ (Väike-Kareda\, Järvamaa)\nKaire Veskilt (Rajaküla\, Lääne-Virumaa)\nRehekivi OÜ (Puka\, Lääne-Virumaa)\nMäehansu talu (Varangu\, Lääne-Virumaa)\n\n\njuuli k 9.15 – 13.30\n\n\nOruküla talu (Oruküla\, Lääne-Virumaa)\nArutelu Vihula mõisas\n\nLisainfo: Merit Mikk\, maheteave@gmail.com. \n  \nEttevõtete külastus toimub “Teadmussiirde pikaajaline programm mahepõllumajanduse tegevusvaldkonnas” raames\, toetab Euroopa Liit.
URL:https://www.pikk.ee/sundmus/ettevotete-kulastus-mahelambakasvatajatele/
LOCATION:Lääne-Virumaa\, Lääne-Virumaa\, Eesti
CATEGORIES:Loomakasvatus
END:VEVENT
END:VCALENDAR