BEGIN:VCALENDAR
VERSION:2.0
PRODID:-//PIKK.ee - ECPv6.13.2.1//NONSGML v1.0//EN
CALSCALE:GREGORIAN
METHOD:PUBLISH
X-WR-CALNAME:PIKK.ee
X-ORIGINAL-URL:https://www.pikk.ee
X-WR-CALDESC:Events for PIKK.ee
REFRESH-INTERVAL;VALUE=DURATION:PT1H
X-Robots-Tag:noindex
X-PUBLISHED-TTL:PT1H
BEGIN:VTIMEZONE
TZID:Europe/Tallinn
BEGIN:DAYLIGHT
TZOFFSETFROM:+0200
TZOFFSETTO:+0300
TZNAME:EEST
DTSTART:20200329T010000
END:DAYLIGHT
BEGIN:STANDARD
TZOFFSETFROM:+0300
TZOFFSETTO:+0200
TZNAME:EET
DTSTART:20201025T010000
END:STANDARD
END:VTIMEZONE
BEGIN:VEVENT
DTSTART;VALUE=DATE:20200925
DTEND;VALUE=DATE:20200928
DTSTAMP:20260421T233533
CREATED:20200916T054759Z
LAST-MODIFIED:20201027T101644Z
UID:10009667-1600992000-1601251199@www.pikk.ee
SUMMARY:Ettevõtete külastus „Erinevus rikastab  - kogemuste vahetamise õppereis“
DESCRIPTION: Projekt: ettevõtete külastus „Erinevus rikastab  – kogemuste vahetamise õppereis“ \nProjekti viitenumber  611020790534 – korraldaja MTÜ Alustame Algusest \nToimumise aeg: 25.-27.september 2020 \nToimumiskoht:  3 külastuskohta Valgamaal\, 2 külastuskohta Tartumaal\, 3 külastuskohta Jõgevamaal. Sõit algab ja lõpeb Viljandis. \n Oodatud on eelkõige mesinik-ettevõtjad\, aga  ka teised põllumajandusettevõtjad. Osalemine ainult eelregistreerimine ja õppegrupi suurus 16 inimest. \nSihtrühm:  Põllumajandustoodete tootmise\, töötlemise või turustamisega\, põllumajandusmaa hooldamisega\, põllumajandustoodetest mittepõllumajandustoodete töötlemisega\, sealhulgas toidu valmistamise või töötlemisega\, või metsa majandamisega seotud või nimetatud tegevusega tegelev füüsilisest isikust ettevõtja ja tema töötaja\, eraõigusliku juriidilise isiku osanik\, aktsionär\, liige\, juhtorgani liige ja tema töötaja\, metsa majandamisega tegelev füüsiline isik ja toidu valmistamise või töötlemisega tegelev avalik-õiguslik juriidilise isiku juhtorgani liige või töötaja. \nÕppesõidu kulud:  (ettevõtete külastus\, bussi rent\,  lõunasöögid\, majutus koos hommikusöökidega\, õhtusöögid) on kaetud Teadmussiirde ja teavituse toetus (MAK 2014-2020 meede 1) toetusega. \nSõidame 30 – kohalise  bussiga\, aga grupi suuruseks 16 inimest  – järgime ohutusreegleid ja Terviseameti soovitusi.  \nRohkem infot ja registreerimine kodulehel: https://mesilaspere.com/projektid/mesindusvaldkonna-projektid/pria-rahastus \n  \nKorraldaja: MTÜ Alustame Algusest \nTelefon:  – 372 50 29006 \nE-kiri: alustamealgusest@gmail.com \nKoduleht: mesilaspere@gmail.com \n 
URL:https://www.pikk.ee/sundmus/ettevotete-kulastus-erinevus-rikastab-kogemuste-vahetamise-oppereis/
LOCATION:Järvamaa
ORGANIZER;CN="MT%C3%9C Alustame Algusest":MAILTO:alustamealgusest@gmail.com
END:VEVENT
END:VCALENDAR