BEGIN:VCALENDAR
VERSION:2.0
PRODID:-//PIKK.ee - ECPv6.13.2.1//NONSGML v1.0//EN
CALSCALE:GREGORIAN
METHOD:PUBLISH
X-WR-CALNAME:PIKK.ee
X-ORIGINAL-URL:https://www.pikk.ee
X-WR-CALDESC:Events for PIKK.ee
REFRESH-INTERVAL;VALUE=DURATION:PT1H
X-Robots-Tag:noindex
X-PUBLISHED-TTL:PT1H
BEGIN:VTIMEZONE
TZID:Europe/Tallinn
BEGIN:DAYLIGHT
TZOFFSETFROM:+0200
TZOFFSETTO:+0300
TZNAME:EEST
DTSTART:20200329T010000
END:DAYLIGHT
BEGIN:STANDARD
TZOFFSETFROM:+0300
TZOFFSETTO:+0200
TZNAME:EET
DTSTART:20201025T010000
END:STANDARD
END:VTIMEZONE
BEGIN:VEVENT
DTSTART;VALUE=DATE:20201010
DTEND;VALUE=DATE:20201011
DTSTAMP:20260425T015736
CREATED:20201002T120136Z
LAST-MODIFIED:20201012T061524Z
UID:10007761-1602288000-1602374399@www.pikk.ee
SUMMARY:Infopäev “Bioturvalisuse kava koostamine linnukasvatusettevõttes” Valgamaal
DESCRIPTION:Infopäev teemal „Bioturvalisuse kava koostamine linnukasvatusettevõttes“ toimub 10. oktoobril 2020 Mulgi Jaanalinnu talus (Valgamaa Tõrva vald Riidaja küla Paudi talu\, kõige lihtsam leida Google Maps kaudu (Mulgi Jaanalinnu talu). \nNõutav eelregistreerimine hiljemalt 08.10.2020 SIIN \nAjakava\n11.00-11.15 kogunemine\n11.15-13.00 ettekanne\n13.00-13.15 kohvipaus\n13.15-15.00 ettekanne\, küsimused ja arutelu \nInfopäeva ettekanne \nInfopäeva lektor on Janek Prits\, kes on Foodest Baltic OÜ ja Estfarm OÜ juht\, Eesti Linnukasvatajate Selts’i juhatuse liige. Tegeleb linnukasvatusega\, omab erinevate linnuliikide- ja tõugude kollektsiooni. Estfarm OÜ on EMÜ teadus- ja õppebaas ning ainus eesti vuti aretusfarm Eestis. Omab põllumajandustootja 4 ja 5 taseme kutset linnukasvatuse erialal. Omab Veterinaar- ja Toiduameti poolt väljastatud kodulindude\, jäneseliste\, veiste\, sigade\, lammaste tapatoimingute teostaja pädevustunnistust ning lindude ja loomade veo\, juhtide ja vedajate pädevustunnistust. On tegev Järvamaa Kutsehariduskeskuses linnukasvatuse ja karusloomakasvatuse küülikukasvatusvaldkonna 4 ja 5 kutsetaseme erialaõppejõuna. \nInfopäev toimub MAK 2014-2020 meetme „Teadmussiirde pikaajaline programm loomakasvatuse tegevusvaldkonnas II “ raames ja on sihtgrupile tasuta.
URL:https://www.pikk.ee/sundmus/infopaev-bioturvalisuse-kava-koostamine-linnukasvatusettevottes-valgamaal/
LOCATION:Valgamaa\, Eesti
ORGANIZER;CN="Maaelu Edendamise Sihtasutus":MAILTO:angelika.nops@pikk.ee
END:VEVENT
END:VCALENDAR