BEGIN:VCALENDAR
VERSION:2.0
PRODID:-//PIKK.ee - ECPv6.13.2.1//NONSGML v1.0//EN
CALSCALE:GREGORIAN
METHOD:PUBLISH
X-ORIGINAL-URL:https://www.pikk.ee
X-WR-CALDESC:Events for PIKK.ee
REFRESH-INTERVAL;VALUE=DURATION:PT1H
X-Robots-Tag:noindex
X-PUBLISHED-TTL:PT1H
BEGIN:VTIMEZONE
TZID:Europe/Tallinn
BEGIN:DAYLIGHT
TZOFFSETFROM:+0200
TZOFFSETTO:+0300
TZNAME:EEST
DTSTART:20200329T010000
END:DAYLIGHT
BEGIN:STANDARD
TZOFFSETFROM:+0300
TZOFFSETTO:+0200
TZNAME:EET
DTSTART:20201025T010000
END:STANDARD
END:VTIMEZONE
BEGIN:VEVENT
DTSTART;VALUE=DATE:20201021
DTEND;VALUE=DATE:20201023
DTSTAMP:20260426T062848
CREATED:20201012T193123Z
LAST-MODIFIED:20201012T193544Z
UID:10009704-1603238400-1603411199@www.pikk.ee
SUMMARY:Kitsekasvatuse põhitõed (60 t)
DESCRIPTION:Kitsekasvatuse põhitõed (60 tundi) esimesed koolituspäevad 21 ja 22 oktoober 2020 Järvamaa Kutsehariduskeskuse Särevere õppekohas. \nKoolitajateks Marge Salumäe\, Liilia Tali\, Katrin Tähepõld.
URL:https://www.pikk.ee/sundmus/kitsekasvatuse-pohitoed-60-t/2020-10-21/
LOCATION:Järvamaa\, Järvamaa\, Eesti
CATEGORIES:Loomakasvatus
GEO:58.8866713;25.5000624
END:VEVENT
BEGIN:VEVENT
DTSTART;VALUE=DATE:20201022
DTEND;VALUE=DATE:20201023
DTSTAMP:20260426T062848
CREATED:20200923T100045Z
LAST-MODIFIED:20200928T073325Z
UID:10009688-1603324800-1603411199@www.pikk.ee
SUMMARY:Infopäev Jänedal: Toidu märgistamise ABC
DESCRIPTION:Eesti Toiduainetööstuse Liit korraldab koostöös Maaeluministeeriumi ning Veterinaar- ja Toiduametiga kaks samasisulist infopäeva (Tartus ja Jänedal)\, kus käsitletakse toidu märgistamise nõudeid. \nInfopäev on mõeldud eelkõige neile toidu müügiks valmistajatele\, kellel on toidu märgistamise nõuetest vähe teadmisi. Infopäeva jooksul tutvustatakse erinevaid toidualase teabe esitamise aspekte. Päev lõpeb praktilise osaga\, kus osavõtjad saavad analüüsida näidismärgistusi ning esitada küsimusi ja jagada kogemusi. \nPäevakava*: \n\n\n\n9:30-10:00\nOsalejate registreerimine\, tervituskohv\n\n\n10:00-10:05\nSissejuhatus\n\n\n10:05-11:00\nToidualase teabe esitamise ja toidu märgistamise nõuded erinevates õigusaktides. \nKokkuvõtlik ülevaade kehtivatest nõuetest – toidualase teabe määrus (EL) nr 1169/2011\, teatud toidugruppide erinõuded\, pakendamata toidu nõuded. \nKülli Johanson\, Maaeluministeeriumi toiduohutuse osakonna toidu üldnõuete büroo peaspetsialist\n\n\n11:00-11:10\nSirutuspaus\n\n\n11:10-11:40\nToitumisalase teabe esitamine. \nMis on toitumisalane teave ja kuidas seda esitada? Millele tähelepanu pöörata? Milline toitumisalane teave on kohustuslik ja milline vabatahtlik toitumisalane teave on lubatud? \nKülli Johanson \n\n\n11:40-12:10\nTähelepanekuid toidualase teabe esitamisest ja pakendite märgistusest. \nTiiu Rand\, Veterinaar- ja Toiduameti toiduosakonna nõunik\n\n\n12:10-12:20\nKüsimused-vastused\n\n\n12:20-13:20\nLõuna\n\n\n13:20-13:50\nToitumisalase teabe arvutamine NutriData toote arvutus- ja sisestusprogrammiga. \nÜlevaade Tervise Arengu Instituudi poolt hallatava NutriData toote arvutus- ja sisestusprogrammi (https://asp.nutridata.ee/et/avaleht) kasutamisest toitumisalase teabe koostamisel. \nÄnn Jõgi\, Tervise Arengu Instituudi toitumisuuringute osakonna projektijuht (Tartus) \nHeidi Roos\, Tervise Arengu Instituudi toitumisuuringute osakonna spetsialist (Jänedal)\n\n\n13:50-14:20\nToitumis- ja tervisealased väited. \nMis on toitumisalane väide ja mis on tervisealane väide? Millised väited on lubatud?  \nTiiu Rand\, Veterinaar- ja Toiduameti toiduosakonna nõunik\n\n\n14:20-14:35\nKüsimused-vastused. Rühmatööde tutvustamine. \nLektorite poolt ettevalmistatud näidismärgistuste analüüsimine. Osavõtjad jagatakse gruppidesse\, iga grupp saab analüüsida ühe märgistuse näidise ja esitleda analüüsi tulemusi. Lektorid juhendavad ja vastavad küsimustele. Osavõtjad on oodatud avaldama arvamust ning jagama kogemusi käsitletud teemadel. \nRühmatööd juhendavad ja arutelu viivad läbi Külli Johanson ja Tiiu Rand.\n\n\n14:35-14:50\nEnergiapaus\n\n\n14:50-16:00\nRühmatööd (märgistuste analüüsimine)\n\n\n16:00-16:45\nRühmatöö tulemuste esitlemine\, arutelu.\n\n\n16:45-17:00\nKokkuvõte. Infopäeva lõpetamine.\n\n\n\n*Korraldajal on õigus teha päevakavas muudatusi. \nInfopäevast võivad osa võtta kõik valdkonnas tegutsevad või sellest huvitatud isikud. Tegemist on vähese tähtsusega abiga\, abisumma on 72 eurot ühe osaleva inimese kohta. Osalemine on tasuta\, kui ettevõtte vähese tähtsusega abi määr ei ole ületatud. \nRegistreerumine ja täpsem info: toiduteave.ee lehel 
URL:https://www.pikk.ee/sundmus/infopaev-toidu-margistamise-abc/
LOCATION:Läänemaa
CATEGORIES:Toiduainete tootmine
END:VEVENT
BEGIN:VEVENT
DTSTART;VALUE=DATE:20201022
DTEND;VALUE=DATE:20201023
DTSTAMP:20260426T062848
CREATED:20201002T065803Z
LAST-MODIFIED:20201002T065803Z
UID:10007758-1603324800-1603411199@www.pikk.ee
SUMMARY:Õpiring piimakarjakasvatajatele
DESCRIPTION:Õpiring toimub 22.oktoober  Saimre OÜ-s\, Viljandimaal \nGRUPP KOMPLEKTEERUNUD \nPäevakava \n08.45 – 09.00  Kogunemine Saime OÜ piimakarjafarmis \n09.00 – 10.30  Ringkäik farmis (sobiv riietus). \n10.30 – 12:00 Arutelud\, kogemuste vahetamine. \n  \nÕpiringi teemaks on sigimine\, söötmine\, poegimine. \n  \nÕpiringi juhendaja –  Marika Oeselg\, loomakasvatuskonsulent MES. \nSaimre OÜ ringkäiku farmis viib läbi loomakasvatusjuht Ivi Randmaa \n  \nGrupi suurus 12 inimest. \n  \nÕpiring toimub MAK 2014-2020 meetme „Teadmussiirde pikaajaline programm loomakasvatuse tegevusvaldkonnas II “ raames ja on sihtgrupile tasuta.
URL:https://www.pikk.ee/sundmus/opiring-piimakarjakasvatajatele-11/
LOCATION:Viljandimaa\, Viljandimaa\, Eesti
ORGANIZER;CN="Maaelu Edendamise Sihtasutus":MAILTO:angelika.nops@pikk.ee
GEO:58.2821746;25.5752233
END:VEVENT
BEGIN:VEVENT
DTSTART;VALUE=DATE:20201022
DTEND;VALUE=DATE:20201023
DTSTAMP:20260426T062848
CREATED:20201005T064958Z
LAST-MODIFIED:20201022T125525Z
UID:10007763-1603324800-1603411199@www.pikk.ee
SUMMARY:Infopäeva Põllumajandusloomade heaolu – väikemäletsejalised (lambad/kitsed)
DESCRIPTION:Infopäev toimub 22 oktoober Olustvere Teenindus ja Maamajanduskoolis. Antud infopäev läheb arvesse loomade heaolu toetuse taotlemisel\, osalejatele väljastatakse tunnistus. \nPäevakava \n10:15 – 10.30  Kogunemine registreerimine \n10:30 – 12.00  Loeng \n12:00 – 12:30  Paus \n12:30 – 14:00  Praktilised tegevused kooli tallihoone lambalaudas. \nInfopäeva ettekanne \nLektor Ann-Mari Anupõld\, MES lambakasvatuskonsulent\, veterinaararst \nInfopäeva eesmärk on tõsta põllumajandusettevõtjate ja töötajate teadmiste taset teemadel\, mis on seotud lammaste pidamistingimustega ning tallede ja suguloomade tervise kontrollimisega. \n  \nAntud infopäev läheb arvesse loomade heaolu toetuse taotlemisel\, osalejatele väljastatakse tunnistus. \nRegistreerimise tähtaeg kuni 19.oktoober LINK \nInfo 513 6242 \n  \nInfopäev toimub MAK 2014-2020 meetme „Teadmussiirde pikaajaline programm loomakasvatuse tegevusvaldkonnas II “ raames\, tegevus on rahastatud Eesti maaelu arengukava 2014-2020 vahenditest ja on kõigile osalejatele tasuta.
URL:https://www.pikk.ee/sundmus/infopaeva-pollumajandusloomade-heaolu-vaikemaletsejalised-lambad-kitsed/
LOCATION:Viljandimaa\, Viljandimaa\, Eesti
GEO:58.2821746;25.5752233
END:VEVENT
BEGIN:VEVENT
DTSTART;VALUE=DATE:20201022
DTEND;VALUE=DATE:20201023
DTSTAMP:20260426T062848
CREATED:20201014T070708Z
LAST-MODIFIED:20201014T070708Z
UID:10009710-1603324800-1603411199@www.pikk.ee
SUMMARY:Infopäev Kattetulu arvutamine põllumajanduses
DESCRIPTION:MTÜ  SAARTE  NÕUANDEKESKUS \nkorraldab maakondliku infopäeva teemal: „Kattetulu arvutamine põllumajanduses“ \nneljapäeval\, 22.10.2020.a. algusega kell 10.00 Saare maakonnas\, Kuressaares\, Tallinna tn 27 \n  \nTegevuse eesmärgiks on anda ettevõtjatele teadmisi oma toodangu saamiseks tehtavatest kuludest ja nende kujunemisest ning seostest toodetud toodangu kogustele. \nTeemad: Kattetulu arvestamine taime- ja loomakasvatuses (teraviljad\, rohumaad\, õlikultuurid\, kartul\, piimalehm\, nuumpull jt. loomad). Infopäeval tutvustatakse ka võimalusi investeeringutoetuse saamiseks meetmest 4.1\, mille sisestamise algus on oktoobrikuu lõpus ja kestab 11.11.2020 \n  \nLektorid on konsulendid: Jekaterina Näälik\, Lea Toompuu ja Mai Vaher. \n  \nInfopäev on tasuta ja see korraldatakse Eesti Maaelu arengukava 2014-2020 „Teadmussiire ja teavituse toetuse (maakondliku ulatusega tegevused)“ meetme 1.1 raames ning infopäeva toetab EL. \n  \nKohtade arv on piiratud\, infopäevale palun registreerida e-mailile:saartenk@gmail.com\, või telefonidele: Jekaterina Näälik – 56699168; Lea Toompuu – 53464675; Mai Vaher – 5136756 \n  \n 
URL:https://www.pikk.ee/sundmus/infopaev-kattetulu-arvutamine-pollumajanduses/
LOCATION:Saaremaa\, Saaremaa
ORGANIZER;CN="MT%C3%9C Saarte N%C3%B5uandekeskus":MAILTO:saartenk@gmail.com
GEO:58.3705526;22.6876383
END:VEVENT
BEGIN:VEVENT
DTSTART;VALUE=DATE:20201022
DTEND;VALUE=DATE:20201023
DTSTAMP:20260426T062848
CREATED:20201019T064829Z
LAST-MODIFIED:20201023T075646Z
UID:10007767-1603324800-1603411199@www.pikk.ee
SUMMARY:Aretuse konverents 2020
DESCRIPTION:EPKK Aretuse konverents 2020 \n  \nEesti Põllumajandus-Kaubanduskoda korraldab Maaeluministeeriumi tellimusel ja koostöös  Eesti Tõuloomakasvatajate Ühistuga ARETUSE KONVERENTSI.  \nKonverents toimub 22. oktoobril 2020. a. kella 9.00 – 16.00 Türi Kultuurikeskuse suures saalis. \nKonverentsi modereerib ETKÜ juhatuse esimees Tanel-Taavi Bulitko \n  \nP Ä E V A K A V A \n  \n09.00 – 09.30   Pakume tervituskohvi \n09.30 – 09.40   Konverentsi avamine – Tanel-Taavi Bulitko\, ETKÜ juhatuse esimees \n09.40 – 10.40   Ülevaade  USA piimandussektorist VIDEO– Rebekah Mast\, World Wide Sires Ltd geneetika- ja turundusdirektor;  \n10.40 – 11.40  Tõuraamatu tähtsus tänapäeval – Egbert Feddersen\, Saksamaa Holsteini tõuraamatu juht\n \n11.40 – 12.00   Aretuse valdkonna järelevalvest – Anneli Härmson\, VTA Loomatervise ja -heaolu osakonna peaspetsialist \n12.00 – 12.45   Lõunasöök \n12.45 – 13.45     Aretusmaterjali tootearendus Semexi näitel – Brian Carscadden\, Semex tootearendusjuht\n \n13.45 – 14.30   Eesti veiste genoomaretusväärtuste hindamise võimalused – Tõnu Põlluäär\, ETKÜ Tõuraamatu- ja  aretusosakonna juhataja \n14.30 – 14.45   Kohvipaus \n14.45 – 15.30   Aretusväärtuste teadlik hindamine – Mart Uba\, EPJ geneetilise hindamise juht \n15.30 – 16.00   Diskussioon aretuse tulevikust  – Mart Uba\, Tõnu Põlluäär\, Jarmo Leht ja Andres Leesmäe\n \n  \nKonverents on tõlkega ja sihtrühmale TASUTA.  \nNB! Registreerige osalemissoov kuni 20. oktoobrini SIIN  või  www.pikk.ee (vt sündmuste kalender) või EPKK kodulehel www.epkk.ee \nNB! Seoses COVID-19 levikust tingitud olukorraga on meie kõikide  \nturvalisuse huvides maski kandmine kohustuslik. Püsigem terved! \n  \nKonverents toimub MAK 2014-2020 meetme „Teadmussiirde pikaajaline programm loomakasvatuse tegevusvaldkonna II raames; Rahastamisallikas: riigieelarve\, Euroopa Maaelu Põllumajandusfond (EAFRD). \nLisainformatsioon: EPKK projektijuht Maire Vimb – 600 9349\, 50 86 664 või info@epkk.ee \n 
URL:https://www.pikk.ee/sundmus/aretuse-konverents-2020/
LOCATION:Järvamaa\, Järvamaa\, Eesti
CATEGORIES:Loomakasvatus
GEO:58.8866713;25.5000624
END:VEVENT
END:VCALENDAR