BEGIN:VCALENDAR
VERSION:2.0
PRODID:-//PIKK.ee - ECPv6.13.2.1//NONSGML v1.0//EN
CALSCALE:GREGORIAN
METHOD:PUBLISH
X-WR-CALNAME:PIKK.ee
X-ORIGINAL-URL:https://www.pikk.ee
X-WR-CALDESC:Events for PIKK.ee
REFRESH-INTERVAL;VALUE=DURATION:PT1H
X-Robots-Tag:noindex
X-PUBLISHED-TTL:PT1H
BEGIN:VTIMEZONE
TZID:Europe/Tallinn
BEGIN:DAYLIGHT
TZOFFSETFROM:+0200
TZOFFSETTO:+0300
TZNAME:EEST
DTSTART:20210328T010000
END:DAYLIGHT
BEGIN:STANDARD
TZOFFSETFROM:+0300
TZOFFSETTO:+0200
TZNAME:EET
DTSTART:20211031T010000
END:STANDARD
END:VTIMEZONE
BEGIN:VEVENT
DTSTART;VALUE=DATE:20210125
DTEND;VALUE=DATE:20210128
DTSTAMP:20260422T011834
CREATED:20210106T173838Z
LAST-MODIFIED:20210121T154518Z
UID:10007832-1611532800-1611791999@www.pikk.ee
SUMMARY:Taimekaitse aluskoolitus professionaalsele kasutajale (22 t)
DESCRIPTION:Taimekaitse aluskoolitus professionaalsele kasutajale (22 t) \nKoolitus toimub 25. – 27. jaanuaril veebikoolitusena\nLektorid Kaja Marrandi ja Marek Kõbu\nKoolitusele registreerimine toimub SIIT\nTASUTA on koolitus  põllumeestele. \nTäpsema info koolituse kohta saadan registreerunuile.\nTäiendav info\nRuth Türk\nJKHK koolitusjuht\nruth.turk@jkhk.ee\n5329 2188
URL:https://www.pikk.ee/sundmus/taimekaitse-aluskoolitus-professionaalsele-kasutajale-22-t-5/
LOCATION:Veebis\, Eesti
CATEGORIES:Taimekaitse
END:VEVENT
BEGIN:VEVENT
DTSTART;VALUE=DATE:20210126
DTEND;VALUE=DATE:20210127
DTSTAMP:20260422T011834
CREATED:20210126T082807Z
LAST-MODIFIED:20210126T082807Z
UID:10009788-1611619200-1611705599@www.pikk.ee
SUMMARY:Sihtrühmale tasuta veebikoolitus „Põllumajanduslindude heaolu“
DESCRIPTION:Sihtrühmale tasuta veebikoolitus „Põllumajanduslindude heaolu“\n31.03.2021 \nAlgus kell 9.00\, orienteeruv lõpp kell 16.15s\nKoolitus toimub veebikeskkonnas Big Blue Button.\nKoolitus läheb arvesse loomade heaolu toetuse taotlemisel.\nÕppekava kinnitamise teade 25.01.2021 nr 4.2-6/180-1 \nKoolitus keskendub peamiselt munakanadele\, lisaks käsitletakse broilerite heaolu.\n– Heaolu mõiste ja põllumajanduslindude heaolu kontseptsioonid;\n– Heaolu kui jätkusuutliku linnukasvatuse alus;\n– Lindude käitumine ning selle seoses tervise ja toodanguga;\n– Heaolu põhimõtted – söötmine\, pidamine\, tervis ja loomuomane käitumine;\n– Munakana ja broileri heaolu hindamise protokolli tutvustamine\nVideo materjaliga illustreeritud heaolu hindamine kriteeriumite kaupa linnukasvatusüksuses.\nHindamistulemuste arutelu ja tagasiside jagamine \nLektor Marko Kass\, PhD\, söötmisteadus\nEesti Maaülikool Veterinaarmeditsiini ja loomakasvatuse instituudi söötmisteaduse õppetool\, dotsent \nKoolitus toimub programmi\n“Teadmussiirde pikaajaline programm loomakasvatuse valdkonnas” raames.\nTegevus on rahastatud Eesti maaelu arengukava 2014 – 2020 vahenditest ja on sihtrühmale tasuta. \nSihtrühm \nPõllumajandustoodete tootmise\, töötlemise või turustamisega\, põllumajandusmaa hooldamisega\, põllumajandustoodetest mittepõllumajandustoodete töötlemisega\, sealhulgas toidu valmistamise või töötlemisega\, või metsa majandamisega seotud või nimetatud tegevusega tegelev füüsilisest isikust ettevõtja ja tema töötaja\, eraõigusliku juriidilise isiku osanik\, aktsionär\, liige\, juhtorgani liige ja tema töötaja\, metsa majandamisega tegelev füüsiline isik ja toidu valmistamise või töötlemisega tegelev avalik-õiguslik juriidilise isiku juhtorgani liige või töötaja.\nLisaks valdkonna teenindamisega tegelejad (nt loomasööda\, veterinaarravimite müüjad)\, oma ettevõtte tegevusvaldkonda laiendada soovijad\, põllumajanduslike esindus- ja erialaorganisatsioonide juhatuse liikmed ja töötajad. \nProgrammi eesmärk on tõsta loomakasvatussektoris (v.a. vesiviljelus) tegelevate ettevõtjate ja töötajate teadmiste taset teemadel\, mis on seotud põllumajandusloomade pidamise\, söötmise\, heaolu\, tervise\, taudiennetuse\, aretuse ja geneetiliste ressursside säilitamise\, ohutu ja kvaliteetse sööda\, ning esmase töötlemise kaudu lisandväärtuse loomisega. \nVajalik eelregistreerumine\, seda saate teha: \nhttps://ois.emu.ee/pls/ois/!tere.tulemast?leht=OK.AY.VP&id_ay_programm=11843&id_ay_toimumine=16405&systeemi_seaded=3\,1\,12\,1\, \n  \n 
URL:https://www.pikk.ee/sundmus/sihtruhmale-tasuta-veebikoolitus-pollumajanduslindude-heaolu/
LOCATION:Muu\, Eesti
CATEGORIES:Loomakasvatus
GEO:58.595272;25.0136071
END:VEVENT
END:VCALENDAR