BEGIN:VCALENDAR
VERSION:2.0
PRODID:-//PIKK.ee - ECPv6.13.2.1//NONSGML v1.0//EN
CALSCALE:GREGORIAN
METHOD:PUBLISH
X-WR-CALNAME:PIKK.ee
X-ORIGINAL-URL:https://www.pikk.ee
X-WR-CALDESC:Events for PIKK.ee
REFRESH-INTERVAL;VALUE=DURATION:PT1H
X-Robots-Tag:noindex
X-PUBLISHED-TTL:PT1H
BEGIN:VTIMEZONE
TZID:Europe/Tallinn
BEGIN:DAYLIGHT
TZOFFSETFROM:+0200
TZOFFSETTO:+0300
TZNAME:EEST
DTSTART:20210328T010000
END:DAYLIGHT
BEGIN:STANDARD
TZOFFSETFROM:+0300
TZOFFSETTO:+0200
TZNAME:EET
DTSTART:20211031T010000
END:STANDARD
END:VTIMEZONE
BEGIN:VEVENT
DTSTART;TZID=Europe/Tallinn:20210430T090000
DTEND;TZID=Europe/Tallinn:20210430T120000
DTSTAMP:20260423T140103
CREATED:20210416T213251Z
LAST-MODIFIED:20220707T062514Z
UID:10007895-1619773200-1619784000@www.pikk.ee
SUMMARY:Veebipõhine infopäev: Toiduseaduse muutmise seaduse rakendusaktid
DESCRIPTION:Paindlikumad hügieeninõuded  toidu väiksemahulisel käitlemisel ning  väiketapamajade rajamisel.\n\n\n\n\n\n\n\n\n\n1. aprillil jõustus toiduseaduse muudatus\, millega asendatakse osas toidukäitlemise valdkondades tegevusloakohustus teatamiskohustusega ning antakse võimalus väikese tootmismahuga ettevõttes\, sh väiketapamajas\, kohaldada paindlikumaid hügieeninõudeid. \n\n\n\n\n  \n\n\n\n\n\n\n\n\nInfopäev toimub 9:00 – 12:00 veebikeskkonnas Zoom. Korraldaja: Eesti Põllumajandus-Kaubanduskoda \nKäsitletavad teemad ja esinejad: \nMida toob kaasa jõustunud toiduseaduse muudatus? –  Katrin Kempi\, Maaeluministeeriumi toidu keemilise ja bioloogilise ohutuse büroo peaspetsialist \nLoomse toidu käitlemise järelevalve põhimõtted\, sh tapamajade ja -punktide kontroll  – Kristi Kadak\, Põllumajandus- ja Toiduameti toiduosakonna peaspetsialist \nKäesoleva ja uue ÜPP raames pakutavad investeeringumeetmed väikestele ja keskmise suurusega ettevõtetele – Harry Pässa\, Maaeluministeeriumi põllumajandus- ja toidusektori arengu büroo peaspetsialist \n  \nInfopäevast võivad osa võtta kõik valdkonnas tegutsevad või sellest huvitatud isikud. Osalemine on tasuta\, kui ettevõtte vähese tähtsusega abi määr ei ole ületatud. \nEttevõtte vähese tähtsusega abi (VTA) vaba jääki saab kontrollida veebilehelt https://www.rahandusministeerium.ee/et/riigiabi. Tegemist on vähese tähtsusega abiga\, abisumma on 72 eurot ühe osaleva inimese kohta. \nInfopäev toimub MAK 2014-2020 meetme „Teadmussiirde pikaajaline programm toiduohutuse valdkonnas“ raames\, läbiviimist toetab Euroopa Liit. \nRegistreerumine toiduteave.ee lehel https://toiduteave.ee/infopaev-30-04-2021-veebis-toiduseaduse-muutmise-seaduse-rakendusaktid/
URL:https://www.pikk.ee/sundmus/veebipohine-infopaev-toiduseaduse-muutmise-seaduse-rakendusaktid/
LOCATION:Veebis\, Eesti
CATEGORIES:Toiduainete tootmine
END:VEVENT
BEGIN:VEVENT
DTSTART;TZID=Europe/Tallinn:20210430T100000
DTEND;TZID=Europe/Tallinn:20210430T133000
DTSTAMP:20260423T140103
CREATED:20210415T160053Z
LAST-MODIFIED:20221123T072725Z
UID:10007893-1619776800-1619789400@www.pikk.ee
SUMMARY:Tootjate pindala- ja loomatoetuste infopäev (Hiiumaa)
DESCRIPTION:Infopäev toimub 30. aprill 2021 Zoomis algusega kell 10.00 \nAjakava: \n9.50-10.00 sisenemine Zoomi \n10.00-11.30 ettekanne \n11.30 -11.45 paus \n11.45-13.15 ettekanded\, küsimused ja vastused \n  \n  \nLektorid Jekaterina Näälik\, Lea Toompuu\, Mai Vaher\, Veeve Kaasik. \n  \nRegistreeru üritusele SIIN \nRegistreerimisel kogutud andmeid kasutame vastavalt Maaelu Edendamise Sihtasutuse isikuandmete töötlemise põhimõtetele\, millega on võimalik tutvuda SIIN \nInfopäev toimub Teadmussiirde pikaajalise programmi põllumajanduse\, toidu ja maamajanduse tegevusvaldkonnas (raamleping number 222076) raames ja on osavõtjatele tasuta.
URL:https://www.pikk.ee/sundmus/tootjate-pindala-ja-loomatoetuste-infopaev-hiiumaa/
LOCATION:Veebis\, Eesti
ORGANIZER;CN="Maaelu Edendamise Sihtasutus":MAILTO:angelika.nops@pikk.ee
END:VEVENT
END:VCALENDAR