BEGIN:VCALENDAR
VERSION:2.0
PRODID:-//PIKK.ee - ECPv6.13.2.1//NONSGML v1.0//EN
CALSCALE:GREGORIAN
METHOD:PUBLISH
X-ORIGINAL-URL:https://www.pikk.ee
X-WR-CALDESC:Events for PIKK.ee
REFRESH-INTERVAL;VALUE=DURATION:PT1H
X-Robots-Tag:noindex
X-PUBLISHED-TTL:PT1H
BEGIN:VTIMEZONE
TZID:Europe/Tallinn
BEGIN:DAYLIGHT
TZOFFSETFROM:+0200
TZOFFSETTO:+0300
TZNAME:EEST
DTSTART:20210328T010000
END:DAYLIGHT
BEGIN:STANDARD
TZOFFSETFROM:+0300
TZOFFSETTO:+0200
TZNAME:EET
DTSTART:20211031T010000
END:STANDARD
END:VTIMEZONE
BEGIN:VEVENT
DTSTART;VALUE=DATE:20210510
DTEND;VALUE=DATE:20210515
DTSTAMP:20260424T150804
CREATED:20201216T101633Z
LAST-MODIFIED:20210506T110630Z
UID:10009752-1620604800-1621036799@www.pikk.ee
SUMMARY:Koolitus "Veiste kunstlik seemendamine" I osa
DESCRIPTION:Koolitus toimub 10.-14. mai 2021\nEsialgne ajakava\n10.05.2021 kellaaeg: 10.00-17.00\n11.-13.05.2021: kellaaeg: 8.15-16.15\n14.05.2021 kellaaeg: 8.15-15.15 \nToimumiskoht\nTartu Eesti Maaülikool Kreutzwaldi 62\nCOVID-19 kiirtestimine toimub ruumis A-110\nSiseneda majja saab Kreutzwaldi 62 Tallinnapoolsest otsast (Zoomeedikumi bussipeatuse poolt) ja raudteepoolsest tiivast. \nLoengud hakkavad toimuma ruumis A-107\nPraktika toimub farmides\, täpsem info õppejõult. \nKoolitus koosneb kahest osast ja tunnistuse saamise eelduseks on mõlema osa läbimine.\nKoolituse teine osa toimub 17.-21.mai 2021 \nKoolituse sihtrühm: \n\n\n\nPõllumajandustoodete tootmise\, töötlemise või turustamisega\, põllumajandusmaa hooldamisega\, põllumajandustoodetest mittepõllumajandustoodete töötlemisega\, sealhulgas toidu valmistamise või töötlemisega\, või metsa majandamisega seotud või nimetatud tegevusega tegelev füüsilisest isikust ettevõtja ja tema töötaja\, eraõigusliku juriidilise isiku osanik\, aktsionär\, liige\, juhtorgani liige ja tema töötaja\, metsa majandamisega tegelev füüsiline isik ja toidu valmistamise või töötlemisega tegelev avalik-õiguslik juriidilise isiku juhtorgani liige või töötaja.\nLisaks valdkonna teenindamisega tegelejad (nt loomasööda\, veterinaarravimite müüjad)\, oma ettevõtte tegevusvaldkonda laiendada soovijad\, põllumajanduslike esindus- ja erialaorganisatsioonide juhatuse liikmed ja töötajad.\n\n\n\nSisu: \n\n\n\nSeemenduse ajalugu ja tähtsus\nEjakulaadi hindamine\nVälistegurite mõju spermale\nSperma lahjendamine sügavkülmutamiseks\nSperma sügavkülmutamine\, säilitamine ja hindamine\nLehma suguorganite anatoomia\, füsioloogia ja innatsükli regulatsioon\nSuguorganite ultrasonograafia\nSeemendusviisid ja meetodid\nInna tunnused ja inna avastamine\nInna stimuleerimine ja sünkroniseerimine\nOptimaalne seemendusaeg inna ajal ja pärast poegimist\nSeemendamisel tehtavaid vigu\nSuguselekteeritud sperma\, seemendamine suguselekteeritud spermaga\nAhtrus ja sigimatus\nEmaka kateteriseerimine\nSagedasemad madala tiinestumise põhjused\nTiinuse diagnoosimine\nKunstliku seemenduse organisatsioon\nSeemendustehniku töö aspektid\nSuguorganite rektaalne uurimine\nTiinuse rektaalne diagnoosimine\nLehmade söötmine ja sigimine\nEmakapõletikud jm poegimisjärgsed haigused\n\n\n\n  \n\n\n\nKoolitus toimub programmi “Teadmussiirde pikaajaline programm loomakasvatuse valdkonnas” raames ja on sihtrühmale tasuta. Koolitus on rahastatud Eesti maaelu arengukava 2014 – 2020 vahenditest.\n\n\n\nKohtade arv on piiratud. Osalemissoovi korral on kindlasti vajalik eelnevalt registreerida:\nhttps://ois.emu.ee/pls/ois/!tere.tulemast?leht=OK.AY.VP&id_ay_programm=11742&id_ay_toimumine=16185&systeemi_seaded=3\,1\,12\,1\, \nKoolitust korraldab \nEesti Maaülikooli avatud ülikool​\nKreutzwaldi 56/1 (III korrus\, ruumid 303-306)\,\n51006 Tartu\ntel 731 3174\, 731 3175\, 731 3275\, 5344 1844\ne-post: avayl@emu.ee
URL:https://www.pikk.ee/sundmus/koolitus-veiste-kunstlik-seemendamine-i-osa/
LOCATION:Muu\, Eesti
CATEGORIES:Loomakasvatus
GEO:58.595272;25.0136071
END:VEVENT
BEGIN:VEVENT
DTSTART;VALUE=DATE:20210513
DTEND;VALUE=DATE:20210514
DTSTAMP:20260424T150804
CREATED:20210316T074810Z
LAST-MODIFIED:20210316T082613Z
UID:10007870-1620864000-1620950399@www.pikk.ee
SUMMARY:TOIDUTÖÖSTUSE SEADMED- IDEEST NUTIKA LAHENDUSENI
DESCRIPTION:Täiskasvanute täienduskoolituse kursuste riikliku koolitustellimuse 2021. aastaks raames toimuv TASUTA koolitus tootmisettevõtete töötajatele ja FIE-dele. \nKoolitus toetab erinevates majandussektorites uute tehnoloogiate kasutuselevõttu\, soodustab tarkade tehnoloogiakasutajate ja -tellijate ning arenduste juhtide kujunemist\, aitab ettevõtetel ja organisatsioonidel digitaliseerida oma tooteid\, teenuseid ja äriprotsesse.\nVäikeettevõtjatel on võimalik taotleda põllumajandussaaduste töötlemise üksuste rajamiseks investeeringutoetusi. Sageli jagatakse investeeringud mitmete aastate peale\, kuna ühe vooru maksimaalne toetussumma ei võimalda kogu lahendust korraga soetada. Nii tekivad olukorrad\, kus soetatakse seadmeid\, mis ei ühildu ning ei võimalda optimaalseid\, efektiivseid tootmislahendusi. Sageli jääb läbi mõtlemata ka vajadus ja arenguperspektiiv. \nKoolitus annab alustavale või laienevale toidutootjast ettevõtjale esmased teadmised uute tehnoloogiate kasutuselevõtuks\, et osata paremini kavandada uusi investeeringuid. \nTäpsem info ja registreerumine SIIN \nKoolitus on kavandatud toimuma auditoorselt kontaktõppes.\nVajadusel teeme esimese ja teise õppepäeva maaülikooli videosilla vahendusel BigBlueButton (BBB) keskkonnas. \n  \nKoolitus toimub ülikoolides ja rakenduskõrgkoolides toimuvate täiskasvanute täienduskoolituse kursuste riikliku koolitustellimuse 2021. aastaks raames ning tegevust rahastatakse ESF programmist “Täiskasvanuhariduse edendamine ja õppimisvõimaluste avardamine”. \n  \nKoolituse korraldaja:\nEesti Maaülikooli avatud ülikool\nFr. R. Kreutzwaldi 56/1\n51006 Tartu\,\ntel 731 3275\ne-post: avayl@emu.ee\nhttp://avatudylikool.emu.ee/
URL:https://www.pikk.ee/sundmus/toidutoostuse-seadmed-ideest-nutika-lahenduseni/
LOCATION:Tartu\, Eesti
CATEGORIES:Maaettevõtlus,Toiduainete tootmine
ORGANIZER;CN="Eesti Maa%C3%BClikooli avatud %C3%BClikool":MAILTO:avayl@emu.ee
END:VEVENT
BEGIN:VEVENT
DTSTART;TZID=Europe/Tallinn:20210513T093000
DTEND;TZID=Europe/Tallinn:20210513T170000
DTSTAMP:20260424T150804
CREATED:20210426T041008Z
LAST-MODIFIED:20220208T125338Z
UID:10009838-1620898200-1620925200@www.pikk.ee
SUMMARY:EPKK ARETUSKONVERENTS 2021
DESCRIPTION:Eesti põllumajandusloomade aretus on väga pikkade traditsioonidega. Selle kinnituseks on meie piimakarja kõrged produktiivsusnäitajad\, kus piimatoodangult lehma kohta oleme Euroopas teisel kohal. Lisaks meie tõukarja tuntus välisriikides\, mis võimaldab teostada elusveiste eksporti. Lihaveisekasvatussektoris oleme teinud viimastel aastatel olulise arenguhüppe – üha rohkem lihaveised kaasatakse jõudluskontrolli\, mis on eduka aretustöö eeldus. Oleme alustanud Eesti veiste genoomtestimisega\, mille abil on võimalik meie parimaid loomi võrrelda teiste riikide populatsioonidega.\nLambakasvatuse aretustöös toimub meie kohalike tõugude ajalooliselt oluliste tunnuste hoidmine ning täiustamine läbi välisriikidest aretuskomponentide sissetoomise\, et kaasaegsest geneetilisest materjalist osa saada. \nAretuskonverents on suunatud uutele aretustunnustele ja trendidele\, mida lisaks põllumajandusloomade produktiivsusnäitajatele silmas pidada ning millega on võimalik toetada meie karjakasvatajate aretusvalikuid. See on hea võimalus saada ülevaade välisriikide ekspertidelt\, millises suunas maailma aretustöö liigub.\nEsmakordselt on aretuskonverentsile kaasatud nii veise- kui lambakasvatust puudutavad teemad. \n  \nToimumise aeg ja koht: 13. mai 2021\, veebikonverents \nKonverentsi modereerib ETKÜ juhatuse esimees Tanel-Taavi Bulitko \n  \nPÄEVAKAVA \n09:30 – 09:45 – konverentsi avamine ja tervitused \n\nTanel-Taavi Bulitko\nMaaeluminister Urmas Kruuse /kinnitamisel/\n\nI SESSIOON \n09:45 – 10:30 – Kuidas parandada geneetikaga piimalehmade söödaefektiivsust\, säästetud sööda hulka ja tootlikku iga? – Anneke Talsma\, ALTA GENETICS\, INC (Holland) \n10:30 – 11:30 – Taastootmise korraldamine piimaveisekasvatuses (videosalvestus) – Paulo Carvalho\, St Genetics (USA) \n11:30 – 12:30 – Embrüote kasutamine parimate emasloomade ja tipp-pullide geneetilise potentsiaali realiseerimiseks – Dany Pierre Rondeau (Kanada) \n– sirutuspaus \nII SESSIOON \n12:40 – 13:40 – INTERBEEF – Kontseptsioonist reaalsuseni ja kuhu edasi? Osa 1– Osa 2 –  Thierry Pabiou\, ICBF (Iirimaa) \n13:40 – 14:40 – Lihaveiste geneetilise ja genoomhindamise programmid  Iirimaa näitel– Andrew  Cromie\, ICBF (Iirimaa) \n14:40 – 15:15 – Interbeef ja lihaveiste geneetiline hindamine Eestis – Mart Uba\, Eesti Põllumajandusloomade Jõudluskontrolli AS \n– sirutuspaus \nIII SESSIOON \n15:30 – 16:30 – Eesti valgepealise ja eesti tumedapealise lambatõu komponent- ja parandajatõugude jõudlusnäitajad ja nende kasutamise mõju eesti valgepealisele ja eesti tumedapealisele lambatõule –  Vallo Seera\, Eesti Lamba- ja Kitsekasvatajate Selts \n16:30 – 16:40 – Konverentsi kokkuvõte \n  \nNB! Registreerige osalemissoov kuni 12. maini SIIN. \n  \nKonverents on tõlkega ja osalejatele TASUTA.  \n  \nKonverents toimub Maaeluministeeriumi tellimusel MAK 2014-2020 meetme „Teadmussiirde pikaajaline programm loomakasvatuse tegevusvaldkonna II raames; Rahastamisallikas: riigieelarve\, Euroopa Maaelu Põllumajandusfond (EAFRD). \n  \nLisainformatsioon: EPKK projektijuht Maire Vimb – 600 9349\, 50 86 664 või maire@epkk.ee
URL:https://www.pikk.ee/sundmus/epkk-aretuskonverents-2021/
LOCATION:Veebis\, Eesti
END:VEVENT
END:VCALENDAR