BEGIN:VCALENDAR
VERSION:2.0
PRODID:-//PIKK.ee - ECPv6.13.2.1//NONSGML v1.0//EN
CALSCALE:GREGORIAN
METHOD:PUBLISH
X-WR-CALNAME:PIKK.ee
X-ORIGINAL-URL:https://www.pikk.ee
X-WR-CALDESC:Events for PIKK.ee
REFRESH-INTERVAL;VALUE=DURATION:PT1H
X-Robots-Tag:noindex
X-PUBLISHED-TTL:PT1H
BEGIN:VTIMEZONE
TZID:Europe/Tallinn
BEGIN:DAYLIGHT
TZOFFSETFROM:+0200
TZOFFSETTO:+0300
TZNAME:EEST
DTSTART:20210328T010000
END:DAYLIGHT
BEGIN:STANDARD
TZOFFSETFROM:+0300
TZOFFSETTO:+0200
TZNAME:EET
DTSTART:20211031T010000
END:STANDARD
END:VTIMEZONE
BEGIN:VEVENT
DTSTART;TZID=Europe/Tallinn:20210809T100000
DTEND;TZID=Europe/Tallinn:20210809T140000
DTSTAMP:20260425T182408
CREATED:20210713T131305Z
LAST-MODIFIED:20210713T131305Z
UID:10009878-1628503200-1628517600@www.pikk.ee
SUMMARY:Uute perspektiivsete haljastuse konteinertaimede esitluspäev
DESCRIPTION:Aeg: 9. august 2021 kell 10.00 – 14.00\nKoht: kogunemine ja ettekanded Kanepi Seltsimajas (Weizenbergi 31\, Kanepi alevik\, Kanepi vald\, Põlvamaa) ning uute sortide tutvustamine OÜ Kanepi Aiandis (Kooli 19\, Kanepi alevik\, Põlvamaa). \nPäevakava\n9:45 Kogunemine\n10:00 Boliivia begoonia ja kõrreliste üldtutvustus – Merilin Saksing\, OÜ Kanepi Aiand\, peaagronoom\n10:45 Biostimulantide kasutamine puispetuunial ja aed-raudürdil – lühiülevaade – Leila Mainla\, EMÜ\, aianduse õppetool\, dotsent\n11:30 Kohvipaus\n11:45 Konteinerhaljastuses suunad – Reti Randoja-Muts\, Olustvere Teenindus- ja Maamajanduskool\, aianduse õpetaja\, praktik\n12:30 Sõit OÜ Kanepi Aiandisse\n12:45 – 14:00 Uute boliivia begoonia sortide ja konteinerhaljastuses kasutatavate kõrreliste tutvustus ja arutelu – Margus Vahtramäe\, OÜ Kanepi Aiand\, tegevjuht \nEsitluspäev on tasuta\, osalemiseks on vajalik eelregistreerumine hiljemalt 6.08.2021 siin: https://bit.ly/kanepi21 \nKohtade arv on piiratud\, registreerumine lõpetatakse kohtade täitumisel. \nLisainfo: Leila Mainla\, Eesti Maaülikool\, aianduse õppetool\ne-post: leila.mainla@emu.ee \nEsitluspäev toimub MAK 2014-2020 meetme „Teadmussiirde pikaajaline programm põllumajanduse\, toidu ja maamajanduse tegevusvaldkonnas“ aianduse valdkonna raames; Rahastamisallikas: Euroopa Maaelu Põllumajandusfond (EAFRD).
URL:https://www.pikk.ee/sundmus/uute-perspektiivsete-haljastuse-konteinertaimede-esitluspaev-4/
LOCATION:Põlvamaa\, Põlvamaa\, Eesti
CATEGORIES:Aiandus
GEO:58.1160622;27.2066394
END:VEVENT
BEGIN:VEVENT
DTSTART;TZID=Europe/Tallinn:20210809T110000
DTEND;TZID=Europe/Tallinn:20210809T160000
DTSTAMP:20260425T182408
CREATED:20210728T065222Z
LAST-MODIFIED:20210728T065222Z
UID:10007942-1628506800-1628524800@www.pikk.ee
SUMMARY:Mahepõllumajanduslik lambakasvatus
DESCRIPTION:Infopäev: mahepõllumajanduslik lambakasvatus \nAeg: 9. august 2021 kell 11-16 \nKoht: Sireli talu\, Kose vald\, Harjumaa \nKorraldaja: Mahepõllumajanduse Koostöökogu koostöös Ökoloogiliste Tehnoloogiate Keskusega \n  \nInfopäeva teemad: \n* Lammaste kokkuajamine karjakoertega\, karja käsitlemine loomade kokkuajamisel \n* Statsionaarsed kogumisaiad\, eelised ja puudused võrreldes mobiilsete kogumisaegadega. Statsionaarsete ja mobiilsete kogumisaedade koos kasutamine \n* Portsjonkarjatamine elektriliste võrgust karjaaedadega\, ratsionaalsed töövõtted karjaaia kokku korjamiseks ja paigaldamiseks \n* Lammaste pügamine \nKoolitaja: Aadam Kaivo \nInfopäev on tasuta. Osalemiseks on kindlasti vajalik eelregistreerumine hiljemalt 1.08 siin: https://forms.gle/vXuHQfDkPWBjs1GD8 \nKohtade arv on piiratud\, registreerimine lõpetatakse kohtade täitumisel. \n\nInfopäev läheb arvesse mahetoetuse kohustusliku koolitusena (6 ak tundi). \nInfopäev toimub MAK 2014-2020 meetme „Teadmussiirde pikaajaline programm põllumajanduse\, toidu ja maamajanduse tegevusvaldkonnas“ mahemajanduse valdkonna raames\, toetab Euroopa Liit.
URL:https://www.pikk.ee/sundmus/mahepollumajanduslik-lambakasvatus/
LOCATION:Harjumaa\, Harjumaa\, Eesti
CATEGORIES:Loomakasvatus
END:VEVENT
END:VCALENDAR