BEGIN:VCALENDAR
VERSION:2.0
PRODID:-//PIKK.ee - ECPv6.13.2.1//NONSGML v1.0//EN
CALSCALE:GREGORIAN
METHOD:PUBLISH
X-WR-CALNAME:PIKK.ee
X-ORIGINAL-URL:https://www.pikk.ee
X-WR-CALDESC:Events for PIKK.ee
REFRESH-INTERVAL;VALUE=DURATION:PT1H
X-Robots-Tag:noindex
X-PUBLISHED-TTL:PT1H
BEGIN:VTIMEZONE
TZID:Europe/Tallinn
BEGIN:DAYLIGHT
TZOFFSETFROM:+0200
TZOFFSETTO:+0300
TZNAME:EEST
DTSTART:20210328T010000
END:DAYLIGHT
BEGIN:STANDARD
TZOFFSETFROM:+0300
TZOFFSETTO:+0200
TZNAME:EET
DTSTART:20211031T010000
END:STANDARD
END:VTIMEZONE
BEGIN:VEVENT
DTSTART;TZID=Europe/Tallinn:20211221T100000
DTEND;TZID=Europe/Tallinn:20211221T150000
DTSTAMP:20260420T063908
CREATED:20210927T084540Z
LAST-MODIFIED:20211223T074622Z
UID:10009949-1640080800-1640098800@www.pikk.ee
SUMMARY:EPKK infopäev „Veekaitse kohustused ja vajadused“
DESCRIPTION:Eesti Põllumajandus-Kaubanduskoja infopäev \n„Veekaitse kohustused ja vajadused“  \nAeg: 21. detsember 2021 \nKoht: Veebikeskkond Zoom \n  \nPÄEVAKAVA \nSissejuhatus\n10:05-10:30 Veekvaliteedi ja põllumajanduse vahelised seosed – miks on vaja sekkuda? – Keskkonnaministeerium\, Ann Riisenberg \nI osa\n10:30-11:00 NTA pinnaveekogumite seisund – Keskkonnaamet\, Milvi Aun\n11:00-11:40 NTA põhjaveekvaliteedi seire – nitraadid ja pestitsiidide jäägid – Eesti Keskkonnauuringute Keskus\, Ülle Leisk\n11:40-12:30 PMK mulla- ja veeseired – Põllumajandusuuringute Keskus\, Evelin Pihlap \n12:30-13:00 Lõunapaus \nII osa\n13:00-13:30 Toitainete liikumine mullas\, toitainete bilanss – Eesti Maaülikool\, Alar Astover\n13:30-14:00 Mullasensorid toitainete liikumise analüüsiks – Paul-Tech\, Teet Liiv \n14:00-14:15 Sirutuspaus \nIII osa\n14:15-15:00 Veekaitsemeetmed põllumajanduses – agronoomi vaade – MES\, Eva Tuusis\n15:00-15:30 ÜPP planeeritud sekkumised – Maaeluministeerium\, Eike Lepmets \n  \nInfopäevad on osalejatele tasuta ja lähevad arvesse piirkondliku veekaitsetoetuse kohustusliku koolitusena. \nInfopäev toimub MAK 2014-2020 meetme „Teadmussiirde pikaajaline programm põllumajanduse\, toidu ja maamajanduse tegevusvaldkonnas“ raames; Rahastamisallikas: Euroopa Maaelu Põllumajandusfond (EAFRD). \nLisainformatsioon: EPKK projektijuht Maire Vimb – 50 86 664 või maire@epkk.ee
URL:https://www.pikk.ee/sundmus/epkk-infopaev-veekaitse-kohustused-ja-vajadused/
LOCATION:Eesti
CATEGORIES:Keskkond
END:VEVENT
END:VCALENDAR