BEGIN:VCALENDAR
VERSION:2.0
PRODID:-//PIKK.ee - ECPv6.13.2.1//NONSGML v1.0//EN
CALSCALE:GREGORIAN
METHOD:PUBLISH
X-WR-CALNAME:PIKK.ee
X-ORIGINAL-URL:https://www.pikk.ee
X-WR-CALDESC:Events for PIKK.ee
REFRESH-INTERVAL;VALUE=DURATION:PT1H
X-Robots-Tag:noindex
X-PUBLISHED-TTL:PT1H
BEGIN:VTIMEZONE
TZID:Europe/Tallinn
BEGIN:DAYLIGHT
TZOFFSETFROM:+0200
TZOFFSETTO:+0300
TZNAME:EEST
DTSTART:20220327T010000
END:DAYLIGHT
BEGIN:STANDARD
TZOFFSETFROM:+0300
TZOFFSETTO:+0200
TZNAME:EET
DTSTART:20221030T010000
END:STANDARD
END:VTIMEZONE
BEGIN:VEVENT
DTSTART;TZID=Europe/Tallinn:20220920T110000
DTEND;TZID=Europe/Tallinn:20220920T160000
DTSTAMP:20260421T133446
CREATED:20220907T073935Z
LAST-MODIFIED:20220907T142121Z
UID:10010322-1663671600-1663689600@www.pikk.ee
SUMMARY:Ökosüsteemi teenused põllumajanduses
DESCRIPTION:Mahepõllumajanduse Koostöökogu korraldab 20. septembril 2022 infopäeva ettevõtte külastusega teemal Ökosüsteemi teenused põllumajanduses. \nInfopäev algab kell 11 Otepääl (Karupesa hotelli seminariruum) ja jätkub pärast lõunat mitme ettevõtte (ca 7-10 km Otepäält) põldude külastamisega. Infopäeval tutvustatakse ka järgmisest aastast ÜPP strateegiakava raames rakendada kavandatavat toetusmeedet Ökosüsteemiteenuste säilitamine põllumaal. \nLektoriks on Eve Veromann (Eesti Maaülikool). \nOsalemiseks on kindlasti vajalik eelregistreerumine hiljemalt 11. septembriks siin: https://forms.gle/3g2ftdb8QBYRs8NV9. Kohtade arv on piiratud\, registreerimine lõpetatakse kohtade täitumisel enne tähtaega. \nInfopäev läheb arvesse mahetoetuse kohustusliku koolitusena (6 tundi). \nLisainfo: maheteave@gmail.com \nInfopäev toimub MAK 2014-2020 meetme „Teadmussiirde pikaajaline programm põllumajanduse\, toidu ja maamajanduse tegevusvaldkonnas“ raames\, toetab Euroopa Liit.
URL:https://www.pikk.ee/sundmus/okosusteemi-teenused-pollumajanduses/
LOCATION:Valgamaa\, Eesti
CATEGORIES:Keskkond
END:VEVENT
END:VCALENDAR