BEGIN:VCALENDAR
VERSION:2.0
PRODID:-//PIKK.ee - ECPv6.13.2.1//NONSGML v1.0//EN
CALSCALE:GREGORIAN
METHOD:PUBLISH
X-WR-CALNAME:PIKK.ee
X-ORIGINAL-URL:https://www.pikk.ee
X-WR-CALDESC:Events for PIKK.ee
REFRESH-INTERVAL;VALUE=DURATION:PT1H
X-Robots-Tag:noindex
X-PUBLISHED-TTL:PT1H
BEGIN:VTIMEZONE
TZID:Europe/Tallinn
BEGIN:DAYLIGHT
TZOFFSETFROM:+0200
TZOFFSETTO:+0300
TZNAME:EEST
DTSTART:20230326T010000
END:DAYLIGHT
BEGIN:STANDARD
TZOFFSETFROM:+0300
TZOFFSETTO:+0200
TZNAME:EET
DTSTART:20231029T010000
END:STANDARD
END:VTIMEZONE
BEGIN:VEVENT
DTSTART;VALUE=DATE:20230202
DTEND;VALUE=DATE:20230203
DTSTAMP:20260423T052049
CREATED:20230118T065321Z
LAST-MODIFIED:20230118T065321Z
UID:10010485-1675296000-1675382399@www.pikk.ee
SUMMARY:Scandagra Eesti Talvekonverents
DESCRIPTION:Scandagra Talvekonverents toimub 2.veebruaril 2023 Estonia Resort Hotel & Spa konverentsikeskuses ning konvrentsi läbivaks teemaks on “Stabiilsus muutuvas maailmas”. \nPäeva juhib Raul Soodla! \nREGISTREERI TALVEKONVERENTSILE SIIN \nKogunemine algab 2.veebruari hommikul konverentsikeskuse fuajees kell 9:30\, et end registreerida ning kuuma kohvi saatel mõnusalt sisse seada. Kell 10:00 suundume suurde saali\, et alustada konverentsi Avasessiooniga\, kus on oma ettekandeid tegemas mitmed külalisesinejad põnevate teemadega. Kell 12:30 saab jalga sirutada energiapausil\, pärast mida toimub jagunemine kahte erinevasse saali – suures saalis algab kell 12:30 Taimekasvatuse sessioon ning saalis nr. 3 Loomakasvatuse sessioon. Pärast sessioonide lõppu kell 14:30 on kõik konverentsil osalejad palutud Estona Resort Hotel & Spa restorani Noot\, et saada osa rikkalikust lõunasöögist\, mille saatel üheskoos äsjakuuldud teemade üle arutleda. \nKONVERENTSI PÄEVAKAVA: \n9:30-10:00 Kogunemine \n10-00-12:00 Avasessioon \n12:00-12:30 Energiapaus ja jagunemine kahte saali \n12:30-14:30 Taimekasvatuse sessioon (suur saal) \n12:30-14:30 Loomakasvatuse sessioon (3. saal)
URL:https://www.pikk.ee/sundmus/scandagra-eesti-talvekonverents-2/
LOCATION:Pärnumaa\, Pärnumaa\, Eesti
END:VEVENT
BEGIN:VEVENT
DTSTART;TZID=Europe/Tallinn:20230202T093000
DTEND;TZID=Europe/Tallinn:20230202T133000
DTSTAMP:20260423T052049
CREATED:20230112T074804Z
LAST-MODIFIED:20230203T070151Z
UID:10010464-1675330200-1675344600@www.pikk.ee
SUMMARY:Infopäev TINGIMUSLIKKUSE NÕUDED- UUE PERIOODI TOETUSE SAAMISE NÕUTELE VASTAVUS
DESCRIPTION:Infopäevale registreerimine SIIN \nInfopäev toimub veebis Zoomi vahendusel. Registreerimine kuni eelneva päeva kella 17.00 või kuni grupi täitumiseni. Sisenemise link saadetakse vahetult enne infopäeva algust meilile. \n  \nInfopäeval käsitletakse tingimuslikkuse nõudeid\, mis uuel  perioodil  kohustuslikud  täitmiseks kõigile põllu- ja loomatoetuse saajatele. Suurem tähelepanu   muudatustele võrreldes eelmise perioodiga. \nPäevakava ja teema: \n10.00-11.30 Maa heas põllumajandus- ja keskkonnaseisundis hoidmise ( HPK) nõuded : püsirohumaa säilitamine\, talvine taimkate\, viljavaheldus\, puhverribad\, ökoalad \n11.30-11.45 Paus \n11.45-13.15  Kohustuslikud majandamisnõuded ( KM Nõuded): veekaitse\, nitraadireostuse vältimine\, looduskaitse\, toidu- ja söödaohutus\, loomade heaolu \nLektor Vaike Nõu- konsulent  nõuetele vastavuse\, toetuste taotlemise\, tööohutuse ja töötervishoiu ja veisekasvatuse valdkonnas. \n  \nEttekanne \nInfopäev on osavõtjatele tasuta. \nKorraldaja Maaelu Edendamise Sihtasutus \nInfopäev toimub MAK 2014-2020 “Teadmussiirde ja teavituse toetuse maakondliku ulatusega tegevuste” meetme raames\, tegevust toetab Euroopa Liit \n  \n  \n 
URL:https://www.pikk.ee/sundmus/infopaev-tingimuslikkuse-nouded-uue-perioodi-toetuse-saamise-noutele-vastavus/
LOCATION:Veebis\, Eesti
CATEGORIES:Keskkond,Loomakasvatus
ORGANIZER;CN="Maaelu Edendamise Sihtasutus":MAILTO:angelika.nops@pikk.ee
END:VEVENT
END:VCALENDAR