BEGIN:VCALENDAR
VERSION:2.0
PRODID:-//PIKK.ee - ECPv6.13.2.1//NONSGML v1.0//EN
CALSCALE:GREGORIAN
METHOD:PUBLISH
X-ORIGINAL-URL:https://www.pikk.ee
X-WR-CALDESC:Events for PIKK.ee
REFRESH-INTERVAL;VALUE=DURATION:PT1H
X-Robots-Tag:noindex
X-PUBLISHED-TTL:PT1H
BEGIN:VTIMEZONE
TZID:Europe/Tallinn
BEGIN:DAYLIGHT
TZOFFSETFROM:+0200
TZOFFSETTO:+0300
TZNAME:EEST
DTSTART:20230326T010000
END:DAYLIGHT
BEGIN:STANDARD
TZOFFSETFROM:+0300
TZOFFSETTO:+0200
TZNAME:EET
DTSTART:20231029T010000
END:STANDARD
END:VTIMEZONE
BEGIN:VEVENT
DTSTART;VALUE=DATE:20230301
DTEND;VALUE=DATE:20230303
DTSTAMP:20260424T080421
CREATED:20221122T121351Z
LAST-MODIFIED:20240813T130809Z
UID:10010423-1677628800-1677801599@www.pikk.ee
SUMMARY:Konverents "Terve loom ja tervislik toit 2023"
DESCRIPTION:Korraldaja: Eesti Maaülikool\, VLI \nAsukoht: EMÜ peahoone\, asukohaga Kreutzwaldi 1\, Tartu \nKonverentsi link  https://terveloomjatervisliktoit.ee/ \n  \n\n\n\n\nTERVE LOOM JA TERVISLIK TOIT  \nTervislik toit\nKOLMAPÄEV 1. märts \n\n\n\n kõnejuht: Katrin Laikoja\n\n\n09.00-10.00\nRegistreerimine\, tervituskohv\n\n\n10.00-10.05\nAvasõnad\, tervitus Eesti Maaülikooli rektorilt\n\n\n10.05-10.35\nWaste2Taste: tööstuse kõrvalsaaduste väärtustav taaskasutus kõrgema lisandväärtusega toodeteks – Petras Rimantas Venskutonis (Kaunase Tehnikaülikool\, Leedu)\n\n\n10.35-11.00\nEMÜ toiduhügieeni ja –ohutuse valdkonna teadustöö ning koostöövõimalused ettevõtetega – Mati Roasto (EMÜ)\n\n\n11.00-11.30\nPiimatootmise kõrvalsaaduste väärindamisest – Ivi Jõudu (EMÜ)\n\n\n11.30-12.00\nTeema täpsustamisel  – Toivo Träss  (AS Vegetein)\n\n\n12.00-13.00\nLÕUNA Stendiettekannete tutvustus\n\n\nkõnejuht: Ivi Jõudu\n\n\n13.00-13.20\nAiandustootmises tekkivate mahlapressjääkide kasutamine liha- ja kalatoodete väärindamisel – Reelika Rätsep (EMÜ)\n\n\n13.20-13.40\nPihlaka pressjäägi kasutamine lihapallides – Viive Sarv (EMÜ)\n\n\n13.40-14.00\nToore liha säilitamisel tekkivate protsesside hindamine – Alar Sünter (EMÜ)\n\n\n14.00-14.20\nUuenduslikud kaerajoogi tehnoloogiad ja nende panus tervislike toiduainete tootmisesse – Monica Nabil Gayed Ibrahim (EMÜ)\n\n\n14.20-14.40\nPatogeenidega saastumise algpõhjuste analüüs – Mihkel Mäesaar (EMÜ)\n\n\n14.40-15.10\nKOHVIPAUS\n\n\n15.10-15.40\nTaimedes sisalduvate mürkainete kandumine inimeseni loomsete toitude kaudu – Tõnu Püssa (EMÜ)\n\n\n15.40-16.10\nSuundumused toiduohutuse juhtimissüsteemides – Katrin Laikoja (EMÜ)\n\n\n16.10-16.40\nLiivimaa Lihaveise koostöökogemustest Eesti Maaülikooli teadlastega innovatsiooniklastri projektides – Airi Külvet (Liivimaa Lihaveis MTÜ)\n\n\n\nPÄEVA LÕPETAMINE\n\n\n\n  \n  \n  \n  \n\n\n\n\nTERVE LOOM JA TERVISLIK TOIT  \nTervislik toit\nNELJAPÄEV 2. märts \n\n\n\n kõnejuht: Priit Päkk\n\n\n09.30-10.00\nRegistreerimine\, tervituskohv\n\n\n10.00-10.30\nSomaatiliste rakku koguarvu ja erinevat tüüpi somaatiliste rakkude suhtarvu kombinatsioonide kasutamine piimakarja haldamisel – Kaivo Ilves (EMÜ)\n\n\n10.30-11.00\nÜldine põletikuvastus vastsündinud mäletsejatel – kohanemine emakavälise keskkonnaga? –  Marina Koch (EMÜ)\n\n\n11.00-11.30\nVasikate krüptosporidioos ja selle ravi halofuginoon laktaadiga – Elisabeth Dorbek-Kolin (EMÜ)\n\n\n11.30-12.00\nNahaaluse temperatuuri mõõtva mikrokiibist – Tarmo Niine (EMÜ)\n\n\n12.00-13.00\nLÕUNA Stendiettekannete tutvustus\n\n\nkõnejuht: Ragnar Leming\n\n\n13.00-13.10\nParimate postrite üleandmine\n\n\n13.10-13:30\nNutika tehnoloogia kasutamine loomade heaolu parandamiseks – Clive Phillips (Curtin University\, Austraalia)\n\n\n13:30-13.50\nAstelpaju kõrvalsaadused söödalisandina loomakasvatuses – Kerttu Keir (EMÜ)\n\n\n13.50-14.10\nKärbsevaklade söötmise mõju kesikute juurdekasvule – Varpo Vare (EMÜ)\n\n\n14.30-15.00\nKOHVIPAUS\n\n\n15.00-15.20\nErinevate söödalisandite mõju piimalehma söömusele\, toodangule ja ainevahetusele üleminekuperioodil – Priit Karis (EMÜ)\n\n\n15.20-15.40\nLisandväärtuse andmine kohalike tõugude piimale – Liis Luter (EMÜ)\n\n\n15.40\nPÄEVA LÕPETAMINE\n\n\n\nRegistreeri siin: https://terveloomjatervisliktoit.ee/registreerimisvorm/
URL:https://www.pikk.ee/sundmus/konverents-terve-loom-ja-tervislik-toit-2023/
LOCATION:Tartu\, Eesti
CATEGORIES:Loomakasvatus
ORGANIZER;CN="Eesti Maa%C3%BClikooli Veterinaarmeditsiini ja loomakasvatuse Instituut":MAILTO:vl@emu.ee
END:VEVENT
END:VCALENDAR