BEGIN:VCALENDAR
VERSION:2.0
PRODID:-//PIKK.ee - ECPv6.13.2.1//NONSGML v1.0//EN
CALSCALE:GREGORIAN
METHOD:PUBLISH
X-WR-CALNAME:PIKK.ee
X-ORIGINAL-URL:https://www.pikk.ee
X-WR-CALDESC:Events for PIKK.ee
REFRESH-INTERVAL;VALUE=DURATION:PT1H
X-Robots-Tag:noindex
X-PUBLISHED-TTL:PT1H
BEGIN:VTIMEZONE
TZID:Europe/Tallinn
BEGIN:DAYLIGHT
TZOFFSETFROM:+0200
TZOFFSETTO:+0300
TZNAME:EEST
DTSTART:20230326T010000
END:DAYLIGHT
BEGIN:STANDARD
TZOFFSETFROM:+0300
TZOFFSETTO:+0200
TZNAME:EET
DTSTART:20231029T010000
END:STANDARD
END:VTIMEZONE
BEGIN:VEVENT
DTSTART;VALUE=DATE:20230927
DTEND;VALUE=DATE:20230929
DTSTAMP:20260420T091419
CREATED:20230920T170546Z
LAST-MODIFIED:20230920T170546Z
UID:10010809-1695772800-1695945599@www.pikk.ee
SUMMARY:Mahetaimekasvatuse õppereis
DESCRIPTION:Mahepõllumajanduse Koostöökogu korraldab 27.-28. septembril 2023 (väljasõit 26.09 õhtul) kahepäevase mahetaimekasvatuse õppereisi Leetu.  \nÕppereisi käigus külastatakse AUGA grupi ettevõtteid\, tutvutakse AUGA grupi tegevusega üldisemalt ning toimuvad agrotehnoloogia tutvustused erinevates tootmisüksustes. \nOsalemiseks on kindlasti vajalik eelregistreerumine hiljemalt 14. septembriks e-maili maheteave@gmail.com teel. Kohtade arv on piiratud\, registreerimine lõpetatakse kohtade täitumisel enne tähtaega. \nÕppereisil osaleja omaosalus on 300 eurot\, mis tuleb maksta vähemalt 8 päeva enne reisi toimumist. \nLisainfo: maheteave@gmail.com \nÕppereis toimub MAK 2014-2020 meetme „Teadmussiirde pikaajaline programm põllumajanduse\, toidu ja maamajanduse tegevusvaldkonnas“ mahemajanduse valdkonna raames\, toetab Euroopa Liit.
URL:https://www.pikk.ee/sundmus/mahetaimekasvatuse-oppereis/
CATEGORIES:Mahemajandus,Taimekasvatus
END:VEVENT
BEGIN:VEVENT
DTSTART;TZID=Europe/Tallinn:20230927T093000
DTEND;TZID=Europe/Tallinn:20230927T153000
DTSTAMP:20260420T091419
CREATED:20230601T104138Z
LAST-MODIFIED:20231003T055008Z
UID:10010682-1695807000-1695828600@www.pikk.ee
SUMMARY:Infopäev M 6.1 Noorte põllumajandustootjate tegevusega alustamine (äriplaan)
DESCRIPTION:Infopäev toimub Zoomis. Kõigile osalejatele saadetakse individuaalne Zoomi sisenemise link ette infopäeva algust meilile. Registreerimine infopäevale on avatud kuni eelneva päeva kell 17-ni. \nRegistreerimine 06. septembri 2023 infopäevale GRUPP ON TÄIS! \nRegistreerimine 13. septembri 2023 infopäevale SIIN \nRegistreerimine 20. septembri 2023 infopäevale SIIN \nRegistreerimine 27. septembri 2023 infopäevale SIIN \nVastavalt meetme 6.1 “Põllumajandusliku tegevusega alustava noore ettevõtja toetus” (edaspidi meede 6.1) määruele\, on taotlejal kohustus läbida enne taotluse esitamist ettevõtlusalane infopäev. Kui planeerid esitada 2023. aastal meetme 6.1 taotlusvoorus taotluse\, siis palun pane ennast aegsasti kirja ettevõtlusalasele infopäevale. Tegemist on samasisuliste infopäevadega. Peale infopäeva lõppu saadame PRIAsse osalejate logi\, mille alusel sisestab PRIA osavõtjad oma andmebaasi. \nInfopäevade ajakava ja sisu: \nInfopäevade ajakava ja sisu: \n9.30-10.00 sisenemine Zoomi \n10.00-11.30 Lühiülevaade meetme 6.1 määrusest\, äriplaani koostamine ja selle vajalikkus põllumajandusliku ettevõtlusega tegelemisel\, tegevuste kirjeldused\, näited\, küsimustele vastamine.  \n12.00-13.30 äriplaani koostamine\, rahavoogude planeerimise eesmärk\, rahavoogude pika- ja lühiajaline planeerimine\, näited\, küsimustele vastamine \n14.00-15.30 ettevõtete rahastamine\, finantssuhtarvud\, küsimused ja vastused \n  \nLektorid Triin Luksepp (MES konsulent maaettevõtlus ja finantsmajandus\, mentorlusteenus\, toetuste taotlemine valdkondades) ja Angelika Nöps (MES konsulent maaettevõtlus ja finantsmajandus\, nõuetele vastavus\, toetuste taotlemine valdkondades) \nInfopäev on osavõtjatele tasuta. \nKorraldaja Maaelu Edendamise Sihtasutus \nInfopäevad viiakse läbi „Teadmussiirde pikaajaline programm põllumajanduse\, toidu ja maamajanduse tegevusvaldkonnas“ (viitenumber 222076) raames ja on osavõtjatele tasuta.
URL:https://www.pikk.ee/sundmus/infopaev-m-6-1-noorte-pollumajandustootjate-tegevusega-alustamine-ariplaan/2023-09-27/
LOCATION:Veebis\, Eesti
ORGANIZER;CN="Maaelu Edendamise Sihtasutus":MAILTO:angelika.nops@pikk.ee
END:VEVENT
BEGIN:VEVENT
DTSTART;TZID=Europe/Tallinn:20230927T093000
DTEND;TZID=Europe/Tallinn:20230927T163000
DTSTAMP:20260420T091419
CREATED:20230822T125633Z
LAST-MODIFIED:20240617T134516Z
UID:10010756-1695807000-1695832200@www.pikk.ee
SUMMARY:Koolitus "Karjatervis - lihaveised"\, 260 akadeemilist tundi
DESCRIPTION:Sihtrühm: Veterinaararstid \nTegemist on koolitusega veterinaararstidele\, kes koolituse eduka läbimise järel oleksid valmis hindama lihaveiste karjatervist\, analüüsima kogutud andmeid ja nende põhjal nõustama ettevõtjaid. \nKoolitus\, mahuga 260 akadeemilist tundi\,  sisaldab auditoorset õpet\, praktikat ja iseseisvat tööd.\nRõhk on kontaktõppel.\nÕppetöö on üles ehitatud 3 päevaste kohtumistena\, mis toimuvad iga kuu ajavahemikus september 2023 kuni juuni 2024.\nIga alateema puhul üldjuhul auditoorne õppetöö toimub kahel päeval ning ühel päeval on praktika.\nAuditoorne õppetöö toimub Eesti Maaülikoolis Fr.R.Kreutzwaldi 56/1 õppehoones. Praktikafarmides võib tulla täpsustusi. \nKäsitletavad teemad:\n– Lihaveiste kasvatamise põhitõed\, pidamistingimused ja karjatamispraktikad (27.-29. september\, praktika Puutsa talus);\n– Lihaveiste söötmine (24.-26. oktoober\, praktika Kuldranna Lihaveis OÜ-s);\n– Lihaveiste heaolu nõuded ja nende tagamine (13.-15. november\, praktika Puutsa talus ja Tõuloomakasvatajate Ühistus);\n– Kliendisuhtlus ja nõustamismetoodika (5.-7. detsember\, praktika Tsura talus);\n– Lihaveiste sigimise tervishoid (24.-26. jaanuar\, praktika Kuusiku talu Pirgo Angus);\n– Lihaveiste karjahaldusprogramm “Liisu” ja selles pakutavad võimalused (27. veebruar);\n– Lihaveiste sõratervishoid (6.-8. märts 2 veebiõppe päeva ja praktika Tsura talus);\n– Ammlehmade tervishoid (10-12. aprill\, praktika Vilsi OÜ-s);\n– Noorkarja tervishoid (8.-10. mai\, praktika Nurmetu farmis);\n– Nakkushaigused ja bioturvalisus (12.-14. juuni\, praktika Topi talus). \nKoolituspäevade algus orienteeruvalt kl 10.00 ja lõpp orienteeruvalt kl 16.30.\n9.45 -10.00 kogunemine ja sissejuhatus\n10.00 – 11.30 õppetöö\n11.30 – 12.00 lõuna\n12.00 – 13.30 õppetöö\n13.30 – 13.45 kohvipaus\n13.45 – 15.15 õppetöö\n15.15 – 15.30 paus\n15.30 – 16.15 õppetöö \n!Ajakavas võib ette tulla muudatusi\, sel juhul kõiki osalejaid teavitame õigeaegselt. \nAlustame alateemaga\nLihaveiste kasvatamise põhitõed; söötmine\, pidamistingimused ja karjatamispraktikad\n27. september teooria\, Tartu Kreutzwaldi 56/1 auditoorium A 303\n28. september praktika\,  Jõgeva maakond\, Põltsamaa vald\, Tõrve küla\, Puutsa\, 49013\n29. september teooria\, Tartu Kreutzwaldi 56/1 auditoorium A 303\nKoolitaja Airi Külvet \nOsalemissoovi korral on vajalik eelregistreerimine. Seda saab teha lingilt: https://ois.emu.ee/pls/ois/!tere.tulemast?leht=OK.AY.VP&id_ay_programm=14882&id_ay_toimumine=21004&systeemi_seaded=3\,1\,12\,1\,\nRegistreerumistähtaeg on 14. september 2023\, alustame kursusega\, kui osaleda soovijaid on vähemalt 10.\nRegistreerumisel palume silmas pidada\, et koolitus on tervik ja eeldab osalemist täies mahus. \nKoolitus toimub teadmussiirde pikaajalise programmi raames põllumajanduse\, toidu ja maamajanduse tegevusvaldkonnas ning on sihtrühmale tasuta. \nKursuse lähem info: \nLoome ja jagame teadmisi biomajanduse edendajatele looduse ja inimese hüvanguks! \n\nEesti Maaülikooli avatud ülikool​\nFr. R. Kreutzwaldi 56/1 (III korrus\, ruumid 303-306)\,\n51006 Tartu\ntel 731 3175\, 5344 1844\ne-post: avayl@emu.ee 
URL:https://www.pikk.ee/sundmus/koolitus-karjatervis-lihaveised-260-akadeemilist-tundi/
CATEGORIES:Loomakasvatus
ORGANIZER;CN="Eesti Maa%C3%BClikooli avatud %C3%BClikool":MAILTO:avayl@emu.ee
END:VEVENT
BEGIN:VEVENT
DTSTART;TZID=Europe/Tallinn:20230927T100000
DTEND;TZID=Europe/Tallinn:20230927T124500
DTSTAMP:20260420T091419
CREATED:20230626T103359Z
LAST-MODIFIED:20230626T103509Z
UID:10010716-1695808800-1695818700@www.pikk.ee
SUMMARY:Veebi-infopäev Põllumajandusloomade heaolu - piimaveised
DESCRIPTION:Tegevus toimub teadmussiirde pikaajalise programmi raames põllumajanduse\, toidu ja maamajanduse tegevusvaldkonnas ning on osalejatele tasuta.\nInfopäev täidab heaolu koolituse nõuet. \nEttekanne saab kättesaadavaks kodulehel  \nKoolitaja on Marko Kass. \nOsalema on oodatud kõik huvilised.\nRegistreerumine on avatud kuni 22. september 2023. Lähem info ja registreerimine SIIT. \nEesti Maaülikooli avatud ülikool​\nFr. R. Kreutzwaldi 56/1 (III korrus\, ruumid 303-306)\, 51006 Tartu\ntel 731 3175\, 5344 1844\ne-post: avayl@emu.ee
URL:https://www.pikk.ee/sundmus/veebi-infopaev-pollumajandusloomade-heaolu-piimaveised/
LOCATION:Muu\, Eesti
CATEGORIES:Loomakasvatus
ORGANIZER;CN="Eesti Maa%C3%BClikooli avatud %C3%BClikool":MAILTO:avayl@emu.ee
GEO:58.595272;25.0136071
END:VEVENT
END:VCALENDAR