BEGIN:VCALENDAR
VERSION:2.0
PRODID:-//PIKK.ee - ECPv6.13.2.1//NONSGML v1.0//EN
CALSCALE:GREGORIAN
METHOD:PUBLISH
X-WR-CALNAME:PIKK.ee
X-ORIGINAL-URL:https://www.pikk.ee
X-WR-CALDESC:Events for PIKK.ee
REFRESH-INTERVAL;VALUE=DURATION:PT1H
X-Robots-Tag:noindex
X-PUBLISHED-TTL:PT1H
BEGIN:VTIMEZONE
TZID:Europe/Tallinn
BEGIN:DAYLIGHT
TZOFFSETFROM:+0200
TZOFFSETTO:+0300
TZNAME:EEST
DTSTART:20230326T010000
END:DAYLIGHT
BEGIN:STANDARD
TZOFFSETFROM:+0300
TZOFFSETTO:+0200
TZNAME:EET
DTSTART:20231029T010000
END:STANDARD
END:VTIMEZONE
BEGIN:VEVENT
DTSTART;TZID=Europe/Tallinn:20231106T110000
DTEND;TZID=Europe/Tallinn:20231106T120000
DTSTAMP:20260423T150000
CREATED:20230918T120657Z
LAST-MODIFIED:20231130T123120Z
UID:10010803-1699268400-1699272000@www.pikk.ee
SUMMARY:Veebiseminar: Yara taimekasvatuse digilahendus Megalab™
DESCRIPTION:Järelvaatamine on teabesalve Digiakadeemias. \n  \nYara Megalab™ on veebipõhine süsteem\, mis osutab põllumajandusanalüüside tõlgendamise teenust. Süsteem töötleb üle kogu maailma partnerlaborite võrgustikust saabuvat infot ja annab klientidele väetamissoovitusi. Kliendile saadetakse kiired ja täpsed tulemused interneti või e-maili teel\, põhjalikud raportid taimede toitainesisalduse kohta ja soovituslikud väetamisprogrammid konkreetse kultuuri väetamiseks. Millist väärtust looks see sinu ettevõttele? Yara väetamisekspert Janne Ehte-Tammiste tutvustab ja näitab\, kuidas Megalab reaalselt töötab ning vastab osalejate küsimustele. \nYara ambitsioonikas missioon maailma vastutustundlik toiduga varustamine ja seeläbi meie planeedi kaitsmine sai alguse aastal 1905. Nad panustasid Euroopas tekkinud näljahäda lahendamisse\, tootes mineraalväetist\, mis andis põllumeestele võimaluse oma saake suurendada. Ettevõtte lahendused võimaldavad ka tänapäeval põllumajandustootjatel nii saagi kvaliteedi tõsta kui ka selle mahtu kasvatada\, samal ajal vähendades kahjulikke keskkonnamõjusid. Nende keskkonna- ja tööstuslahendused parandavad õhu kvaliteeti ja vähendavad heitgaaside emissiooni. Yara on esindatud rohkem kui 60 riigis 17 000 töötajaga. \n \nPilt. yara.ee/megalab \n  \nRegistreerunutele saadetakse ürituse päeval veebiseminariga osalemiseks link Zoomi keskkonda. \nVeebiseminar viiakse läbi „Teadmussiirde pikaajaline programm põllumajanduse\, toidu ja maamajanduse tegevusvaldkonnas“ raames. \n  \nLisainfo: \nManuela Kollom\nmanuela.kollom@metk.agri.ee\n+372 5672 6756
URL:https://www.pikk.ee/sundmus/veebiseminar-yara-taimekasvatuse-digilahendus-megalab/
LOCATION:Veebis\, Eesti
CATEGORIES:Maaettevõtlus,Taimekasvatus
END:VEVENT
END:VCALENDAR