BEGIN:VCALENDAR
VERSION:2.0
PRODID:-//PIKK.ee - ECPv6.13.2.1//NONSGML v1.0//EN
CALSCALE:GREGORIAN
METHOD:PUBLISH
X-ORIGINAL-URL:https://www.pikk.ee
X-WR-CALDESC:Events for PIKK.ee
REFRESH-INTERVAL;VALUE=DURATION:PT1H
X-Robots-Tag:noindex
X-PUBLISHED-TTL:PT1H
BEGIN:VTIMEZONE
TZID:Europe/Tallinn
BEGIN:DAYLIGHT
TZOFFSETFROM:+0200
TZOFFSETTO:+0300
TZNAME:EEST
DTSTART:20230326T010000
END:DAYLIGHT
BEGIN:STANDARD
TZOFFSETFROM:+0300
TZOFFSETTO:+0200
TZNAME:EET
DTSTART:20231029T010000
END:STANDARD
END:VTIMEZONE
BEGIN:VEVENT
DTSTART;TZID=Europe/Tallinn:20231107T093000
DTEND;TZID=Europe/Tallinn:20231107T133000
DTSTAMP:20260424T164806
CREATED:20231002T080030Z
LAST-MODIFIED:20231108T111633Z
UID:10010824-1699349400-1699363800@www.pikk.ee
SUMMARY:Infopäev Tööõigus ja maksukontroll põllumajanduses (toimub Zoomis)
DESCRIPTION:Infopäev toimub veebis Zoomi vahendusel. Registreerimine kuni eelneva tööpäeva kella 17.00. Sisenemise link saadetakse vahetult enne infopäeva algust meilile. registreerimine SIIN \nAjakava:\n9.30-10.00 seisenemine Zoomi\n10.00-11.30 ettekanne\n11.30-11.45 paus\n11.45-13.15 ettekanne \nTeemad: \nSeminaris antakse ettevõtjale olulised teadmised tööõigusest\, sh keskendutakse põllumajanduse spetsiifikale – summeeritud tööaeg\, töö – ja puhkeaeg\, tööohutus\, töötajate vastutus ning antakse praktilisi soovitusi valdkonnas kasutamiseks. Maksundus alastest teemadest antakse ülevaade töötajate registri (TÖR) kasutamise osas\, Maksu -ja Tolliameti maksuhinnangute osas seoses tööjõumaksude kontrollimisega võrdluses Statistikaameti palgaanalüüsi mudeliga ning nende baasil tehtavate maksukontollide osas. Tuuakse praktilisi näiteid antud valdkonnas esinevatest probleemidest ning antakse soovitused probleemide vältimiseks ning töötajatega seonduvate maksuriskide vähendamiseks. \nLektorid: \nKlen Laus on Advokaadibüroo TRINITI vandeadvokaat\, kelle peamised tegevusvaldkonnad on vaidluste lahendamine\, maksejõuetus ja saneerimine\, tööõigus\, aga ka äriõigus\, liiklusõigus ning pangandus ja finantsõigus. Klen on enam kui 10-aastase töökogemuse jooksul nõustanud ja esindanud kliente paljudes olulistes õigusküsimustes\, samuti on ta aastaid olnud tööõiguse lektoriks nii koolides kui ka erinevatel koolitustel ja konverentsidel. \n  \nTriin Luksepp on maamajanduse konsulent\, haridus EMÜ maamajandusliku ettevõtlus ja finantsjuhtimine. Lisaks läbinud erinevaid ettevõtte juhtimise ja finantsalaseid täiendkoolitusi. Tegelenud tootjate põllumajandusliku finantsalase nõustamisega 2007.aastast. Osalenud erinevatel põllumajandusalastel koolitustel lektorina. Igapäevaselt tegeleb investeeringu – ja laenuprojektide nõustamise ja elluviimisega ning põllumajandustootjatele raamatupidamisteenuse osutamisega. \nEttekanne 1 \nEttekanne 2 \nInfopäev on osavõtjatele tasuta. \nKorraldaja Maaelu Edendamise Sihtasutus \nInfopäev toimub MAK 2014-2020 “Teadmussiirde ja teavituse toetuse maakondliku ulatusega tegevuste” meetme raames\, tegevust toetab Euroopa Liit
URL:https://www.pikk.ee/sundmus/infopaev-toooigus-ja-maksukontroll-pollumajanduses-toimub-zoomis-2/
LOCATION:Veebis\, Eesti
CATEGORIES:Finantsmajandus,Loomakasvatus,Maaettevõtlus,Muu
ORGANIZER;CN="Maaelu Edendamise Sihtasutus":MAILTO:angelika.nops@pikk.ee
END:VEVENT
BEGIN:VEVENT
DTSTART;TZID=Europe/Tallinn:20231107T100000
DTEND;TZID=Europe/Tallinn:20231107T132000
DTSTAMP:20260424T164806
CREATED:20231004T094110Z
LAST-MODIFIED:20231019T093929Z
UID:10010835-1699351200-1699363200@www.pikk.ee
SUMMARY:Tulundusühistu külastus - Nordic Hemp
DESCRIPTION:Osalemiseks klõpsa lehe all olevale nupule “Registreeru” (hiljemalt 3.november 16:00). Kohti on piiratud arv. \n\nKülastuste eesmärgiks on näidata koostöötegevust ühistutes ning avada ühistute kontseptsiooni ja kasulikkust. Iga külastatav ühistu räägib oma tegemistest – kuidas moodustus\, kuidas toimub asjaajamine\, liikmed ja ühistu sees toimivad kokkulepped jne. \nNeljas külastus toimub tulundusühistusse Nordic Hemp. \nKülastuste sihtgrupiks on põllumajandustoodete tootmise ja töötlemise\, põllumajandusmaa hooldamise\, põllumajandustoodetest mitte-põllumajandustoodete töötlemise või metsa majandamisega tegelevad isikud või mittepõllumajandusliku ettevõtlusega tegelevad ettevõtjad. Sihtgruppi mittekuuluvad ei pruugi osalema pääseda. \nAsukoht: Vabriku 3a\, Vahi\, 60534\, Tartu maakond \nToimumisaeg: 07.11.2023 \nOrienteeruv ajakava:\n9:45 – 10:00 – Kogunemine \n10:00 – 11:30 Ühistu tutvustus \n11:30 – 11:50 Kohvipaus \n11:50 – 13:20 Külastus \n13:20 – Lõpp \n*korraldajal on õigus teha muudatusi külastuse ajakavas \n  \nÜhistukülastus viiakse läbi „Teadmussiirde pikaajaline programm põllumajanduse\, toidu ja maamajanduse tegevusvaldkonnas“ raames. \n  \nLisainfo:\n \nAnna Marie Reimann\nannamarie.reimann@metk.agri.ee\n(+372) 58 026 888 \n  \n 
URL:https://www.pikk.ee/sundmus/tulundusuhistu-kulastus-nordic-hemp/
LOCATION:Tartumaa\, Eesti
CATEGORIES:Maaettevõtlus,Mahemajandus,Ühistegevus
GEO:58.4057128;26.801576
END:VEVENT
BEGIN:VEVENT
DTSTART;TZID=Europe/Tallinn:20231107T100000
DTEND;TZID=Europe/Tallinn:20231107T133000
DTSTAMP:20260424T164806
CREATED:20231023T132622Z
LAST-MODIFIED:20231108T092054Z
UID:10010881-1699351200-1699363800@www.pikk.ee
SUMMARY:EPKK Infopäev „Toidu valdkonna õigusaktid ja järelevalve - arengud ja uudised“
DESCRIPTION:Eesti Põllumajandus-Kaubanduskoja infopäev „Toidu valdkonna õigusaktid ja järelevalve – arengud ja uudised“    \nInfopäeval käsitletakse erinevaid regulatsioonide muudatusi ja õigusakte\, mis lähiajal toovad uusi nõudeid toidutootjatele ja -tööstustele ning antakse ülevaade toidutootjate ja -tööstuste juurest tehtud riiklikust järelevalvest. Infopäeval astuvad üles Regionaal- ja Põllumajandusministeeriumi ning Põllumajandus- ja Toiduameti esindajad.    \nAeg: 7. november\,  kell 10.00 – 13.30   \nKoht: Veebikeskkond ZOOM                \n Infopäeva on võimalik järelvaadata SIIN \n  \nPÄEVAKAVAS*  \n10.00-11.20 PTA ülevaade toidu kvaliteedi järelevalvest:  \n\nÜldine turukorraldus. Aivar Alt\, Põllumajandus- ja toiduameti turukorralduse osakonna juhtivspetsialist \nGeograafiline tähis ja geograafilise tähisega koostisosa kasutamine toidu koostises. Kadri Pajur\, Põllumajandus- ja toiduameti alkoholi ja kaitstud geograafiliste tähiste järelevalve peaspetsialist \nPuu- ja köögivilja märgistamise erinõuded. Marika Arula\, Põllumajandus- ja toiduameti värske puu- ja köögivilja turustamise nõunik \n\n11.20 – 13.30 Regionaal- ja Põllumajandusministeeriumi ülevaade õigusaktidest:   \n\nToiduseaduse muudatused hädaolukorra seaduse kontekstis. Toomas Unt\, Regionaal- ja põllumajandusministeeriumi kriisijuht  \nKavandatavad muudatused müügipakendisse pakendamata toidu toidualases teabes. Hellika Kallaste\, Regionaal- ja põllumajandusministeeriumi toiduohutuse osakonna nõunik. \nPlastimääruse muudatus. Külli Suurvarik\, Regionaal- ja põllumajandusministeeriumi toiduohutuse osakonna nõunik \nLisaainete määruse muudatus – nitraatide piirnormide muudatus. Külli Suurvarik\, Regionaal- ja põllumajandusministeeriumi toiduohutuse osakonna nõunik. \nHommikusöögi direktiivide muudatused. Evelin Kivima\, Regionaal- ja põllumajandusministeeriumi toiduohutuse osakonna peaspetsialist \nGenotoksiliste kantserogeenidega seotud toidu saastumisjuhtumite lahendamine EL-is. Sille Vahter\, Regionaal- ja põllumajandusministeeriumi toiduohutuse osakonna peaspetsialist \n\n  \n*Korraldajal on õigus teha päevakavas muudatusi.   \n   \nSündmus toimub MAK 2014-2020 „Teadmussiirde pikaajaline programm põllumajanduse\, toidu ja maamajanduse tegevusvaldkonnas“ raames. Rahastamisallikas: Euroopa Maaelu Põllumajandusfond (EAFRD).    \nInfopäev on tasuta ja sellest võivad osa võtta kõik huvitatud isikud. Osalemine on vähese tähtsusega abi (VTA)\, abisumma ühe osavõtja kohta arvutatakse osavõtjate lõpliku arvu järgi\, kuid see ei ületa 100 eurot.  \nEttevõtte esindajana osalejale on infopäev tasuta\, kui ettevõttel on piisavalt vähese tähtsusega abi (VTA) jääki. Ettevõtja peab pidama tekkepõhist arvestust VTA kasutamise üle. VTA vaba jääki saab kontrollida ka veebilehelt https://fin.ee/riigihanked-riigiabi-osalused-kinnisvara/riigiabi  \n  \nLisainfo: Helen Orutar\, EPKK projektijuht\, e-mail: helen@epkk.ee\, tel: 5353 4329 
URL:https://www.pikk.ee/sundmus/toidu-valdkonna-oigusaktid-ja-jarelevalve-arengud-ja-uudised/
LOCATION:Veebis\, Eesti
CATEGORIES:Toiduainete tootmine,Toit ja toiduohutus
ATTACH;FMTTYPE=image/jpeg:https://www.pikk.ee/wp-content/uploads/2023/10/woman-3317471_1280-jpg.webp
ORGANIZER;CN="Eesti P%C3%B5llumajandus-Kaubanduskoda":MAILTO:info@epkk.ee
END:VEVENT
BEGIN:VEVENT
DTSTART;TZID=Europe/Tallinn:20231107T100000
DTEND;TZID=Europe/Tallinn:20231107T150000
DTSTAMP:20260424T164806
CREATED:20231024T203539Z
LAST-MODIFIED:20231101T175952Z
UID:10010885-1699351200-1699369200@www.pikk.ee
SUMMARY:Infopäev "Sertifitseeritud seemne kvaliteedi tagamine: heintaimed"
DESCRIPTION:2023. a. Eesti Seemneliidu teadmussiirde infopäev \nKuupäev: 7. november.\n\nToimumiskoht: Altmõisa külalistemaja (https://www.altmoisa.ee/kontakt) \nPäevakava \n\n10:00 – 10:05 Sissejuhatus\n10:05 – 10:35 Piia Puusepp PTA – Seemnete sertifitseerimine Eestis\n10:35 – 11:20 Kristina Soon METK labor – Seemnete kvaliteedinõuded\, enam esinenud probleemid\n11:20 – 11:50 Krista Nurk METK – Seemnete kasutamise õiguslikud aspektid METK sortide näitel\n11:50 – 12:45 Lõuna\n12:45-  13:30 Andres Saun Saare Seeme OÜ – Heinaseemnekasvatuse kogemused Saare Seeme OÜ näitel\n13:30 – 14:15 Valmar Vaater Agrotrade OÜ – Turuvajaduse ülevaade ja võimalused heinaseemne kvaliteedi parandmiseks\n14:15 – 15:00 Christel Mölder – Ülevaade Seemneliidu tegevusest\, muutused sektoris\n15:00               Päeva lõpetamine\n\n\n\nInfopäevad toimuvad MAK 2014-2020 meetme: “Teadmussiirde ja teavituse toetus (üleriigilise ulatusega tegevused)” raames. Rahastamisallikas: Eesti maaelu arengukava 2014-2020 (MAK).\n\n\nOsalemisest anna märku Google vormi kaudu – https://forms.gle/oK3tFK1YmXPWXMD37
URL:https://www.pikk.ee/sundmus/infopaev-sertifitseeritud-seemne-kvaliteedi-tagamine-heintaimed/
LOCATION:Läänemaa
CATEGORIES:Taimekasvatus
ORGANIZER;CN="MT%C3%9C Eesti Seemneliit":MAILTO:seemneliit@seemneliit.ee
END:VEVENT
BEGIN:VEVENT
DTSTART;TZID=Europe/Tallinn:20231107T100000
DTEND;TZID=Europe/Tallinn:20231107T153000
DTSTAMP:20260424T164806
CREATED:20231012T091339Z
LAST-MODIFIED:20231112T112923Z
UID:10010851-1699351200-1699371000@www.pikk.ee
SUMMARY:Taastava põllumajanduse infopäev Sadala Agro külastusega
DESCRIPTION:Northern Roots MTÜ ja  Maaelu Teadmuskeskuse koostöös toimuvad taastava põllumajanduse infopäevad ettevõtetes. \nÜritused lähevad arvesse KSM toetuse kohustusliku koolitusena. \n \nKuupäev: 7. november 2023\nAeg: 10:00–15:30\nAsukoht: Vaiatu küla Rahvamaja (Jõgeva vald\, Jõgevamaa\, 48522) \nPäevakava*:\nKell 09:45–10:00 kogunemine\, tervituskohv\nKell 10:00–11:00 Sadala Agro kogemus otsekülvi ja erinevate keskkonnaalaste koostööprojektidega – Ahti Kalde (Sadala Agro)\nKell 11:00–11:30 Life IP Loodusrikas Eesti projekti ja Sadala Agro koostööprojekti tutvustamine – Kristiina Jürisoo\, Krista Takkis (Tartu Ülikool)\nKell 11:30–11:50 Northern Roots taastava põllumajanduse foorum – Karl Lindam (Aru Põllumajanduse OÜ)\nKell 11:50–12:30 Arutelu: Taastav põllumajandus\, millist rolli mängib tehnoloogia? – Ahti Kalde (Sadala Agro)\, Krista Takkis (Tartu Ülikool)\, Jaan Ahlberg (Avanduse Agro OÜ)\nKell 12:30–13:30 Lõuna\nKell 13:30–15:30 Sadala Agro külastus (põllujalutus\, farmi külastus)\, liikumine toimub oma autodega\n*Korraldaja jätab endale õiguse teha päevakavas muudatusi. \nEsimene infopäev toimub 2. novembril Vändra AS külastusega \nInfopäevad toimuvad MAK 2014-2020 „Teadmussiirde programm põllumajanduse\, toidu ja maamajanduse tegevusvaldkonnas“ horisontaalse valdkonna raames\, toetab Euroopa Liit.  \nNorthern Roots MTÜ kontakt:  55 28 263\nE-post: riina@northernroots.eu \nREGISTREERIMINE ON AVATUD KUNI 03.11.2023 KELL 12:00 VÕI KUNI KOHTADE TÄITUMISENI.
URL:https://www.pikk.ee/sundmus/taastava-pollumajanduse-ip-2/
LOCATION:Jõgevamaa\, Jõgevamaa\, Eesti
CATEGORIES:Keskkond,Taimekasvatus
END:VEVENT
BEGIN:VEVENT
DTSTART;TZID=Europe/Tallinn:20231107T103000
DTEND;TZID=Europe/Tallinn:20231107T130000
DTSTAMP:20260424T164806
CREATED:20231025T202033Z
LAST-MODIFIED:20231101T203301Z
UID:10010889-1699353000-1699362000@www.pikk.ee
SUMMARY:Mahelambakasvatuse ettevõtete külastus
DESCRIPTION:Mahepõllumajanduse Koostöökogu korraldab 7. novembril k 10:30 – 13:00 mahelambakasvatusega tegelevate ettevõtete külastuse Sae tallu (eesti maalammas; http://lahemaalammas.ee/) ja Iisaka tallu (sinine teksel ja eesti tumedapealine lammas; https://www.iisakatalu.ee/). Mõlemad talud tegelevad lambavilla väärindamise ja käsitööga. Neil on ka karjakoerad. \nTalud asuvad Uuri külas\, Harjumaal. \nEttevõtteid tutvustavad Imbi Jäetma (Sae talu) ja Priidu Veersalu (Iisaka talu). \nEttevõtete külastus on tasuta. Osalemiseks on kindlasti vaja registreeruda hiljemalt 2. novembriks siin: https://forms.gle/hgaZXRCU77kUMfUh6  \nOsalejate arv on piiratud\, registreerimine lõpetatakse kohtade täitumisel. \nLisainfo: maheteave@gmail.com \nEttevõtete külastus toimub koostöös Ökoloogiliste Tehnoloogiate Keskusega. \nEttevõtete külastus toimub MAK 2014-2020 meetme „Teadmussiirde programm põllumajanduse\, toidu ja maamajanduse tegevusvaldkonnas“ mahemajanduse valdkonna raames\, toetab Euroopa Liit.
URL:https://www.pikk.ee/sundmus/mahelambakasvatuse-ettevotete-kulastus-2/
LOCATION:Harjumaa\, Harjumaa\, Eesti
CATEGORIES:Loomakasvatus,Mahemajandus
END:VEVENT
BEGIN:VEVENT
DTSTART;TZID=Europe/Tallinn:20231107T110000
DTEND;TZID=Europe/Tallinn:20231107T160000
DTSTAMP:20260424T164806
CREATED:20231014T081904Z
LAST-MODIFIED:20231024T141955Z
UID:10010857-1699354800-1699372800@www.pikk.ee
SUMMARY:Lihaveiste heaolu farmikülastus Lääne-Virumaal
DESCRIPTION:OÜ Talu ja Tulu ning Maaelu Teadmuskeskuse koostöös toimuvad infopäev-õppereis lihaveiste heaolu teemal \n\n07.11.203 Lääne-Viru maakonnas algusega kl 11.00 Võhma Seltsimaja\, Võhma küla\, Haljala vald\, Lääne-Virumaa. Farm: OÜ Lahe Maamees\n\nKestvus: 3 – 4 tundi \nTeemad: \n\nMida kontrollitakse lihaveisekasvatuses seoses EL toetustega seotud Tingimuslikkuse nõuete osas.\nMilliseid probleeme lihaveisekasvatajatel on kontrollimise käigus välja tulnud ja kuidas on neid lahendatud.\nLoomade heaolu hindamise lihtsad võtted farmis.\n\nLektorid: Põllumajandus ja Toiduameti loomatervise ja -heaolu osakonna esindaja ning veisekasvatuse konsulent Targo Pikkmets \nKontakt ja info: Targo Pikkmets 56680023 targopikkmets@gmail.com \nÜritused toimuvad MAK 2014-2020 „Teadmussiirde programm põllumajanduse\, toidu ja maamajanduse tegevusvaldkonnas“ raames\, toetab Euroopa Liit.
URL:https://www.pikk.ee/sundmus/lihaveiste-heaolu-farmikulastus-3/
LOCATION:Lääne-Virumaa\, Lääne-Virumaa\, Eesti
CATEGORIES:Loomakasvatus
ATTACH;FMTTYPE=image/jpeg:https://www.pikk.ee/wp-content/uploads/2023/10/Lihaveis_hele-scaled.webp
ORGANIZER;CN="O%C3%9C Talu ja Tulu":MAILTO:targopikkmets@gmail.com
END:VEVENT
BEGIN:VEVENT
DTSTART;TZID=Europe/Tallinn:20231107T130000
DTEND;TZID=Europe/Tallinn:20231107T151500
DTSTAMP:20260424T164806
CREATED:20230630T095036Z
LAST-MODIFIED:20230630T095118Z
UID:10010726-1699362000-1699370100@www.pikk.ee
SUMMARY:Lõhna- ja maitseained toidutootmises (veebipõhine koolitus)
DESCRIPTION:Täpsem info ja registreerumine SIIT \n  \nProfessor Tõnu Püssa koolitus tutvustab enamkasutatavaid lõhna- ja maitseained toidutööstuses\, nende valmistamist\, kasutamist ja omadusi\, aga ka nende kasutamisega seonduvaid ohte. \nKoolitusel käsitletavad teemad: \n\nLõhna- ja maitseainete olemus\, nende klassifitseerimine;\nLõhna- ja maitseainetega seotud seadusandlus;\nEnamkasutatavad lõhna- ja maitseained\, nende valmistamine\, kasutamine ja omadused;\nLõhna- ja maitseainete kasutamisega seotud ohud.\n\nTäienduskoolitusest võivad osa võtta kõik teemast huvitatud. \nTegemist on tasulise veebikoolitusega. \n  \nKoolituse korraldaja:\nEesti Maaülikooli avatud ülikool\nFr. R. Kreutzwaldi 56/1\n51006 Tartu\,\ntel 731 3275\ne-post: avayl@emu.ee\nhttp://avatudylikool.emu.ee/
URL:https://www.pikk.ee/sundmus/lohna-ja-maitseained-toidutootmises-veebipohine-koolitus/
LOCATION:Veebis\, Eesti
CATEGORIES:Toiduainete tootmine
ORGANIZER;CN="Eesti Maa%C3%BClikooli avatud %C3%BClikool":MAILTO:avayl@emu.ee
END:VEVENT
END:VCALENDAR