BEGIN:VCALENDAR
VERSION:2.0
PRODID:-//PIKK.ee - ECPv6.13.2.1//NONSGML v1.0//EN
CALSCALE:GREGORIAN
METHOD:PUBLISH
X-WR-CALNAME:PIKK.ee
X-ORIGINAL-URL:https://www.pikk.ee
X-WR-CALDESC:Events for PIKK.ee
REFRESH-INTERVAL;VALUE=DURATION:PT1H
X-Robots-Tag:noindex
X-PUBLISHED-TTL:PT1H
BEGIN:VTIMEZONE
TZID:Europe/Tallinn
BEGIN:DAYLIGHT
TZOFFSETFROM:+0200
TZOFFSETTO:+0300
TZNAME:EEST
DTSTART:20230326T010000
END:DAYLIGHT
BEGIN:STANDARD
TZOFFSETFROM:+0300
TZOFFSETTO:+0200
TZNAME:EET
DTSTART:20231029T010000
END:STANDARD
END:VTIMEZONE
BEGIN:VEVENT
DTSTART;VALUE=DATE:20231211
DTEND;VALUE=DATE:20231214
DTSTAMP:20260424T132715
CREATED:20231105T064724Z
LAST-MODIFIED:20231116T225758Z
UID:10010903-1702252800-1702511999@www.pikk.ee
SUMMARY:Mahelinnukasvatuse õppereis
DESCRIPTION:Mahepõllumajanduse Koostöökogu korraldab 11.12-13.12 2023 õppereisi Rootsi\, kus tutvutakse  mahelinnukasvatusega (munakanakasvatus) tegelevate ettevõtete ja neis kasutusel olevate tehnoloogiatega. \n\nSisukord täiendamisel\n\nOsalemiseks on kindlasti vajalik eelregistreerumine hiljemalt 10. novembriks e-maili maheteave@gmail.com teel. Kohtade arv on piiratud\, registreerimine lõpetatakse kohtade täitumisel enne tähtaega. Osalustasu on 300 eurot. \nLisainfo: maheteave@gmail.com \n  \nÕppereis toimub MAK 2014-2020 „Teadmussiirde pikaajaline programm põllumajanduse\, toidu ja maamajanduse tegevusvaldkonnas“ mahemajanduse valdkonna raames\, toetab Euroopa Liit. \n 
URL:https://www.pikk.ee/sundmus/mahelinnukasvatuse-oppereis/
LOCATION:Muu\, Eesti
CATEGORIES:Mahemajandus
GEO:58.595272;25.0136071
END:VEVENT
BEGIN:VEVENT
DTSTART;TZID=Europe/Tallinn:20231213T100000
DTEND;TZID=Europe/Tallinn:20231213T123000
DTSTAMP:20260424T132715
CREATED:20231129T143047Z
LAST-MODIFIED:20231214T100843Z
UID:10010944-1702461600-1702470600@www.pikk.ee
SUMMARY:EPKK infopäev "Toidualase teabe esitamine"
DESCRIPTION:Eesti Põllumajandus-Kaubanduskoja infopäev „Toidualase teabe esitamine“ \nToiduseaduse ja tarbijakaitse nõuete kohaselt on tähtsaim reegel – toidualane teave peab olema täpne\, selge ja tarbijale kergesti arusaadav. Kas see on alati nii? Kohustuslik märgistusteave tähendab\, et toidu märgistamisel tuleb ära näidata energia- ja toitainete sisaldus\, koostisosad\, säilimisaeg ja –tingimused. Vabatahtlikult võib esitada muudki infot\, siiski silmas pidades\, et info on tõene ega eksita tarbijat. Eestis ei ole ühtegi tarbijate huvide eest seisvat esindusorganisatsiooni\, tühimikku toidu valdkonnas püüab täita toidupolitseiks kutsutud Fuudish. Lisaks antakse infopäeval ülevaade millised on lähiaja muudatused suitsupreparaatide kasutamise tingimustes ning mida peab teadma\, kui soovitakse viidata probiootikumide kasutamisele tootes.  \n  \nAeg: 13. detsember\,  kell 10.00 – 12.30 \nKoht: Veebikeskkond ZOOM               \nInfopäeva on võimalik järelvaadata SIIN \n  \nPÄEVAKAVAS* \n\nPlekid toidualase teabe märgistamisel\, kogemused Fuudishi näitel. Liis Tuur\, Fuudish´i toiduekspert\nToidualase teabe kontrolli tulemused ning muudatused kontrollide planeerimisel. Tiiu Rand\, Põllumajandus-ja Toiduameti toidu osakonna nõunik\nTeave suitsutuspreparaatide-esmatoodete võimalikust keelustamisest. Maia Radin\, Regionaal- ja Põllumajandusministeeriumi toiduohutuse osakonna valdkonnajuht\nTervisealase väite “probiootikum” kasutamine toidualases teabes. Külli Johanson\, Regionaal- ja Põllumajandusministeeriumi toiduohutuse osakonna nõunik\nTeadmussiirde pikaajalise programmi toiduvaldkonna sündmused aastal 2024. Meeli Lindsaar\, Eesti Põllumajandus-Kaubanduskoja toiduvaldkonna juht\n\n  \n*Korraldajal on õigus teha päevakavas muudatusi.  \n  \nSündmus toimub MAK 2014-2020 „Teadmussiirde pikaajaline programm põllumajanduse\, toidu ja maamajanduse tegevusvaldkonnas“ raames. Rahastamisallikas: Euroopa Maaelu Põllumajandusfond (EAFRD). \nInfopäev on tasuta ja sellest võivad osa võtta kõik huvitatud isikud. Osalemine on vähese tähtsusega abi (VTA)\, abisumma ühe osavõtja kohta arvutatakse osavõtjate lõpliku arvu järgi\, kuid see ei ületa 200 eurot. \n  \nEttevõtte esindajana osalejale on infopäev tasuta\, kui ettevõttel on piisavalt vähese tähtsusega abi (VTA) jääki. Ettevõtja peab pidama tekkepõhist arvestust VTA kasutamise üle. VTA vaba jääki saab kontrollida ka veebilehelt https://fin.ee/riigihanked-riigiabi-osalused-kinnisvara/riigiabi \nLisainfo: Helen Orutar\, EPKK projektijuht\, e-mail: helen@epkk.ee\, tel: 5353 4329
URL:https://www.pikk.ee/sundmus/infopaev-toidualase-teabe-esitamine-2-2/
LOCATION:Veebis\, Eesti
CATEGORIES:Toiduainete tootmine,Toit ja toiduohutus
ATTACH;FMTTYPE=image/jpeg:https://www.pikk.ee/wp-content/uploads/2023/11/aisle-3105629_1280-jpg.webp
ORGANIZER;CN="Eesti P%C3%B5llumajandus-Kaubanduskoda":MAILTO:info@epkk.ee
END:VEVENT
BEGIN:VEVENT
DTSTART;TZID=Europe/Tallinn:20231213T130000
DTEND;TZID=Europe/Tallinn:20231213T151500
DTSTAMP:20260424T132715
CREATED:20231213T120254Z
LAST-MODIFIED:20231213T120254Z
UID:10010949-1702472400-1702480500@www.pikk.ee
SUMMARY:EPKK Infopäev „Tootjaorganisatsioonide tunnustamine ning tootjaorganisatsioonidele suunatud toetused“
DESCRIPTION:Eesti Põllumajandus-Kaubanduskoja infopäev „Tootjaorganisatsioonide tunnustamine ning tootjaorganisatsioonidele suunatud toetused“ \n  \nAeg: 13. detsember  kell 13.00 – 15.15 \nKoht: Eesti Tõuloomakasvatajate Ühistu Tartu kontor\, Aretuse 2\, Märja\, Tartumaa. \nRegistreerimine infopäevale SIIN \n  \nPÄEVAKAVAS* \nLektor: Kaie Laaneväli-Vinokurov\, Maaelu Teadmuskeskuse Innovatsioonikonsulent \n\nVeisekasvatajate seltsi võimalused ja nõuetele vastavus tootjaorganisatsioonina tunnustamisel\nTootjaorganisatsioonidele suunatud toetused\nKvaliteedikava koostamine\n\n*Korraldajal on õigus teha päevakavas muudatusi.  \n  \nSündmus toimub MAK 2014-2020 „Teadmussiirde pikaajaline programm põllumajanduse\, toidu ja maamajanduse tegevusvaldkonnas“ raames. Rahastamisallikas: Euroopa Maaelu Põllumajandusfond (EAFRD). \nLisainfo: Helen Orutar\, EPKK projektijuht\, e-mail: helen@epkk.ee\, tel: 5353 4329 \n 
URL:https://www.pikk.ee/sundmus/infopaev-tootjaorganisatsioonide-tunnustamine/
LOCATION:Veebis\, Eesti
CATEGORIES:Loomakasvatus,Ühistegevus
ATTACH;FMTTYPE=image/jpeg:https://www.pikk.ee/wp-content/uploads/2023/12/hands-20333_1280-jpg.webp
ORGANIZER;CN="Eesti P%C3%B5llumajandus-Kaubanduskoda":MAILTO:info@epkk.ee
END:VEVENT
BEGIN:VEVENT
DTSTART;TZID=Europe/Tallinn:20231213T130000
DTEND;TZID=Europe/Tallinn:20231213T160000
DTSTAMP:20260424T132715
CREATED:20231128T063010Z
LAST-MODIFIED:20231214T083618Z
UID:10010943-1702472400-1702483200@www.pikk.ee
SUMMARY:EPKK infopäev: Ühistegevuse võimalused ja vajadused: head praktikad ja edulood
DESCRIPTION:Eesti Põllumajandus-Kaubanduskoda ja Eesti Maaülikool korraldavad infopäeva „Ühistegevuse võimalused ja vajadused: head praktikad ja edulood ”  \n   \nAeg: 13. detsember 2023\, kell 13.00 – 15.15 \nKoht: veebikeskkond Zoom \nPäevakavas*:  \n13.00-13.05 sissejuhatus infopäeva\n13.05-13.50 Ühistuline tegevus innovaatilise ringbiomajanduse lahenduste katsetamiseks (väike lemmel loomasöödana). Daniel Long\, piimakarja kasvataja ja ühistu juhatuse liige \n13.50 -14.30 Ühistegevuse arengusuunad seoses rohemajandusega. Rando Värnik\, Eesti Maaülikooli maamajanduse ökonoomika õppetooli juht\, professor \n14.30 – 15.15 Metsaühistu lugu. Priit Põllumäe\, Keskühistu Eramets TÜ tegevjuht  \n  \nLisainfo: Marge Mänd\, EPKK projektijuht\, e-post: marge@epkk.ee\, tel: 53009034  \n  \nSündmus toimub MAK 2014-2020 „Teadmussiirde pikaajaline programm põllumajanduse\, toidu ja maamajanduse tegevusvaldkonnas“ raames. Rahastamisallikas: Euroopa Maaelu Põllumajandusfond (EAFRD).  \n 
URL:https://www.pikk.ee/sundmus/uhistegevuse_voimalused/
LOCATION:Veebis\, Eesti
CATEGORIES:Ühistegevus
ATTACH;FMTTYPE=image/png:https://www.pikk.ee/wp-content/uploads/2023/11/gears-5193383_1280.png
ORGANIZER;CN="Eesti P%C3%B5llumajandus-Kaubanduskoda":MAILTO:info@epkk.ee
END:VEVENT
BEGIN:VEVENT
DTSTART;TZID=Europe/Tallinn:20231213T140000
DTEND;TZID=Europe/Tallinn:20231213T163000
DTSTAMP:20260424T132715
CREATED:20231128T073558Z
LAST-MODIFIED:20240103T105501Z
UID:10010939-1702476000-1702485000@www.pikk.ee
SUMMARY:Farminar: vuti taastootmise telgitagused
DESCRIPTION:Osalemiseks klõpsa lehe all olevale nupule “Registreeru”. Registreerumine on avatud kuni 12.detsember kell 16:00. Registreerunutele saadetakse Zoomi link veebiseminaril osalemiseks ürituse toimumise päeval. \n  \nMaaelu Teadmuskeskus ja Eesti Linnukasvatajate Selts kutsuvad kõiki linnukasvatuse huvilisi vutikasvatuse farminarile. Farminar ehk veebiseminar farmist annab harukordse võimaluse näha vutikasvatuse siseelu ja küsida vutikasvatajatelt küsimusi. Tavapäraselt ei pääse linnukasvatuses hoonetesse bioohu tõttu sisse ja sul on võimalik oma koduse ekraani taga farmi külastada. \n  \nEesti vuti tibud. Foto: Estfarm \nVuti taastootmise teemalisel farminaril külastame Eesti Linnukasvatajate Seltsi liikme Estfarmi Vutifarm OÜ tibulat\, räägime erinevatest vuti taastootmise etappidest (haudemunade kogumisest kuni tibulani)\, Eesti vuti jõudluskontrollist\, toetustest ning Väljaotsa Vutitalu OÜ näitel sõnnikuhoidlast ja -käitlemisest. \n  \nFarminari salvestus on nüüd järelvaadatav:\n \n  \nFarminari slaidimaterjalid saad alla laadida siit. \nKodune töö: Mõtle välja vähemalt üks küsimus\, mida tahad Eesti vuti kohta küsida\, osale aktiivselt arutelus! \n  \nFarminari päevakava: \n14.00 Kogunemine ja tervitus zoomis ja Estfarmi Vutifarmi OÜ-s \n14.05 Eesti vuti munad\, pakendamine\, haudemunade kogumine \n14.45 Inkubeerimine\, koorumine\, transport \n15.25 Paus \n15.40 Farmijalutus Estfarmi Vutifarmi tibulas \n16.05  Eesti vuti jõudluskontroll\, toetused eesti vutile \n16.10  Sõnnikuhoidla ja sõnniku käitlemine Väljaotsa Vutitalu OÜ näitel \n16.20 Tekkinud küsimused. Arutelu ja kokkuvõte päevast \n16.35 Farminari lõpetamine \n* korraldajal on õigus teha muudatusi päevakavas\n** farminar on järelvaadatav ja link saadetakse kõikidele osalejatele \n  \nEesti Linnukasvatajate Selts taasloodi 1989. aastal. Linnukasvatajate Seltsi kuulub lisaks suurtootjatele ka palju väike- ja hobilinnukasvatajaid. Traditsiooniliselt on meie liikmete hulgas kõige rohkem munakasvatjaid\, aga järjest populaarsemaks on muutunud ka partide\, hanede\, muskuspartide\, kalkunite\, pärlkanade\, faasanite ja teiste\, vähem levinud linnuliikide nagu nurmkanade\, nurmvuttide\, kivikanade ning erinevate tuvitõugude pidamine. \nEesti vutt\, meie ainuke kodumaine põllumajanduslinnu tõug\, on leidnud kasvatajate suure poolehoiu\, sest vutimunade ja -liha nõudlus on suur. Eesti Linnukasvatajate Seltsi missioon ja tegevuse eesmärgis on samad\, mis sajanditagusel ajal – propageerida linnukasvatust\, olla linnukasvatajatele nõu ja jõuga abiks\, korraldada kursusi ja õppepäevi. \n  \nInfopäev toimub MAK 2014–2020 „Teadmussiirde programm põllumajanduse\, toidu ja maamajanduse tegevusvaldkonnas“ horisontaalse valdkonna raames ning seda toetab Euroopa Liit. Läbiviijateks on Maaelu Teadmuskeskus ja Eesti Vutikasvatajate Selts. \n  \nLisainfo: \nAnna Marie Reimann\nannamarie.reimann@metk.agri.ee\ntel 58026888
URL:https://www.pikk.ee/sundmus/farminar-vuti-taastootmisest/
LOCATION:Veebis\, Eesti
CATEGORIES:Keskkond,Maaettevõtlus,Toiduainete tootmine
END:VEVENT
END:VCALENDAR