BEGIN:VCALENDAR
VERSION:2.0
PRODID:-//PIKK.ee - ECPv6.13.2.1//NONSGML v1.0//EN
CALSCALE:GREGORIAN
METHOD:PUBLISH
X-ORIGINAL-URL:https://www.pikk.ee
X-WR-CALDESC:Events for PIKK.ee
REFRESH-INTERVAL;VALUE=DURATION:PT1H
X-Robots-Tag:noindex
X-PUBLISHED-TTL:PT1H
BEGIN:VTIMEZONE
TZID:Europe/Tallinn
BEGIN:DAYLIGHT
TZOFFSETFROM:+0200
TZOFFSETTO:+0300
TZNAME:EEST
DTSTART:20240331T010000
END:DAYLIGHT
BEGIN:STANDARD
TZOFFSETFROM:+0300
TZOFFSETTO:+0200
TZNAME:EET
DTSTART:20241027T010000
END:STANDARD
END:VTIMEZONE
BEGIN:VEVENT
DTSTART;TZID=Europe/Tallinn:20240408T090000
DTEND;TZID=Europe/Tallinn:20240410T170000
DTSTAMP:20260423T091544
CREATED:20240325T163814Z
LAST-MODIFIED:20251229T113359Z
UID:10011069-1712566800-1712768400@www.pikk.ee
SUMMARY:Taimekaitse aluskoolitus professionaalsele kasutajale (22 t)
DESCRIPTION:Taimekaitse aluskoolitus professionaalsele kasutajale (22 t) \nKoolitus toimub 8.-10. aprill Säreveres\nKoolitajad: Kaja Marrandi\, Marek Kõbu \nKoolitusele registreerimine toimub SIIT \nTäiendav info:\nRuth Türk\nruth.turk@jkhk.ee\n+372 5329 2188
URL:https://www.pikk.ee/sundmus/taimekaitse-aluskoolitus-professionaalsele-kasutajale-22-t-24/
LOCATION:Järvamaa\, Järvamaa\, Eesti
CATEGORIES:Taimekaitse
GEO:58.8866713;25.5000624
END:VEVENT
BEGIN:VEVENT
DTSTART;TZID=Europe/Tallinn:20240410T140000
DTEND;TZID=Europe/Tallinn:20240410T163000
DTSTAMP:20260423T091544
CREATED:20240322T094516Z
LAST-MODIFIED:20240415T060230Z
UID:10011062-1712757600-1712766600@www.pikk.ee
SUMMARY:EPKK infopäev “Tehnoloogilised rakendused parandamaks piimafarmi tootlikust ja vähendamaks kadusid”
DESCRIPTION:Eesti Põllumajandus-Kaubanduskoda kutsub osalema infopäeval “Tehnoloogilised rakendused parandamaks piimafarmi tootlikust ja vähendamaks kadusid”   \nToimumisaeg: 10. aprill kell 14.00-16.30 \nToimumiskoht: ESTONIA Resort Hotel & Spa Konverentsikeskus (A.H. Tammsaare pst 6\, Pärnu)  \nPäevakavas*:    \n13.30 – 14.00 Kogunemine kohvi ja kergete suupistetega    \n14.00 – 15.00 Innovaatilised lahendused inimressursi juhtimises. Karel Kuningas\, Terake Wokfields    \n15.00 – 16.00 Rahavoogude planeerimine ja riskihaldus. Jaanus Kaik\, SEB Eesti    \n16.00 – 16.30 Piimatootmise väljakutsed ja võimalused. Pilleriin Puskar\, EPKK piimatoimkonna juht    \nInfopäeva modereerib: Pilleriin Puskar  \n    \n*Korraldaja jätab endale õiguse teha päevakavas muudatusi   \n   \nLisainfo: Marge Mänd\, EPKK projektijuht\, e-post: marge@epkk.ee\, tel: 53009034   \n   \nSündmus toimub MAK 2014-2020 „Teadmussiirde pikaajaline programm põllumajanduse\, toidu ja maamajanduse tegevusvaldkonnas“ raames. Rahastamisallikas: Euroopa Maaelu Põllumajandusfond (EAFRD).    
URL:https://www.pikk.ee/sundmus/tehnoloogilised-rakendusedpiimafarmi/
LOCATION:Pärnumaa\, Pärnumaa\, Eesti
CATEGORIES:Loomakasvatus,Tootmine ja kvaliteet
ATTACH;FMTTYPE=image/jpeg:https://www.pikk.ee/wp-content/uploads/2024/03/holstein-cattle-g5cacff16d_1280-jpg.webp
ORGANIZER;CN="Eesti P%C3%B5llumajandus-Kaubanduskoda":MAILTO:info@epkk.ee
END:VEVENT
END:VCALENDAR