BEGIN:VCALENDAR
VERSION:2.0
PRODID:-//PIKK.ee - ECPv6.13.2.1//NONSGML v1.0//EN
CALSCALE:GREGORIAN
METHOD:PUBLISH
X-WR-CALNAME:PIKK.ee
X-ORIGINAL-URL:https://www.pikk.ee
X-WR-CALDESC:Events for PIKK.ee
REFRESH-INTERVAL;VALUE=DURATION:PT1H
X-Robots-Tag:noindex
X-PUBLISHED-TTL:PT1H
BEGIN:VTIMEZONE
TZID:Europe/Tallinn
BEGIN:DAYLIGHT
TZOFFSETFROM:+0200
TZOFFSETTO:+0300
TZNAME:EEST
DTSTART:20240331T010000
END:DAYLIGHT
BEGIN:STANDARD
TZOFFSETFROM:+0300
TZOFFSETTO:+0200
TZNAME:EET
DTSTART:20241027T010000
END:STANDARD
END:VTIMEZONE
BEGIN:VEVENT
DTSTART;TZID=Europe/Tallinn:20240416T090000
DTEND;TZID=Europe/Tallinn:20240417T180000
DTSTAMP:20260422T054840
CREATED:20240319T125830Z
LAST-MODIFIED:20240415T042458Z
UID:10011052-1713258000-1713376800@www.pikk.ee
SUMMARY:Nõustamismetoodika koolitus M01
DESCRIPTION:Maaelu Teadmuskeskus korraldab nõustamismetoodika koolituse “Minu profiil nõustajana”\, CECRA moodul 01\nTäienduskoolitus annab mõistmise põllu- ja maamajanduse nõustajale esitatud ootustest\, erinevatest rollidest ja iseendaga hakkamasaamisest.\nSelle koolituse ja Moodul 2 läbimine koos annavad eelduse konsulendi kutse saamiseks. \nKonsulendi töö on pakkuda kliendile põllu-\, metsa- ja muud maamajanduse alast nõustamist. Lähtuvalt oma spetsialiseerumise valdkonnast edastab konsulent kliendile korrastatud teabe ja juhendab klienti\, arvestades tema vajadusi\, soove\, võimalusi ning piiranguid. Konsulent on kursis nõuandesüsteemi\, majanduskeskkonna suundumuste ning nende mõjuga Eesti maamajandusele.\nKonsulendi töö on enamasti hooajaline\, mitmekesine ja rohkele suhtlemisele ning inimsuhetele tuginev. \n  \nAeg: 16.-17. aprill  ja 24. aprill 2024 (kokku 3 päeva\, kohustuslik on osavõtt kõikidest päevadest) \nKoht: täpsustamisel\, Lääne-Virumaa \nRegistreerumine koolitusele kuni 12. aprill kl 16 lehe allservas ⇓ või grupi täitumiseni \n* Tegemist on kolmepäevase koolitusega\, millest esimesed kaks päeva toimuvad järjestikku. Toimumiskoha lähedal on olemas majutusvõimalus. Majutuse ja õhtusöögi maksumus siiski ei ole arvestatud koolituse sisse ning selle peavad tasuma osalejad ise. \n  \nAjakava kõikidel päevadel: \n\n9.00-13.00 koolitus (vahepeal 1 kohvipaus)\n13-00-14.00 lõunasöök\n14.00-18.00 koolitus (vahepeal 1 kohvipaus)\n\nKoolitusele on oodatud konsulenditööst huvitatud inimesed. \nÕppe-eesmärgid: mooduli edukalt läbinu \n\nmõistab nõuandetöö olemust ja enda käitumismustreid nõustajana\ntunneb ja tunnistab oma arenguvajadusi ja -võimalusi\narendab pidevalt enda ja teiste tegevuse analüüsimise oskust\nmõistab ja arvestab oma sihtrühma\, nõuandetööd puudutavate asjaolude ning teiste osapoolte erihuvidega\nkohtleb teisi osapooli tolerantselt ja lugupidamisega\n\nMooduli teemad: \n\nMinu roll nõustajana ning eneseanalüüs: eesmärgid\, motivatsioon\, erinevad rollid ja nende mõistmine\, kultuuride erinevused ja tundlikud teemad\, tugevused ja nõrkused\nMinu sihtrühm ja kliendid\nNõuandetöö kontseptsiooni mõistmine ja baashoiakud\nNõuandetöö soolised aspektid\, Meeste\, naiste ja pereliikmete suhted nõuandetöös\n\n  \nKoolituse korraldaja: Maaelu Teadmuskeskus\nKoolitaja Kaja Piirfeldt  (tunnustatud CECRA koolitaja) \nKoolitus on esimene moodul CECRA koolitusprogrammist.\nEuroopa maapiirkondade konsulentide sertifikaat CECRA (“Certificate for European Consultants in Rural Areas” ) on Euroopa liikmesriikide pädevusprogramm nõustamismetoodikas.
URL:https://www.pikk.ee/sundmus/koolitus-minu-profiil-noustajana/
LOCATION:Lääne-Virumaa\, Lääne-Virumaa\, Eesti
CATEGORIES:Maaettevõtlus
END:VEVENT
BEGIN:VEVENT
DTSTART;TZID=Europe/Tallinn:20240416T100000
DTEND;TZID=Europe/Tallinn:20240416T130000
DTSTAMP:20260422T054840
CREATED:20240415T050803Z
LAST-MODIFIED:20240615T083431Z
UID:10011099-1713261600-1713272400@www.pikk.ee
SUMMARY:Põlluraamat praktiline kasutamine
DESCRIPTION:Eesti Põllumajandus-Kaubanduskoda korraldab infopäeva “PRIA elektroonilise põlluraamatu praktiline kasutamine“. \nAeg: 16.aprill 2024\, kell 10:00-12:45 \nKoht: Veebikeskkond ZOOM \nInfopäeval antakse ülevaade uuenenud e-PRIA põldude haldamise teenusest ning lähemalt elektroonilise põlluraamatu pakutavatest funktsioonidest. Registreerimisel on võimalus kirjalikult ette esitada põlluraamatu kasutamisel tekkinud küsimusi\, millele infopäeval PRIA poolt vastused antakse.  \nInfopäev on järelvaadatav  \n\nPÄEVAKAVAS*  \n9:45-10:00 Kogunemine \n10:00-10:30 Uuenev PRIA põldude haldamise teenus ning elektrooniline põlluraamat – Siim Klais\, Põllumajanduse Registrite ja Informatsiooni Ameti põldude registri büroo teenusejuht \n 10:30-12:15 PRIA elektroonilise põlluraamatu funktsionaalsused – Evely Veetsmann\, Põllumajanduse registrite ja informatsiooni põldude registri büroo juhtivspetsialist \n12:15-12:45 Arutelu ja küsimused \n*Korraldajal on õigus teha päevakavas muudatusi  \nInfopäev on korraldatud LIFE IP CleanEST raames. Life IP CleanEST projekti eesmärk on Ida-Eesti veemajanduskavas ja meetmeprogrammides Viru alamvesikonnale ette nähtud meetmete rakendamine\, mille hulka kuuluvad ka ÜPP strateegiakava sekkumised. \n \nLisainfo: Karmen Roost\, EPKK projektijuht\, e-post: karmen@epkk.ee\, tel: +372 5341 4995
URL:https://www.pikk.ee/sundmus/polluraamat-praktiline-kasutamine/
LOCATION:Veebis\, Eesti
CATEGORIES:Keskkond,Loomakasvatus,Taimekasvatus,Veemajandus
ORGANIZER;CN="Eesti P%C3%B5llumajandus-Kaubanduskoda":MAILTO:info@epkk.ee
END:VEVENT
BEGIN:VEVENT
DTSTART;TZID=Europe/Tallinn:20240416T100000
DTEND;TZID=Europe/Tallinn:20240416T170000
DTSTAMP:20260422T054840
CREATED:20240311T131741Z
LAST-MODIFIED:20240513T152244Z
UID:10011035-1713261600-1713286800@www.pikk.ee
SUMMARY:18. Toiduainetööstuse Aastakonverents „Uued olud\, uued võimalused“
DESCRIPTION:Olete oodatud osa võtma traditsioonilisest toidutööstuse aastakonverentsist „Uued olud\, uued võimalused?“ T 16. aprillil kell 10.00-17.00  Radisson Blue Olümpia Hotelli Konverentsikeskuses kohapeal või osalejana veebis. Meie konverents toimub ka sel aastal osalejatele hübriidversioonina\, kuid ootame osalejaid jälle rohkem kohapeale Radisson Blu Hotel Olümpia Konverentsikeskuse saali. \nPalume konverentsile registreeruda hiljemalt T 9. aprilliks SIIT LINGILT \n  \nTänavuse aastakonverentsi raames räägitakse majandusarengutest maailmas\, tutvustatakse Eesti jäätmereformi\, jäätmereformi korraldust Soomes ja jagatakse praktilisi näiteid Eesti toidu müügist välisturgudele. Selle aasta konverentsi fookuses on toiduainetööstuse majanduskeskkond ja mõjutegurid sh jäätmemajandus\, mida lahatakse ka diskussioonivoorus. \nTraditsiooniliselt autasustatakse konverentsil ka tootekonkursi “Eesti Parim Toiduaine 2024” võitjaid. Tseremoonial osalevad regionaalminister Madis Kallas ja Vabariigi Presidendi abikaasa pr Sirje Karis. \n  \n18. Toiduainetööstuse Aastakonverents 2024: UUED OLUD\, UUED VÕIMALUSED \n16.aprill 2024 \nHübriidkonverents Tallinnas\, (Radisson Blu Olümpia hotel) \n  \n9.00 – 10.00            Registreerimine\, hommikukohv \n10.00 – 10.05            Sissejuhatus   –  Sirje Potisepp Toiduliidu juhataja \n10.05 – 10.15            Pöördumine – Veljo Ipits Toiduliidu volikogu esimees \nI sessioon: TOIDUAINETÖÖSTUS JA MAJANDUSKESKKOND \nModeraator               Sirje Potisepp \n10.15 – 11.00            Majandusarengud maailmas lähiaastatel       Arko Kurtmann COOP Pank AS ärikliendipanganduse juht ja juhatuse liige                            \n11.00 – 11.30            Kuhu kadus kindlustunne?  –  Peeter Raudsepp Eesti Konjunktuuriinstituudi direktor \n 11.30 – 11.55            Kogemuslugu: kuidas Eesti toitu maailma müüa  –  Jörgen Herman Liviko AS ekspordidirektor \n11.55 – 12.00            I sessiooni kokkuvõte   \n 12.00 – 12.55            Lõuna\, fuajees toodete degusteerimised \nII sessioon: TOIDUAINETÖÖSTUS JA MÕJUTEGURID \nModeraator: *            Sirje Potisepp \n13.00 – 14.10            “Eesti Parim Toiduaine 2024” väljakuulutamine\, võitjate autasustamine \nTseremoonial osaleb regionaalminister Madis Kallas ja Vabariigi Presidendi abikaasa Sirje Karis \n14.10 – 14.40            Jäätmemajanduse korraldusest Soomes  –  Juha-Heikki Tanskanen  Finnish Packaging Recycling RINKI Ltd CEO \n 14.40 – 15.00             Tervislik paus\, toodete degusteerimine               \n15.00 – 15.30            Eesti jäätmereformist  –  Ivo Jaanisoo Kliimaministeeriumi asekantsler \n15.30 – 16.30            Diskussioonivoor*: Mida teha pakenditega?  –    Moderaator: Marko Udras \nOsalejad: Katrin Tamm Nordic Milk\, Janne Laik- Lõhmus Maag Food\, Ivo Jaanisoo Kliimaministeerium\, Argo Luude Eesti Keskkonnateenused \n16.30 – 16.45            Lõppsõna ja kokkuvõte – moderaator \nJärgneb vastuvõtt banketisaalis.                \n*korraldaja jätab endale õiguse teha vajadusel programmi muudatusi \n  \nTäpsem info ja registreerimine www.toiduliit.ee või telefonil +3726484621 \nKonverents toimub  “Teadmussiirde pikaajaline programm põllumajanduse\, toidu ja maamajanduse tegevusvaldkonnas” toiduohutuse valdkonna raames\, toetab Euroopa Liit. \n  18. Toiduainetööstuse Aastakonverents „Uued olud\, uued võimalused“ saab järele vaadata: https://youtu.be/6sOPEufMJoo \n 
URL:https://www.pikk.ee/sundmus/18-toiduainetoostuse-aastakonverents-uued-olud-uued-voimalused/
LOCATION:Harjumaa\, Harjumaa\, Eesti
CATEGORIES:Toiduainete tootmine,Toit ja toiduohutus
END:VEVENT
END:VCALENDAR