BEGIN:VCALENDAR
VERSION:2.0
PRODID:-//PIKK.ee - ECPv6.13.2.1//NONSGML v1.0//EN
CALSCALE:GREGORIAN
METHOD:PUBLISH
X-WR-CALNAME:PIKK.ee
X-ORIGINAL-URL:https://www.pikk.ee
X-WR-CALDESC:Events for PIKK.ee
REFRESH-INTERVAL;VALUE=DURATION:PT1H
X-Robots-Tag:noindex
X-PUBLISHED-TTL:PT1H
BEGIN:VTIMEZONE
TZID:Europe/Tallinn
BEGIN:DAYLIGHT
TZOFFSETFROM:+0200
TZOFFSETTO:+0300
TZNAME:EEST
DTSTART:20240331T010000
END:DAYLIGHT
BEGIN:STANDARD
TZOFFSETFROM:+0300
TZOFFSETTO:+0200
TZNAME:EET
DTSTART:20241027T010000
END:STANDARD
END:VTIMEZONE
BEGIN:VEVENT
DTSTART;TZID=Europe/Tallinn:20240521T090000
DTEND;TZID=Europe/Tallinn:20240522T180000
DTSTAMP:20260423T170115
CREATED:20240414T161940Z
LAST-MODIFIED:20240420T155801Z
UID:10011095-1716282000-1716400800@www.pikk.ee
SUMMARY:Nõustamismetoodika koolitus M01
DESCRIPTION:Maaelu Teadmuskeskus korraldab nõustamismetoodika koolituse “Minu roll nõustajana”\, CECRA moodul 01\nTäienduskoolitus annab mõistmise põllu- ja maamajanduse nõustajale esitatud ootustest\, erinevatest rollidest ja iseendaga hakkamasaamisest.\nSelle koolituse ja Moodul 2 läbimine koos annavad eelduse konsulendi kutse saamiseks. \nKonsulendi töö on pakkuda kliendile põllu-\, metsa- ja muud maamajanduse alast nõustamist. Lähtuvalt oma spetsialiseerumise valdkonnast edastab konsulent kliendile korrastatud teabe ja juhendab klienti\, arvestades tema vajadusi\, soove\, võimalusi ning piiranguid. Konsulent on kursis nõuandesüsteemi\, majanduskeskkonna suundumuste ning nende mõjuga Eesti maamajandusele.\nKonsulendi töö on enamasti hooajaline\, mitmekesine ja rohkele suhtlemisele ning inimsuhetele tuginev. \n  \nAeg: 21.-22. mai ja 29. mai 024 (kokku 3 päeva\, kohustuslik on osavõtt kõikidest päevadest) \nKoht: Vihula mõis\, Lääne-Virumaa \nRegistreerumine koolitusele alates 16.04 kuni 15. mai kl 16 lehe allservas ⇓ või grupi täitumiseni \n* Tegemist on kolmepäevase koolitusega\, millest esimesed kaks päeva toimuvad järjestikku. Toimumiskoha lähedal on olemas majutusvõimalus. Majutuse ja õhtusöögi maksumus siiski ei ole arvestatud koolituse sisse ning selle peavad tasuma osalejad ise. \n  \nAjakava kõikidel päevadel: \n\n9.00-13.00 koolitus (vahepeal 1 kohvipaus)\n13-00-14.00 lõunasöök\n14.00-18.00 koolitus (vahepeal 1 kohvipaus)\n\nKoolitusele on oodatud konsulenditööst huvitatud inimesed. \nÕppe-eesmärgid: mooduli edukalt läbinu \n\nmõistab nõuandetöö olemust ja enda käitumismustreid nõustajana\ntunneb ja tunnistab oma arenguvajadusi ja -võimalusi\narendab pidevalt enda ja teiste tegevuse analüüsimise oskust\nmõistab ja arvestab oma sihtrühma\, nõuandetööd puudutavate asjaolude ning teiste osapoolte erihuvidega\nkohtleb teisi osapooli tolerantselt ja lugupidamisega\n\nMooduli teemad: \n\nMinu roll nõustajana ning eneseanalüüs: eesmärgid\, motivatsioon\, erinevad rollid ja nende mõistmine\, kultuuride erinevused ja tundlikud teemad\, tugevused ja nõrkused\nMinu sihtrühm ja kliendid\nNõuandetöö kontseptsiooni mõistmine ja baashoiakud\nNõuandetöö soolised aspektid\, Meeste\, naiste ja pereliikmete suhted nõuandetöös\n\n  \nKoolituse korraldaja: Maaelu Teadmuskeskus\nKoolitaja Kaja Piirfeldt  (tunnustatud CECRA koolitaja); kajapiirfeldt@gmail.com \nKoolitus on esimene moodul CECRA koolitusprogrammist.\nEuroopa maapiirkondade konsulentide sertifikaat CECRA (“Certificate for European Consultants in Rural Areas” ) on Euroopa liikmesriikide pädevusprogramm nõustamismetoodikas.
URL:https://www.pikk.ee/sundmus/koolitus-minu-roll-noustajana/
LOCATION:Lääne-Virumaa\, Lääne-Virumaa\, Eesti
CATEGORIES:Maaettevõtlus
END:VEVENT
BEGIN:VEVENT
DTSTART;TZID=Europe/Tallinn:20240522T090000
DTEND;TZID=Europe/Tallinn:20240522T103000
DTSTAMP:20260423T170115
CREATED:20240520T045321Z
LAST-MODIFIED:20240520T045321Z
UID:10011132-1716368400-1716373800@www.pikk.ee
SUMMARY:Pindala- ja loomatoetuste taotlemine ePRIAs
DESCRIPTION:Veebiseminar “Pindala- ja loomatoetuste taotlemine ePRIAS: et iga linnuke saaks õigesse kasti”\ntoimub\n22. mai | kell 9.00–10.30\n\nTänavu algab pindala- ja maaelu arengu loomapõhiste toetuste taotlemine e-PRIAs 20. mail.\nTule ja vaata veebiseminaril\, kuidas e-PRIAs taotlemine käib ja mida taotlemisel silmas pidada. Seminaril saab esitada PRIA spetsialistidele ka jooksvaid küsimusi taotluse täitmise kohta.\n\n Üritus toimub Zoomi keskkonnas 22. mail kell 9.00Zoomi link: https://us06web.zoom.us/j/88939683772Meeting ID: 889 3968 3772\nZoomi lingil klõpsates suunatakse külaline esmalt n-ö ootesaali.\n Seminarile ei ole vaja eelnevalt registreerida.\n\n\nSeminar on järelvaadatav pärast toimumist Youtube‘is. Anname sellest jooksvalt teada meie kodulehe uudiste rubriigis ja Facebooki lehel. \n\nNõuandeteenuse kasutamisest huvitatutel soovitame esmalt tutvuda artikliga „Nõuandeteenus – mida tähele panna?“\nKäesoleval aastal saab taotleda 25 erinevat pindala- ja maaelu arengu loomapõhist toetust ning nende maksmiseks on eelarves ette nähtud üle 228 miljoni euro. Toetuste sisu ja taotlemise tingimuste kohta saab täpsemalt lugeda PRIA kodulehelt.
URL:https://www.pikk.ee/sundmus/pindala-ja-loomatoetuste-taotlemine-eprias/
LOCATION:Veebis\, Eesti
CATEGORIES:Loomakasvatus,Taimekasvatus
END:VEVENT
BEGIN:VEVENT
DTSTART;TZID=Europe/Tallinn:20240522T130000
DTEND;TZID=Europe/Tallinn:20240522T150000
DTSTAMP:20260423T170115
CREATED:20240512T072118Z
LAST-MODIFIED:20240512T072118Z
UID:10011123-1716382800-1716390000@www.pikk.ee
SUMMARY:Silo tootmise koolitus
DESCRIPTION:22. mail korraldab Smartfor silo tootmise koolituse Pärnumaal\, Alve kaupluses.
URL:https://www.pikk.ee/sundmus/silo-tootmise-koolitus/
LOCATION:Pärnumaa\, Pärnumaa\, Eesti
CATEGORIES:Taimekasvatus
ORGANIZER;CN="O%C3%9C Smartfor":MAILTO:kristiina@smartfor.ee
END:VEVENT
END:VCALENDAR