BEGIN:VCALENDAR
VERSION:2.0
PRODID:-//PIKK.ee - ECPv6.13.2.1//NONSGML v1.0//EN
CALSCALE:GREGORIAN
METHOD:PUBLISH
X-ORIGINAL-URL:https://www.pikk.ee
X-WR-CALDESC:Events for PIKK.ee
REFRESH-INTERVAL;VALUE=DURATION:PT1H
X-Robots-Tag:noindex
X-PUBLISHED-TTL:PT1H
BEGIN:VTIMEZONE
TZID:Europe/Tallinn
BEGIN:DAYLIGHT
TZOFFSETFROM:+0200
TZOFFSETTO:+0300
TZNAME:EEST
DTSTART:20240331T010000
END:DAYLIGHT
BEGIN:STANDARD
TZOFFSETFROM:+0300
TZOFFSETTO:+0200
TZNAME:EET
DTSTART:20241027T010000
END:STANDARD
END:VTIMEZONE
BEGIN:VEVENT
DTSTART;TZID=Europe/Tallinn:20241001T080000
DTEND;TZID=Europe/Tallinn:20241009T170000
DTSTAMP:20260424T102737
CREATED:20240912T173203Z
LAST-MODIFIED:20240920T124940Z
UID:10011274-1727769600-1728493200@www.pikk.ee
SUMMARY:Hanede looduslähedane ja keskkonnasõbralik kasvatamine rohumaadel (40 t) TASUTA
DESCRIPTION:Hanede looduslähedane ja keskkonnasõbralik kasvatamine rohumaadel (40 t)   \nKoolitus toimub  1.\, 2.\, 8.\, 9. ja 10. oktoober  \nJärvamaa Kutsehariduskeskuse Särevere õppekohas\n \nKoolitaja: Janek Prits\nKoolitusele registreerimine toimub SIIT \nTäiendav info:\nRuth Türk\nruth.turk@jkhk.ee\n+372 5329 2188
URL:https://www.pikk.ee/sundmus/hanede-looduslahedane-ja-keskkonnasobralik-kasvatamine-rohumaadel/
LOCATION:Järvamaa\, Järvamaa\, Eesti
CATEGORIES:Loomakasvatus
GEO:58.8866713;25.5000624
END:VEVENT
BEGIN:VEVENT
DTSTART;TZID=Europe/Tallinn:20241008T080000
DTEND;TZID=Europe/Tallinn:20241009T170000
DTSTAMP:20260424T102737
CREATED:20240912T174153Z
LAST-MODIFIED:20240916T055407Z
UID:10011275-1728374400-1728493200@www.pikk.ee
SUMMARY:Keskkonnasõbralike karja- ja heinamaade rajamise põhialused (40 t) TASUTA
DESCRIPTION:Keskkonnasõbralike karja- ja heinamaade rajamise põhialused (40 t) \nKoolitus toimub 8. ja 9.; 21. ja 22. oktoober  \nJärvamaa Kutsehariduskeskuse Särevere õppekohas \nKoolitaja: Kaja Marrandi\, Kadri Luhter\, Karl Aru\nKoolitusele registreerimine toimub SIIT \nTäiendav info:\nRuth Türk\nruth.turk@jkhk.ee\n+372 5329 2188
URL:https://www.pikk.ee/sundmus/keskkonnasobralike-karja-ja-heinamaade-rajamise-pohialused-40-t-tasuta/
LOCATION:Järvamaa\, Järvamaa\, Eesti
CATEGORIES:Taimekasvatus
GEO:58.8866713;25.5000624
END:VEVENT
BEGIN:VEVENT
DTSTART;TZID=Europe/Tallinn:20241009T080000
DTEND;TZID=Europe/Tallinn:20241010T180000
DTSTAMP:20260424T102737
CREATED:20240603T041728Z
LAST-MODIFIED:20240603T041728Z
UID:10011176-1728460800-1728583200@www.pikk.ee
SUMMARY:EPA 2024
DESCRIPTION:EPA – see on põllumajanduse aastanäitus ja kahepäevane mess\, kus saavad kokku valdkonna hinnatuimad toidutootmise ja põllumajandusega tegelevad ettevõtjad.\nEPA on uute teadmiste ja kogemuste vahetamise koht ettevõtjatele ja nende tegevuste toetajatele\, olgu nendeks siis masinate tootjad või põllutehnika või lautade sisustuste müüjad\, uut tehnoloogiat või tarkvaralahendusi pakkuvad ettevõtjad. Kohal on teadusasutused kõrvuti riigiasutustega ehk kõik\, keda ja mida ühel edukal põllumajandustootjal on vaja\, et olla kursis tänapäevaste muutuste\, innovatsiooni ja teadmistega. \nSeminarid ja konverentsid\nMessil toimub arvukalt valdkondlikke seminare ja konverentse. Tavapäraselt tähendab see umbes viit konverentsi\, millele lisandub mitukümmend seminari. Sel sügisel on huvilised oodatud metsandusfoorumile\, lamba- ja kitsekasvatajate konverentsile ja ühistegevuse konverentsile\, et kuulata\, milliseid arenguid on toonud ja toob digipööre maamajanduses\, või ammutama uusi teadmisi finantsseminaril. \nKahe päeva kestel on messi­alal avatud ka EPA stuudio\, kus toimuvad debatid päevakajalistel teemadel ja paneeldiskussioonid. Igal juhul on messialale koondanud palju informatsiooni – mida iganes ettevõtja vajab\, seda ta messilt ka saab. \nKohe kindlasti saab iga ettevõtja messilt head ja rikastavat suhtlust mõttekaaslastega – kogu tarkus on koos\, saab vahetada värskeid kogemusi selle kohta\, mis on lõppeval aastal õnnestunud ja mida tuleks uuel aastal teha paremini. \nMess on avatud kõikidele huvilistele. Kodumaa vajab ja hindab tarku põllumehi\, kes hoolitseksid ka tulevikus meie toidulaua eest\, seega oleks nutikas ära kasutada võimalust ja näidata lastele masinaid\, mis põldudel või farmides töötavad\, et toit jõuaks talust taldrikule. \nVäärikas toimumiskoht\nMessi võõrustab juba kuuendat aastat järjest Eesti Rahva Muuseum. Võtame seda suure au ja tunnustusena kõikidele toidutootjatele\, sest eks ole ju just põllumajandus tihedalt seotud kogu meie pärimuse ja eestlaseks kujunemise looga. Eestlane on juurtelt maarahvas ja seega suhestume ERM-iga päris kenasti. \nKui kellelgi tekib küsimus\, et kuidas me end oma suurte traktorite ja kombainidega muuseumisse ära mahutame\, siis tulge kohale ja vaadake. \nEPA ootab! Me tuleme taas. \nEesti põllumajanduse aastanäitus 2024 toimub Eesti Rahva Muuseumis 09.-10. oktoobril 2024.
URL:https://www.pikk.ee/sundmus/epa-2024/
LOCATION:Tartumaa\, Eesti
CATEGORIES:Turundus,Ühistegevus
ORGANIZER;CN="Eesti P%C3%B5llumajandus-Kaubanduskoda":MAILTO:info@epkk.ee
GEO:58.4057128;26.801576
END:VEVENT
BEGIN:VEVENT
DTSTART;TZID=Europe/Tallinn:20241009T090000
DTEND;TZID=Europe/Tallinn:20241009T170000
DTSTAMP:20260424T102737
CREATED:20240902T064116Z
LAST-MODIFIED:20240920T124856Z
UID:10011254-1728464400-1728493200@www.pikk.ee
SUMMARY:Taimekaitse täienduskoolitus professionaalsele taimekaitsevahendite kasutajale
DESCRIPTION:09.10.2024 „Taimekaitse täienduskoolitus professionaalsele taimekaitsevahendite kasutajale“ veebis MS Teams. Õppepäeva algus kell 9.00 \nKoolitusel osalemiseks vajalik eelregistreerumine\, sest kohtade arv on piiratud. \nKursustele registreerumine aianduskooli kodulehel https://koolitus.aianduskool.ee/events/list/ \n  \nKoolitusjuht \nEda Gross\, eda.gross@aianduskool.ee; tel 796 1549
URL:https://www.pikk.ee/sundmus/taimekaitse-taienduskoolitus-professionaalsele-taimekaitsevahendite-kasutajale-27/
LOCATION:Veebis\, Eesti
CATEGORIES:Taimekaitse,Taimekasvatus
ORGANIZER;CN="R%C3%A4pina Aianduskool":MAILTO:elina.oeselg@aianduskool.ee
END:VEVENT
BEGIN:VEVENT
DTSTART;TZID=Europe/Tallinn:20241009T100000
DTEND;TZID=Europe/Tallinn:20241009T121500
DTSTAMP:20260424T102737
CREATED:20241008T094017Z
LAST-MODIFIED:20241008T094208Z
UID:10011300-1728468000-1728476100@www.pikk.ee
SUMMARY:Taimekasvatustootjate koostöö õpiring
DESCRIPTION:Eesti Maaülikool (EMÜ) korraldab taimekasvatustootjate koostöö õpiringi\, mis koguneb esimest korda 9. oktoobril 2024 kell 10.00 Põllumeeste ühistu KEVILI Tartu kontoris (Turu tn 34\, Tartu linn\, Tartu linn\, Tartu maakond\, 51004). Tänavu kohtub õpiring neli korda ja osalejatelt oodatakse igast õpiringist osavõttu\, mille edasised kogunemised lepitakse kokku esimese kohtumise ajal. \nÕpiring keskendub teraviljakasvatusega tegelevate ettevõtete ja ühistute majanduslikule käekäigule\, digitaliseerimisele põllumajanduses ning Euroopa ja Eesti põllumajanduspoliitika tulevikusuundumustele. Tegevust suunab EMÜ maamajanduse ökonoomika õppetooli juht ja tenuuriprofessor Rando Värnik. Osalejad peaks olema valmis end teiste kogemuste abil koolitama ja ise oma kogemusi jagama. \nÕpiringist osa võtmine on tasuta\, kuid osalemissoovi avaldamiseks tuleb kirjutada meilile taavi.kiisk@emu.ee hiljemalt 8\, oktoobriks 2024. Osalejate arv on piiratud ja selle täitumisel lõpetatakse registreerumine enne tähtaega. \nLisainfot saab Taavi Kiisa käest meiliaadressilt taavi.kiisk@emu.ee. \nÕpiring toimub MAK 2014–2020 meetme „Teadmussiirde programm põllumajanduse\, toidu ja maamajanduse tegevusvaldkonnas“ ühistegevuse valdkonna raames ning seda toetab Euroopa Liit.
URL:https://www.pikk.ee/sundmus/taimekasvatustootjate-koostoo-opiring-3/
LOCATION:Tartu\, Eesti
CATEGORIES:Taimekasvatus,Ühistegevus
END:VEVENT
BEGIN:VEVENT
DTSTART;TZID=Europe/Tallinn:20241009T100000
DTEND;TZID=Europe/Tallinn:20241009T131000
DTSTAMP:20260424T102737
CREATED:20240918T112127Z
LAST-MODIFIED:20240920T082634Z
UID:10011282-1728468000-1728479400@www.pikk.ee
SUMMARY:EPKK konverents: Digipööre Eesti maamajanduses
DESCRIPTION:Eesti Põllumajandus-Kaubanduskoda kutsub osalema konverentsil “Digipööre Eesti maamajanduses” \n  \nKoht: EPA2024 raames\, ERM Jakob Hurt saal (Muuseumi tee 2\, Tartu) ja veebiülekanne  \nAeg: 9. oktoober\, 10.00-13.10  \n  \nRegistreerimine on avatud SIIN.  \nRegistreerimine kohapeal osalemiseks avatud kuni 3. oktoober 2024   \n  \nKonverentsi päevakavas*:   \n9:00 – 10:00 tervituskohv ja kogunemine  \n10:00 – 10:10 Konverentsi avamine  \n10:10 – 10:40 Riigi poolt hallatavate andmete ja teenuste kasutamine kui võimalus põllumajanduse digitaliseerimiseks. Liis Sipelgas\, Regionaal- ja Põllumajandusministeeriumi Teadus- ja arendusosakonna juhataja \n10:40 – 11:00 Põllumajanduse digitaalne infopank. Kadri Koel\, PRIA eelarve- ja analüüsiosakond  \n11:00 – 11:30 Robotid põllumajanduses ja nende rakendamine. Victor Bloch\, Natural Research Finland  \n11:35- 12:05 Targem töötamine – automatiseeritud farm. Toomas Rüütel\, Linery OÜ\, müügijuht  \n12:10- 12:30 Põlluandmete potentsiaal. Kristjan Anderson\, eAgronom Eesti tegevjuht \n12:35-13:00 Agrorobootika Eestis. Tormi Lillerand\, Eesti Maaülikooli nooremteadur  \n13:00-13.10 Konverentsi lõpetamine \n  \nPäevajuht: Ragnar Viikoja\, Eesti Põllumajandus-Kaubanduskoja põllumajandusvaldkonna juht  \n  \n *Korraldaja jätab endale õiguse teha vajadusel päevakavas muudatusi    \nKonverentsil osalemine on tasuta\, registreerunutele tasuta messipääse ja kohvipaus.  \nKonverentsi lisainfo: Marge Mänd\, EPKK projektijuht\, e-post: marge@epkk.ee\, tel: 53009034  \n  \nSündmus toimub MAK 2014-2020 „Teadmussiirde pikaajaline programm põllumajanduse\, toidu ja maamajanduse tegevusvaldkonnas“ raames. Rahastamisallikas: Euroopa Maaelu Põllumajandusfond (EAFRD).   
URL:https://www.pikk.ee/sundmus/digipoore/
LOCATION:Tartu\, Eesti
CATEGORIES:Finantsmajandus,Keskkond,Maaettevõtlus,Muu,Taimekasvatus,Tootmine ja kvaliteet
ATTACH;FMTTYPE=image/jpeg:https://www.pikk.ee/wp-content/uploads/2024/09/hands-820272_1280-jpg.webp
ORGANIZER;CN="Eesti P%C3%B5llumajandus-Kaubanduskoda":MAILTO:info@epkk.ee
END:VEVENT
BEGIN:VEVENT
DTSTART;TZID=Europe/Tallinn:20241009T140000
DTEND;TZID=Europe/Tallinn:20241009T173000
DTSTAMP:20260424T102737
CREATED:20240912T104707Z
LAST-MODIFIED:20250209T155037Z
UID:10011272-1728482400-1728495000@www.pikk.ee
SUMMARY:EPKK konverents: Lamba- ja kitsekasvatajate aastakonverents 2024
DESCRIPTION:Eesti Põllumajandus-Kaubanduskoda kutsub osalema:  \nLamba- ja kitsekasvatajate aastakonverents 2024   \nKoht: EPA2024 raames\, ERM Jakob Hurt saal (Muuseumi tee 2\, Tartu) ja veebiülekanne\nAeg: 9. oktoober\, 14.00-17.30  \nRegistreerimine on avatud SIIN.\nRegistreerimine kohapeal osalemiseks avatud kuni 3. oktoober 2024   \n  \nEestis on head looduslikud ja klimaatilised tingimused lamba- ja kitsekasvatuseks. Ühe maaühiku kohta on lamba- ja kitsekasvatus väiksema tööjõuga\, kapitali ja toodangumahuga\, samas ka vähema väetiste ja pestitsiidide kasutamisega põllumajandussektor. Suur osa Eesti lamba- ja kitsekasvatajatest järgib mahepõllumajanduse põhimõtteid.   \n\n a oli lammaste arv septembri alguse seisuga 49670 looma\, mis on Eesti Euroopa Liiduga liitumise ajast kõige madalam arv. Kõige rohkem loomi oli aastal 2016\, siis oli PRIA loomade registris arvel 84752 lammast. Kitsede arv 2024. a septembri algusega oli 3315 looma\, ka nende arvukus on viimastel aastatel olnud pidevas langustrendis. Kõige rohkem ehk 5329 oli neid loomade registri andmetel 2016. a. Loomade arvu vähenemisega tekkib järjest enam küsimusi  sektori rolli osas.\n\nÜhelt poolt nähakse lamba- ja kitsekasvatuses tulevikku keskkonnahoiu vaatest\, teiselt poolt soovitatakse sektoril rohkem tähelepanu pöörata turustamisel oma toodangu suuremale väärindamisele. Kõrgem lisandväärtus nõuab aga lisainvesteeringuid\, mis vähenevate sissetulekute kontekstis on äärmiselt keeruline. Lisaks iga-aastaste kiskjarünnakute kahjudega tegelemisele\,  on viimasel kahel aastal lisandunud kasvatajate mure Euroopas levivate haiguste ees.   \nKonverentsil antakse ülevaade lamba- ja kitsekasvatuse hetkeseisust ja tulevikuvaatest\, räägitakse huntide ja teiste kiskjate rünnakutest karjades ning loomataudidest ja Eesti valmisolekust piirata haiguste levikut. Aruteluringis keskendutakse loomade karjatamisega seotud küsimustele.   \n Järelvaatamine: https://video.saundland.ee/kits24/  \nKonverentsi päevakavas*:   \n13:30 – 14:00 kohvipaus ja kogunemine  \n14:00 – 14:10 Avasõnad. Ants Kuks\, Eesti Lamba- ja Kitsekasvatajate Liidu juhatuse esimees  \n14:10 – 14:50 Lamba- ja kitsekasvatussektori ülevaade\, sektori tulemused\, hinnangud ja prognoos. Regionaal- ja Põllumajandusministeeriumi vaatest. Kristel Maidre Regionaal- ja Põllumajandusministeeriumi põllumajanduspoliitika osakonna juhataja  \n14:50 – 15:20 Euroopas levivad taudid ning Eesti valmisolek ja toimetulek võimalikuks kriisiks. Anne-Ly Veetamm\, Põllumajandus- ja Toiduameti juhtivspetsialist   \n15:20 – 15:50 Kiskjakahjudest ja nende ennetamisest lambakasvatuses. Tõnu Talvi\, Keskkonnaameti looduskaitse peaspetsialist   \n16:00 – 16:15 sirutuspaus kohvi ja suupistetega  \n16:15 – 16:45 Kaitsealade tõhus majandamine. Dr. Henri Järv\, Eesti Maaülikooli keskkonnakaitse ja maastikukorralduse õppetooli peaspetsialist  \n16:45 – 17:30 Paneel karjatamise  ja loodushoiu teemadel  \n\nAnts Kuks\, Eesti Lamba- ja Kitsekasvatajate Liidu juhatuse esimees ja lambakasvataja\n\n\nPriidu Veersalu\, Eesti Lamba- ja Kitsekasvatajate Liidu juhatuse aseesimees ja lambakasvataja\n\n\nKatrin Rannik\, Regionaal- ja põllumajandusministeerium\, Põllumajanduskeskkonnapoliitika osakonna juhataja\n\n\nAleksei Lotman\, Eestimaa Looduse Fond mereprogrammi juht\, põllumajandus- ja keskkonnaekspert\n\n\nGunnar Sein\, Keskkonnaameti maahoolduse büroo juhataja\n\nPäevajuht: Mirjam Pikkmets\, Eesti Lamba- ja Kitsekasvatajate Liidu tegevjuht  \n  \n *Korraldaja jätab endale õiguse teha vajadusel päevakavas muudatusi    \nKonverentsil osalemine on tasuta\, registreerunutele tasuta messipääse ja kohvipausid.  \nKonverentsi lisainfo: Marge Mänd\, EPKK projektijuht\, e-post: marge@epkk.ee\, tel: 53009034  \n  \nSündmus toimub MAK 2014-2020 „Teadmussiirde pikaajaline programm põllumajanduse\, toidu ja maamajanduse tegevusvaldkonnas“ raames. Rahastamisallikas: Euroopa Maaelu Põllumajandusfond (EAFRD).   
URL:https://www.pikk.ee/sundmus/lambad_kitsed/
LOCATION:Tartu\, Eesti
CATEGORIES:Haridus,Keskkond,Loomakasvatus,Maaettevõtlus,Mahemajandus,Muu,Toiduainete tootmine
ATTACH;FMTTYPE=image/jpeg:https://www.pikk.ee/wp-content/uploads/2024/09/Lamba-ja-kitsekasvatajate-konverents-2024-jpg.webp
ORGANIZER;CN="Eesti P%C3%B5llumajandus-Kaubanduskoda":MAILTO:info@epkk.ee
END:VEVENT
END:VCALENDAR