BEGIN:VCALENDAR
VERSION:2.0
PRODID:-//PIKK.ee - ECPv6.13.2.1//NONSGML v1.0//EN
CALSCALE:GREGORIAN
METHOD:PUBLISH
X-WR-CALNAME:PIKK.ee
X-ORIGINAL-URL:https://www.pikk.ee
X-WR-CALDESC:Events for PIKK.ee
REFRESH-INTERVAL;VALUE=DURATION:PT1H
X-Robots-Tag:noindex
X-PUBLISHED-TTL:PT1H
BEGIN:VTIMEZONE
TZID:Europe/Tallinn
BEGIN:DAYLIGHT
TZOFFSETFROM:+0200
TZOFFSETTO:+0300
TZNAME:EEST
DTSTART:20240331T010000
END:DAYLIGHT
BEGIN:STANDARD
TZOFFSETFROM:+0300
TZOFFSETTO:+0200
TZNAME:EET
DTSTART:20241027T010000
END:STANDARD
END:VTIMEZONE
BEGIN:VEVENT
DTSTART;TZID=Europe/Tallinn:20241029T080000
DTEND;TZID=Europe/Tallinn:20241031T170000
DTSTAMP:20260421T183314
CREATED:20240910T151410Z
LAST-MODIFIED:20240910T151410Z
UID:10011269-1730188800-1730394000@www.pikk.ee
SUMMARY:Taimekaitse aluskoolitus professionaalsele kasutajale (22 t)
DESCRIPTION:Taimekaitse aluskoolitus professionaalsele kasutajale (22 t) \nKoolitus toimub 29.-31. oktoober 2024\nKoolitajad: Kaja Marrandi\, Marek Kõbu \nKoolitusele registreerimine toimub SIIT \nKoolituse hind 185 eurot \nTäiendav info:\nRuth Türk\nruth.turk@jkhk.ee\n+372 5329 2188
URL:https://www.pikk.ee/sundmus/taimekaitse-aluskoolitus-professionaalsele-kasutajale-22-t-26/
LOCATION:Järvamaa\, Järvamaa\, Eesti
CATEGORIES:Taimekaitse
GEO:58.8866713;25.5000624
END:VEVENT
BEGIN:VEVENT
DTSTART;TZID=Europe/Tallinn:20241029T090000
DTEND;TZID=Europe/Tallinn:20241029T140000
DTSTAMP:20260421T183314
CREATED:20241015T071647Z
LAST-MODIFIED:20241217T190245Z
UID:10011303-1730192400-1730210400@www.pikk.ee
SUMMARY:Muldade heaperemehelik majandamine 1
DESCRIPTION:Eesti Maaülikool korraldab mullakaitse teemalised infopäevad . Infopäevad toimuvad veebis. \n29.10.2024 Muldade heaperemehelik majandamine. \n12.11.2024 Muldade heaperemehelik majandamine. \n19.11.2024 Muldade heaperemehelik majandamine. \nRegistreerumine: https://www.emu.ee/ylikoolist/uudised/sundmused/muldade-heaperemehelik-majandamine/  \n  \nProgramm: \n09:00 – 10:30 Muldade hapestumine ja lupjamine (Alar Astover\, EMÜ) \n10:30 – 12:00 Haljasväetised ja vahekultuurid mullatervise parandajatena (Liina Talgre\, EMÜ) \n12:00 – 12:15  Paus \n12:15 – 13:45 Keskkonnasõbraliku majandamise toetus ja mullakaitse toetus (Toomas Tõrra\, EMÜ) \n  \nPõllupäev läheb arvesse Mulla kaitse (MULD) ja keskkonnasõbraliku majanduamise (KSM) toetuse sobiva õppena. \nInfopäevi korraldab Maaelu Teadmuskeskuse tellimusel Eesti Maaülikool. \nInfopäevad toimuvad Euroopa Liidu ühise strateegiakava 2023-2027 kohase Põllumajanduse teadmussiirde ja innovatsiooni süsteemi (AKIS) arendamise toetuse raames\, rahastab Euroopa Maaelu Põllumajandusfond. \n  \nKontakt: \nToomas Tõrra \nEMÜ Rõhu katsejaama juhataja \nTel: 501 8038 \ne-post: toomas.torra@emu.ee \n 
URL:https://www.pikk.ee/sundmus/mullakaitse-1/
LOCATION:Veebis\, Eesti
CATEGORIES:Keskkond
ATTACH;FMTTYPE=image/jpeg:https://www.pikk.ee/wp-content/uploads/2024/10/Mullaharimine-scaled.avif
END:VEVENT
BEGIN:VEVENT
DTSTART;TZID=Europe/Tallinn:20241029T150000
DTEND;TZID=Europe/Tallinn:20241030T170000
DTSTAMP:20260421T183315
CREATED:20241027T121634Z
LAST-MODIFIED:20241027T121634Z
UID:10011313-1730214000-1730307600@www.pikk.ee
SUMMARY:Toiduhäkaton
DESCRIPTION:Tartu Biotehnoloogia Park koostöös Maaelu Teadmuskeskuse (METK) ja Toidu- ja Fermentatsioonitehnoloogia Arenduskeskusega (TFTAK) korraldavad Tartus toidu valdkonnale pühendatud häkatoni.  \n \n29.–30. novembril toimub Tartu Loodusmajas intensiivne häkaton\, kus lisaks tiimitööle leiavad aset ka disainmõtlemise ja suurepärase esitlemise (pitching) koolitused. Osalejad töötavad kohapeal välja oma äriideed koostöös mentoritega. Ürituse viimane osa on esitlemisvõistlus\, kus selgub parim ehk kõige innovatiivsem tiim. \nMETK esitab häkatonil osalejatele väljakutse luua lahendusi\, mis kiirendavad edusamme säästva põllumajanduse\, toidujulgeoleku ja toiduainete tootmise edendamise suunas\, vähendades samal ajal keskkonnamõju. \nTFTAKi väljakutsed keskenduvad lahenduste leidmisele toidujäätmete vähendamiseks\, tarbijate teadlikkuse tõstmisele toitumise ja toidu koostise kohta ning tervislikumate ja mitmekesisemate toitumisharjumuste edendamisele. Samuti otsitakse uuenduslikke viise toiduainetööstuse jääkide paremaks kasutamiseks ning kogutakse pidevalt teavet elanikkonna toitumisharjumuste kohta. \nMiks häkatonil kaasa lüüa? \n\nVõimalus lahendada  toiduga seotud kriitilisi probleeme\nPraktiline kogemus reaalsete väljakutsete lahendamisel\nDisainimõtlemine ja pitch-koolitus\nInspireerivad esinejad\nVõrgustumine sarnaselt mõtlevate inimestega\n\nPartnerite auhinnad: \n\n500€ rahaline auhind ja 5 piletit sTARTUp Day 2025-le võitnud meeskonnale ning võimalus osaleda EIT Foodi ettevõtluse toetusprogrammides.\n5 piletit sTARTUp Day 2025-le\n6 tundi mentorlust Tartu Biotehnoloogiapargi poolt\n500€ väärtuses konsultatsioon TFTAKilt\n\nTutvu lähemalt ja registreeru \nÜritus on rahvusvaheline ja toimub inglise keeles!
URL:https://www.pikk.ee/sundmus/toiduhakaton/
LOCATION:Tartu\, Eesti
CATEGORIES:Toiduainete tootmine,Toit ja toiduohutus
ORGANIZER;CN="Tartu Biotehnoloogia Park":MAILTO:biopark@biopark.ee
END:VEVENT
END:VCALENDAR