BEGIN:VCALENDAR
VERSION:2.0
PRODID:-//PIKK.ee - ECPv6.13.2.1//NONSGML v1.0//EN
CALSCALE:GREGORIAN
METHOD:PUBLISH
X-WR-CALNAME:PIKK.ee
X-ORIGINAL-URL:https://www.pikk.ee
X-WR-CALDESC:Events for PIKK.ee
REFRESH-INTERVAL;VALUE=DURATION:PT1H
X-Robots-Tag:noindex
X-PUBLISHED-TTL:PT1H
BEGIN:VTIMEZONE
TZID:Europe/Tallinn
BEGIN:DAYLIGHT
TZOFFSETFROM:+0200
TZOFFSETTO:+0300
TZNAME:EEST
DTSTART:20250330T010000
END:DAYLIGHT
BEGIN:STANDARD
TZOFFSETFROM:+0300
TZOFFSETTO:+0200
TZNAME:EET
DTSTART:20251026T010000
END:STANDARD
END:VTIMEZONE
BEGIN:VEVENT
DTSTART;TZID=Europe/Tallinn:20250403T100000
DTEND;TZID=Europe/Tallinn:20250403T160000
DTSTAMP:20260423T170943
CREATED:20250313T090032Z
LAST-MODIFIED:20250403T121647Z
UID:10011467-1743674400-1743696000@www.pikk.ee
SUMMARY:EPKK seminar: BreedExpo2 ekspordiseminar lihaveisekasvatajatele  
DESCRIPTION:BreedExpo2 ekspordiseminar lihaveisekasvatajatele   \n  \nAeg: 3.04.2025 kell 10.00 – 16.00  \nKoht: Massu kiviait / Massu meierei Meelise\, Massu küla\, Põhja-Pärnumaa vald\, Pärnu maakond  \n  \nPäevakavas*:   \n9.30 – 10.00 Registreerimine ja tervituskohv   \n10.00 – 11.15 Lihaveiste ekspordi trendid. Hoite Schaap\, Schaap tegevjuht (Holland)  \n11.15 – 12.30 Geneetika turundamine ja eksport. William McLaren \, HW Netherton Angus Scotland (UK)  \n12.30 – 13.30 Lõuna  \n13.30 – 14.00 Aretusloomade valik – genoomtestide kasutamine ja tulemuste tõlgendamine. Maria Liisa Luur\, ETKÜ lihaveiste aretusspetsialist ja Jane Mättik ETKÜ projektijuht  \n14.00 – 15.00 Koostöö Eesti Tõuloomakasvatajate Ühistuga loomade ekspordil . Tanel-Taavi Bulitko\, ETKÜ tegevjuht & Vallo Seera\, loomaarst  \n15.00 – 15.45 Kogemusi loomade müügist jagavad Eesti farmid.  \n  \nInfopäeval on järeltõlge.   \n  \n*Korraldajal on õigus teha päevakavas muudatusi.   \n  \nSündmuse läbiviimist toetab INTERREG Kesk-Läänemere Programmist rahastatav projekt “BreedExpo2”. 
URL:https://www.pikk.ee/sundmus/ekspordiseminar/
LOCATION:Pärnumaa\, Pärnumaa\, Eesti
CATEGORIES:Loomakasvatus,Maaettevõtlus,Muu
ATTACH;FMTTYPE=image/jpeg:https://www.pikk.ee/wp-content/uploads/2025/03/export-2123475_1280.avif
ORGANIZER;CN="Eesti P%C3%B5llumajandus-Kaubanduskoda":MAILTO:info@epkk.ee
END:VEVENT
BEGIN:VEVENT
DTSTART;TZID=Europe/Tallinn:20250403T130000
DTEND;TZID=Europe/Tallinn:20250403T153000
DTSTAMP:20260423T170943
CREATED:20250319T191349Z
LAST-MODIFIED:20250319T191349Z
UID:10011477-1743685200-1743694200@www.pikk.ee
SUMMARY:Konkurentsivõime suurendamise investeeringutoetus
DESCRIPTION:Teemavebinar – Konkurentsivõime suurendamise investeeringutoetusest ja MESi rahastuslahendustest\nToimumisaeg: 03.04.2025\nToimumiskoht: Veebis – Zoom \nSihtgrupp: maapiirkonna ettevõtjad\, biomajanduse ettevõtjad\, maaettevõtluse nõustajad\, teemast huvitatud \n\n\n\n\n\n\n\n\n\n\n\n    \n3. aprillil 2025 korraldab Maaelu Teadmuskeskuse maaeluvõrgustik koostöös  Regionaal- ja Põllumajandusministeeriumi ja Maaelu Edendamise Sihtasutusega ettevõtluse teemalise veebipõhise infoseminari\n \n  \n\n\n\n  \nMilleks saab kasutada konkurentsivõime suurendamise investeeringutoetust!\nMillal on põhjust küsida investeeringu elluviimiseks laenu Maaelu Edendamise Sihtasutuselt\n\nNELJAPÄEV 3. aprill 2025 \nSalvestuse järele vaatamine – Youtube LINK (lisatakse hiljem)\n \n  \n\n\n\n\n\n\n\n12.50\nSisenemine Zoom keskkonda\n\n\n13.00 – 15.30\nEttevõtete konkurentsivõime suurendamise investeeringutoetus.\nstrateegiakava sekkumisest 8.1 \nToetuse sihtgrupp on kuni 49 töötajaga maapiirkonna mikro- ja väikeettevõtjad* \nAllar Korjas\, Regionaal- ja Põllumajandusministeeriumi peaspetsialist\n \nTutvustatakse meetme tingimusi: \n\nkes\, kus ja milleks saab toetust kasutada;\nmillised kohustused kaasnevad toetuse saamisega;\nmis on olnud komistuskohad toetuse taotlemisel ja kuidas neid vältida;\n\n  \nProjekti rahastamise lahendused Maaelu Edendamise Sihtasutuse (MES) laenu ja käenduse abil. \nKristiina Raba\, Maaelu Edendamise Sihtasutuse (MES) analüütik \nTutvustatakse ettevõtjatele MES tegevusi ja rahastuslahendusi: \n\nKuidas MES-i laenud ja käendused aitavad maapiirkondade ettevõtetel investeeringud teoks teha;\nkuidas kasutada MES-i käendust\, kui pangalaenu saamisel tuleb tagatistest puudu;\nMilliseid investeeringuid saab teha MES-i MAK rahastamisvahendi laenude abil;\nkuidas saavad MTÜ-d MES-i laenu kasutada sildfinantseerimiseks;\nkuidas saab MES-i vahendeid kasutada PRIA konkurentsivõime suurendamise investeeringutoetuse omafinantseeringuks.\n\n  \nKüsib: Ave Bremse\nETTEKANNDED  (lisatakse hiljem)\n\n\n\nLISAINFO: \nToetusmeede: \n„Ettevõtete konkurentsivõime suurendamise investeeringutoetus. strateegiakava sekkumise 8.1 raames antav toetus.\nInvesteeringutoetuse suurus on kuni 200 000 € \nMeetme sihtgrupp*: \n\nKuni 49 töötajaga mikro- ja väikeettevõtjad ettevõtted;\ntaotleja tegevuskoht peab asuma maalises või väikelinnalises asustuspiirkonnas\, välja arvatud Tallinnaga piirnevad Harku\, Saue\, Saku\, Kiili\, Rae\, Jõelähtme ja Viimsi vallad;\nkes on enne taotluse esitamist tegutsenud vähemalt kaks majandusaastat;\nteeninud taotluse esitamise aastale vahetult eelnenud mõlemal kahel majandusaastal müügitulu vähemalt 40 000 eurot;\non valmis looma juurde täiendavaid töökohti;\nsoovivad kasutada toetust kas uudse tehnoloogia soetamiseks\, IT lahenduse juurutamiseks või ettevõtte ressursitõhususe parandamiseks.\nToetust ei saa kasutada põllumajanduse\, metsanduse ja kalanduse valdkonnas.\n\nVeel infot: \n\nPerioodi 2023–2027 maapiirkonna ettevõtjate konkurentsivõime suurendamise investeeringutoetus RT I\, 21.02.2025\, 8\n\nToetuse tingimused ja taotlemine PRIA veebilehel\nMaaelu Edendamise Sihtasutus (MES) on loodud Eesti maapiirkondade ettevõtluse elavdamiseks\, laiendades ettevõtjate finantseerimisvõimalusi\, lisaks pakub MES koostöös pankadega eraisikutele eluaseme kaaslaene maapiirkonnas. Laenu võimalusi MES-i veebilehelt\n\n\n\n\n\n\n\n\n\n\n\nÜrituse läbiviimine on toetatud EL vahenditest maaeluvõrgustiku tegevusele. \nÜritus on registreeritud osalejatele tasuta.
URL:https://www.pikk.ee/sundmus/konkurentsivoime-suurendamise-investeeringutoetus/
LOCATION:Veebis\, Eesti
CATEGORIES:Maaettevõtlus
END:VEVENT
END:VCALENDAR