BEGIN:VCALENDAR
VERSION:2.0
PRODID:-//PIKK.ee - ECPv6.13.2.1//NONSGML v1.0//EN
CALSCALE:GREGORIAN
METHOD:PUBLISH
X-WR-CALNAME:PIKK.ee
X-ORIGINAL-URL:https://www.pikk.ee
X-WR-CALDESC:Events for PIKK.ee
REFRESH-INTERVAL;VALUE=DURATION:PT1H
X-Robots-Tag:noindex
X-PUBLISHED-TTL:PT1H
BEGIN:VTIMEZONE
TZID:Europe/Tallinn
BEGIN:DAYLIGHT
TZOFFSETFROM:+0200
TZOFFSETTO:+0300
TZNAME:EEST
DTSTART:20250330T010000
END:DAYLIGHT
BEGIN:STANDARD
TZOFFSETFROM:+0300
TZOFFSETTO:+0200
TZNAME:EET
DTSTART:20251026T010000
END:STANDARD
END:VTIMEZONE
BEGIN:VEVENT
DTSTART;VALUE=DATE:20250618
DTEND;VALUE=DATE:20250619
DTSTAMP:20260420T050118
CREATED:20250327T085615Z
LAST-MODIFIED:20250327T085827Z
UID:10011483-1750204800-1750291199@www.pikk.ee
SUMMARY:Linas Agro Põllupäev 2025
DESCRIPTION:Oled oodatud Linas Agro suvistele põllupäevadele\, kus kohtuvad uusimad sordid\, praktilised taimekaitselahendused ja agronoomiline teadmistevahetus otse põllult!\nSel aastal toimub kaks järjestikust põllupäeva\, et saaksid osa võtta endale sobivas piirkonnas: \n18. juuni 2025 – METK Viljandi katsekeskus\n19. juuni 2025 – Koeru tootmispõldudel\n\n Millest põllupäeval osa saad?\nSordivõrdlus – kohapeal näeb erinevaid talivilja- ja suviviljasorte\, sh uusi ja tuntud sorte. Rapsid ja teraviljad kasvamas kõrvuti\, et oleks lihtne visuaalne võrdlus. \nTaimekaitselahendused praktikas – tutvustame erinevaid tehnoloogiaid ja skeeme\, millega on katsetatud METK-i katsepõldudel ning tootmistingimustes Koerus. \nEkspertide kommentaarid – Linas Agro agronoom\, tootejuhid\, sordiesindajad ja koostööpartnerid annavad ülevaate tulemuste taustast ning jagavad soovitusi hooajaks. \nTehnika ja sisendite uudised – kohal on ka koostööpartnerid\, kellelt kuuleb uut masinatest\, väetistest ja taimekaitselahendustest. \n\n\nPane kuupäevad kalendrisse kirja ja hoia silm peal – peagi lisame registreerimisinfo ning päevakava!\n  \nKui sul on küsimusi või soovid varakult oma tulekust teada anda\, võta julgelt ühendust oma piirkondliku Linas Agro müügiesindajaga. \nKohtumiseni põllul!
URL:https://www.pikk.ee/sundmus/linas-agro-pollupaev-2025/
LOCATION:Viljandimaa\, Viljandimaa\, Eesti
CATEGORIES:Taimekaitse,Taimekasvatus
ATTACH;FMTTYPE=image/jpeg:https://www.pikk.ee/wp-content/uploads/2025/03/Linas_banner.avif
GEO:58.2821746;25.5752233
END:VEVENT
BEGIN:VEVENT
DTSTART;TZID=Europe/Tallinn:20250618T090000
DTEND;TZID=Europe/Tallinn:20250618T121500
DTSTAMP:20260420T050118
CREATED:20250519T174427Z
LAST-MODIFIED:20250519T180842Z
UID:10011565-1750237200-1750248900@www.pikk.ee
SUMMARY:Veebikoolitus "Proovide võtmine tootmiskeskkonnast üldhügieeni ja patogeenide seireks"
DESCRIPTION:Prof Mati Roasto poolt läbiviidava koolituse eesmärgiks on tõsta toidutootjate teadlikkust toidu tootmiskeskkonnast proovide võtmise põhimõtetest ja meetoditest. \nKoolituse sisu: \n\nToidu tootmiskeskkonna hügieenitasemete hindamise meetodid ja proovivõtmise põhimõtted k.a. EVS-EN ISO 18593 tulenevad pinnakontaktmeetodid;\nToidu tootmiskeskkonnast patogeenide tuvastamiseks kasutatavad meetodid ja proovide võtmise põhimõtted Listeria monocytogenes’e näitel;\nHügieenitsoonide kontseptsioon ning sellest tulenev riskipõhine lähenemine proovide võtmisel;\nBiokirmete tuvastamise meetodid ja seonduvad proovivõtmise põhimõtted.\n\nKoolituse sihtrühm: põllumajandus- ja toidusektori ettevõtjad ja nõustajad (nii juriidilised kui füüsilised teemast huvitatud isikud). \nKoolitus eeldab osalemist reaalajas ega ole järelvaadatav. \nKoolitusel osalemine on juriidilisele isikule vähese tähtsusega abi (VTA). \nKoolitusele registreerumine. \nKoolitus on rahastatud “Põllumajanduslike teadmiste ja innovatsiooni süsteemi” ehk AKIS programmi raames\, toetab Euroopa Liit. \n  \nKoolituse korraldaja: \nEesti Maaülikool\nTel: 731 3275\nF. R. Kreutzwaldi 56/1-A306\nkarin.kiss@emu.ee\nwww.emu.ee/taiendusope\nwww.emu.ee/akis-tegevused-20252028
URL:https://www.pikk.ee/sundmus/veebikoolitus-proovide-votmine-tootmiskeskkonnast-uldhugieeni-ja-patogeenide-seireks/
LOCATION:Veebis\, Eesti
CATEGORIES:Toiduainete tootmine
ORGANIZER;CN="Eesti Maa%C3%BClikooli avatud %C3%BClikool":MAILTO:avayl@emu.ee
END:VEVENT
BEGIN:VEVENT
DTSTART;TZID=Europe/Tallinn:20250618T130000
DTEND;TZID=Europe/Tallinn:20250618T161500
DTSTAMP:20260420T050118
CREATED:20250609T072136Z
LAST-MODIFIED:20250613T090349Z
UID:10011583-1750251600-1750263300@www.pikk.ee
SUMMARY:Infopäev veebis „Mahepõllumajanduse algõpe - sissejuhatus“
DESCRIPTION:Registreeri end osalema SIIN. \nOsalemise zoomi veebilink saadetakse registreerunud osalejatele infopäevale eelneval päeval. \n  \nInfopäeva loetakse sobilikuks nii KSM kui MULD toetuse õppena. Märgi registreerumisel kindlasti ettevõtte registrikood/ettevõtete registrikoodid. \n  \nInfopäev on mõeldud sissejuhatusena teemadesse\, mis on seotud mahetootmisega alustamisega\, nagu mahetootmise olukord\, mahenõuded ja erinevate toetustega seotud tingimused. \n  \nSihtrühm: Mahetootmisega alustanud tootjad ja tootjad\, kes on huvitatud mahetootmisega alustamisest. \n  \nPÄEVAKAVAS*: \n13:00-14:30 \n–         Ülevaade mahepõllumajanduse olukorrast ja järelevalvesüsteemist. Airi Vetemaa (mahepõllumajanduse spetsialist) \n–         Mahetootmissüsteem\, selle üldised põhimõtted ja peamised nõuded taime- ja loomakasvatuses. Airi Vetemaa (mahepõllumajanduse spetsialist)\, Ell Sellis (konsulent) \n14:30-14:45 Paus \n14:45-16:15 \nMahetoetuse\, KSM mahe jt mahetootjatele olulisemate toetuste nõuded ja probleemsemad aspektid. Tingimuslikkuse olulisemad ja probleemsemad nõuded. Lilia Kulli (konsulent) \n16:15 Lõpp \n*Korraldajal on õigus teha päevakavas muudatusi \n  \nSündmus toimub Euroopa Liidu ühise strateegiakava 2023-2027 kohase Põllumajanduse teadmussiirde ja innovatsiooni süsteemi (AKIS) arendamise toetuse raames\, rahastab Euroopa Maaelu Põllumajandusfond.
URL:https://www.pikk.ee/sundmus/infopaev-veebis-mahepollumajanduse-algope-1-infopaev/
LOCATION:Veebis\, Eesti
CATEGORIES:Loomakasvatus,Mahemajandus,Taimekasvatus
END:VEVENT
END:VCALENDAR