BEGIN:VCALENDAR
VERSION:2.0
PRODID:-//PIKK.ee - ECPv6.13.2.1//NONSGML v1.0//EN
CALSCALE:GREGORIAN
METHOD:PUBLISH
X-WR-CALNAME:PIKK.ee
X-ORIGINAL-URL:https://www.pikk.ee
X-WR-CALDESC:Events for PIKK.ee
REFRESH-INTERVAL;VALUE=DURATION:PT1H
X-Robots-Tag:noindex
X-PUBLISHED-TTL:PT1H
BEGIN:VTIMEZONE
TZID:Europe/Tallinn
BEGIN:DAYLIGHT
TZOFFSETFROM:+0200
TZOFFSETTO:+0300
TZNAME:EEST
DTSTART:20250330T010000
END:DAYLIGHT
BEGIN:STANDARD
TZOFFSETFROM:+0300
TZOFFSETTO:+0200
TZNAME:EET
DTSTART:20251026T010000
END:STANDARD
END:VTIMEZONE
BEGIN:VEVENT
DTSTART;TZID=Europe/Tallinn:20250818T143000
DTEND;TZID=Europe/Tallinn:20250818T170000
DTSTAMP:20260421T030706
CREATED:20250815T100904Z
LAST-MODIFIED:20250815T100904Z
UID:10011650-1755527400-1755536400@www.pikk.ee
SUMMARY:Teaduslik lähenemine kliimamuutustele ja elurikkuse säilitamisele
DESCRIPTION:18. augustil kell 15.00–17.00 toimub Anija mõisas loeng-arutelu\, kus oma teadmisi ja kogemusi jagab Aveliina Helm – Tartu Ülikooli taastamisökoloogia professor ja rahvusvaheliselt tunnustatud teadlane.\nJuttu tuleb sellest\, kuidas teadus aitab meil mõista kliimamuutuste mõju ning kuidas saame ühiselt panustada elurikkuse säilitamisse. \nAveliinal on eriline anne keerulised asjad lihtsateks lahti rääkida. Püüame kõik koos aru saada\, mida me nendest veidi õrnadest teemadest võiksime teada ja kas see puudutab ka meid endid. \nLoengule registreeri end SIIN \nRohkem infot SIIN
URL:https://www.pikk.ee/sundmus/teaduslik-lahenemine-kliimamuutustele-ja-elurikkuse-sailitamisele/
LOCATION:Harjumaa\, Harjumaa\, Eesti
CATEGORIES:Keskkond
END:VEVENT
END:VCALENDAR