BEGIN:VCALENDAR
VERSION:2.0
PRODID:-//PIKK.ee - ECPv6.13.2.1//NONSGML v1.0//EN
CALSCALE:GREGORIAN
METHOD:PUBLISH
X-ORIGINAL-URL:https://www.pikk.ee
X-WR-CALDESC:Events for PIKK.ee
REFRESH-INTERVAL;VALUE=DURATION:PT1H
X-Robots-Tag:noindex
X-PUBLISHED-TTL:PT1H
BEGIN:VTIMEZONE
TZID:Europe/Tallinn
BEGIN:DAYLIGHT
TZOFFSETFROM:+0200
TZOFFSETTO:+0300
TZNAME:EEST
DTSTART:20250330T010000
END:DAYLIGHT
BEGIN:STANDARD
TZOFFSETFROM:+0300
TZOFFSETTO:+0200
TZNAME:EET
DTSTART:20251026T010000
END:STANDARD
END:VTIMEZONE
BEGIN:VEVENT
DTSTART;TZID=Europe/Tallinn:20250825T100000
DTEND;TZID=Europe/Tallinn:20250825T160000
DTSTAMP:20260423T102852
CREATED:20250729T115631Z
LAST-MODIFIED:20250731T062105Z
UID:10011630-1756116000-1756137600@www.pikk.ee
SUMMARY:Alustava noore ettevõtja äriplaan\, Pärnu
DESCRIPTION:Infopäev „Põllumajandusliku tegevusega alustava noore ettevõtja äriplaan 2025“\nMaaelu Teadmuskeskus korraldab augustis ja septembris 2025 samasisulised infopäevad põllumajandusliku tegevusega alustavatele noortele ettevõtjatele. \n\n19.08 Jõgeva\, METKi suur saal\n22.08 Saku\, METKi suur saal\n25.08 Pärnu Riigimaja\, Akadeemia 2\n5.09 Saku\, METKi suur saal\n\nVastavalt  “Perioodi 2023-2027 põllumajandusliku tegevusega alustava noore ettevõtja soodustamise investeeringutoetus” määrusele\, on taotlejal kohustus läbida enne taotluse esitamist ettevõtlusalane infopäev (§ 3 lõige 10)\, mis keskendub äriplaani koostamisele. Peale infopäeva lõppu saadetakse PRIAsse osalejate logi\, mille alusel sisestab PRIA osavõtjad oma andmebaasi. \nRegistreerimine: allpool ⇓ \nInfopäev algab kell 10:00 ja lõpeb kell 16:00 \nSihtrühm eranditult: “Perioodi 2023-2027 põllumajandusliku tegevusega alustava noore ettevõtja soodustamise investeeringutoetus” taotlejad \nInfopäevade fookusteemad: \n\nÄriplaani koostamise põhimõtted ja ülesehitus (mitte meetme määruse tutvustamine).\nPõllumajandussektorile omased erisused äriplaani koostamisel.\nFinantsnäitajate kavandamine ja rahalise tegevuse planeerimine.\nPikaajaline mõtestatud tegevusplaan – miks ja kuidas seda üles ehitada.\nPraktilised näited ja tüüpilised ohukohad alustajate äriplaanides.\n\nMaaelu Teadmuskeskus korraldab infopäeva koostöös Regionaal- ja Põllumajandusministeeriumi ning PRIA-ga. Infopäev viiakse läbi Euroopa Ühtse Põllumajanduspoliitika AKIS arendamise toetuse abil. \n  \nLisainfo: Leho Leis\, leho.leis@metk.agri.ee \n 
URL:https://www.pikk.ee/sundmus/ariplaan-2025-3/
LOCATION:Pärnumaa\, Pärnumaa\, Eesti
CATEGORIES:Maaettevõtlus
ATTACH;FMTTYPE=image/jpeg:https://www.pikk.ee/wp-content/uploads/2025/07/Noored-ja-traktor.avif
END:VEVENT
BEGIN:VEVENT
DTSTART;TZID=Europe/Tallinn:20250825T130000
DTEND;TZID=Europe/Tallinn:20250825T143000
DTSTAMP:20260423T102852
CREATED:20250814T083836Z
LAST-MODIFIED:20250815T060025Z
UID:10011646-1756126800-1756132200@www.pikk.ee
SUMMARY:Vebinar "EIP-AGRI rahvusvaheline koostöö"
DESCRIPTION:Sügis 2025 toob kaasa unikaalse võimaluse: Eesti\, Soome ja Läti sünkroniseerivad EIP meetme taotlusvoore\, võimaldades luua piiriüleseid EIP töörühme (OG)\, kes tegelevad ühiste põllumajanduse väljakutsete lahendamisega innovaatiliselt ja koostöös. \n25. augustil kell 13.00-14.30 toimub veebiüritus\, mille raames jagatakse praktilist teavet Eesti\, Läti ja Soome EIP-AGRI rahvusvaheliste koostööprojektide sünkroniseeritud taotlusvoorude kohta\, tutvustatakse lisainfot pakkuvaid allikaid ning Eesti\, Soome ja Läti riiklike võrgustike pakutavaid toetavaid tegevusi – nii taotluste ettevalmistamiseks kui ka projektipartnerite leidmiseks. \nRegistreerimine vebinarile SIIN. \nOled oodatud külastama EIP-AGRI rahvusvahelise koostöö veebilehte\, kuhu on koondatud kogu oluline info EIP-AGRI rahvusvaheliste projektide kohta. Veebilehelt leiad teavet osalevate riikide (Eesti\, Soome ja Läti) kohta\, tutvustame taotlusprotsessi eripärasid ning pakume võimalust leida uusi koostööpartnereid üle riigipiiride. \nMis on EIP ja mida tähendab rahvusvaheline koostöö? \n2023–2027 ühise põllumajanduspoliitika strateegiakavade raames võimaldab EIP-AGRI teha koostööd rahvusvahelisel tasandil\, mille aluseks on Euroopa Parlamendi ja Nõukogu määrus (EL) 2021/2115 artikkel 127(3). See loob juriidilise raamistiku piiriüleseks tegutsemiseks ja teadmussiirdeks\, et arendada praktilisi lahendusi ühistele probleemidele. \nLoodud on ka partnerotsingu platvormi\, mis aitab sul leida koostööpartnereid ja moodustada rahvusvahelisi OG-sid. \nKui sul on küsimusi või soovid lisainfot\, võta julgelt ühendust: \nKonstantin Mihhejev\nInnovatsioonispetsialist\n+372 584 51896\nkonstantin.mihhejev @ metk.agri.ee
URL:https://www.pikk.ee/sundmus/vebinar-eip-agri-rahvusvaheline-koostoo/
LOCATION:Veebis\, Eesti
CATEGORIES:Maaettevõtlus,Ühistegevus
END:VEVENT
END:VCALENDAR