BEGIN:VCALENDAR
VERSION:2.0
PRODID:-//PIKK.ee - ECPv6.13.2.1//NONSGML v1.0//EN
CALSCALE:GREGORIAN
METHOD:PUBLISH
X-WR-CALNAME:PIKK.ee
X-ORIGINAL-URL:https://www.pikk.ee
X-WR-CALDESC:Events for PIKK.ee
REFRESH-INTERVAL;VALUE=DURATION:PT1H
X-Robots-Tag:noindex
X-PUBLISHED-TTL:PT1H
BEGIN:VTIMEZONE
TZID:Europe/Tallinn
BEGIN:DAYLIGHT
TZOFFSETFROM:+0200
TZOFFSETTO:+0300
TZNAME:EEST
DTSTART:20250330T010000
END:DAYLIGHT
BEGIN:STANDARD
TZOFFSETFROM:+0300
TZOFFSETTO:+0200
TZNAME:EET
DTSTART:20251026T010000
END:STANDARD
END:VTIMEZONE
BEGIN:VEVENT
DTSTART;TZID=Europe/Tallinn:20251106T100000
DTEND;TZID=Europe/Tallinn:20251108T160000
DTSTAMP:20260422T004029
CREATED:20250930T063747Z
LAST-MODIFIED:20250930T091120Z
UID:10011722-1762423200-1762617600@www.pikk.ee
SUMMARY:Nõustamismetoodika - turundus
DESCRIPTION:Maaelu Teadmuskeskus ja Kajakool OÜ korraldavad Nõustamismetoodika koolituse järgmise mooduli – TURUNDUS.\nNõustamismetoodika täienduskoolituse iga mooduli eesmärk on konsulendi ja konsulendi kutsest huvitatud isiku ametilane arendamine ja täiendamine. \nSihtgrupp: koolituse sihtgrupiks on konsulendi kutsest huvitatud isikud\, nõustajad ning kutsega konsulendid. \nKoolitus toimub 6.-8. novembril 2025 . Registreerimine kuni 31. oktoober kl 17 ⇓  \nTurunduse mooduli edukalt läbinu: \n\nTunneb turunduse põhialuseid ja nõustamisteenuse turundamise eripärasid\nKoostab atraktiivse reklaami nõuandeteenusele\nKasutab erinevaid platvorme ja suhtluskanaleid oma töö turundamiseks\nTunneb brändingu ja isikubrändingu printsiipe\nTeab oma nõustamisteenuse omahinda ja tunneb hinnastamise üldiseid põhimõtteid\n\nKoolituse teemad on: \n\nTurunduse mõiste ja aluspõhimõtted\nTeenuse disaini põhimõtted konsulendile\nNõustamiskliendi profiili loomine\nKliendi teekonna kaardistamine\nReklaam nõustaja töös kui kui turunduse osa\nBränding ja isikubränding\nKuidas teha end atraktiivseks sotsiaalmeedias ja veebiotsingutes\, konsulendi digitaalne kuvand\nMüügiprotsessi optimeerimine\nHinnakujundus nõuandetöös\n\nKoolituse praktiline väljund on isikliku turundusplaani koostamine. \nAjakava\n\n1.päev 10.00-18.00\n2.päev 9.00-18.00\n3.päev 9.00-16.00\n\nKoolituse korraldaja: Maaelu Teadmuskeskus\nKoolitaja Kaja Piirfeldt  (tunnustatud CECRA koolitaja); kajapiirfeldt@gmail.com \nKoolitus on kümnes (10) moodul CECRA koolitusprogrammist. Euroopa maapiirkondade konsulentide sertifikaat CECRA (“Certificate for European Consultants in Rural Areas” ) on Euroopa liikmesriikide pädevusprogramm nõustamismetoodikas. \n \n**Tegemist on kolmepäevase koolitusega. Toimumiskoha lähedal on olemas majutusvõimalus. Majutuse ja õhtusöögi maksumus siiski ei ole arvestatud koolituse sisse ning selle peavad tasuma osalejad ise. \nKonsulendi töö on pakkuda kliendile põllu-\, metsa- ja muud maamajanduse alast nõustamist. Lähtuvalt oma spetsialiseerumise valdkonnast edastab konsulent kliendile korrastatud teabe ja juhendab klienti\, arvestades tema vajadusi\, soove\, võimalusi ning piiranguid. Konsulent on kursis nõuandesüsteemi\, majanduskeskkonna suundumuste ning nende mõjuga Eesti maamajandusele.\nKonsulendi töö on enamasti hooajaline\, mitmekesine ja rohkele suhtlemisele ning inimsuhetele tuginev.
URL:https://www.pikk.ee/sundmus/noustamismetoodika-turundus-2025/
LOCATION:Lääne-Virumaa\, Lääne-Virumaa\, Eesti
CATEGORIES:Maaettevõtlus
END:VEVENT
BEGIN:VEVENT
DTSTART;TZID=Europe/Tallinn:20251107T140000
DTEND;TZID=Europe/Tallinn:20251108T170000
DTSTAMP:20260422T004029
CREATED:20251021T110918Z
LAST-MODIFIED:20251021T111744Z
UID:10011746-1762524000-1762621200@www.pikk.ee
SUMMARY:Toiduhäkaton "Hack the Future of Food 2025"
DESCRIPTION:Toiduhäkaton “Hack the Future of Food 2025” toob kokku tudengid\, idufirmad\, teadlased ja toiduentusiastid eesmärgiga välja töötada uusi lahendusi toidu- ja põllumajandussektoris.\n📅 7.–8. november 2025\n📍 Tartu Loodusmaja\, Lille 10\, Tartu\n👉 Registreeru: https://forms.gle/ZWsmqP3owenrcf9S \n🚀 Mis toimub? \nKahe päeva jooksul töötavad meeskonnad disainmõtlemise meetodite abil välja uusi lahendusi reaalsetele toidusektori probleemidele.\nSündmus on inglise keeles. \nOsalejaid ootavad: \n🎁 Põnevad väljakutsed A. Le Coq-i\, METK-i\, TFTAK-i poolt. Tulla võib ka oma väljakutset lahendama! \n🧠 Kogemus reaalseid probleeme lahendades \n🎨 Disainmõtlemise ja pitchingu koolitus \n🎤 Inspireeriv esineja: Robin Saluoks (eAgronom) \n🌐 Võrgustumine sarnaste huvidega inimestega \n🍽 Toitlustus vastavalt ajakavale. \n🏆 Auhinnad: \n\n\n\n1 000 € rahaline auhinnafond EIT Foodi poolt\n500 € väärtuses konsultatsioon TFTAKilt\nEksklusiivne ekskursioon METKi laboritesse\n5 kasti erinevaid jooke A. Le Coq-ilt\n\n\n\n💡 Too kaasa oma idee või vali A. Le Coq-i\, METK-i  või TFTAK-i poolt pakutud väljakutse — alates toidujäätmete vähendamisest ja taimhaiguste tuvastamisest kuni tehisintellektil põhineva nõudluse prognoosimise ja tootmisjääkide väärindamiseni. \nSee iga-aastane häkaton toimub koostöös EIT Foodi\, A. Le Coq-i METK-i\, TFTAK-i\, ja Tartu Biotehnoloogia Pargiga. \n🚀Kõik väljakutsed ja ajakava on kirjas kodulehel:\n👉 https://biopark.ee/et/events/hack-the-future-of-food-2025/ \nRohkem infot: Keiu Käära\n+372 522 1392;\nkeiu@biopark.ee
URL:https://www.pikk.ee/sundmus/toiduhakaton-hack-the-future-of-food-2025/
LOCATION:Tartumaa\, Eesti
ORGANIZER;CN="Tartu Biotehnoloogia Park":MAILTO:biopark@biopark.ee
GEO:58.4057128;26.801576
END:VEVENT
END:VCALENDAR