BEGIN:VCALENDAR
VERSION:2.0
PRODID:-//PIKK.ee - ECPv6.13.2.1//NONSGML v1.0//EN
CALSCALE:GREGORIAN
METHOD:PUBLISH
X-ORIGINAL-URL:https://www.pikk.ee
X-WR-CALDESC:Events for PIKK.ee
REFRESH-INTERVAL;VALUE=DURATION:PT1H
X-Robots-Tag:noindex
X-PUBLISHED-TTL:PT1H
BEGIN:VTIMEZONE
TZID:Europe/Tallinn
BEGIN:DAYLIGHT
TZOFFSETFROM:+0200
TZOFFSETTO:+0300
TZNAME:EEST
DTSTART:20250330T010000
END:DAYLIGHT
BEGIN:STANDARD
TZOFFSETFROM:+0300
TZOFFSETTO:+0200
TZNAME:EET
DTSTART:20251026T010000
END:STANDARD
END:VTIMEZONE
BEGIN:VEVENT
DTSTART;TZID=Europe/Tallinn:20251117T080000
DTEND;TZID=Europe/Tallinn:20251119T170000
DTSTAMP:20260425T155616
CREATED:20251103T162223Z
LAST-MODIFIED:20251103T162223Z
UID:10011759-1763366400-1763571600@www.pikk.ee
SUMMARY:Taimekaitse aluskoolitus professionaalsele kasutajale (22 t)
DESCRIPTION:Taimekaitse aluskoolitus professionaalsele kasutajale (22 t) \nKoolitus toimub 17.-19. november 2025\nKoolitajad: Kaja Marrandi\, Marek Kõbu \nKoolituse hind 195 eur. (sisaldab paberkandjal konspekti ja raamatut “Taimehaigused ja -kahjurid\, umbrohud”). \nKoolitusele registreerimine toimub SIIT \nKaasa palun võtta isikut tõendav pildiga dokument! \nTäiendav info:\nRuth Türk\nruth.turk@jkhk.ee\n+372 5329 2188
URL:https://www.pikk.ee/sundmus/taimekaitse-aluskoolitus-professionaalsele-kasutajale-22-t-29/
CATEGORIES:Taimekaitse
END:VEVENT
END:VCALENDAR