BEGIN:VCALENDAR
VERSION:2.0
PRODID:-//PIKK.ee - ECPv6.13.2.1//NONSGML v1.0//EN
CALSCALE:GREGORIAN
METHOD:PUBLISH
X-WR-CALNAME:PIKK.ee
X-ORIGINAL-URL:https://www.pikk.ee
X-WR-CALDESC:Events for PIKK.ee
REFRESH-INTERVAL;VALUE=DURATION:PT1H
X-Robots-Tag:noindex
X-PUBLISHED-TTL:PT1H
BEGIN:VTIMEZONE
TZID:Europe/Tallinn
BEGIN:DAYLIGHT
TZOFFSETFROM:+0200
TZOFFSETTO:+0300
TZNAME:EEST
DTSTART:20250330T010000
END:DAYLIGHT
BEGIN:STANDARD
TZOFFSETFROM:+0300
TZOFFSETTO:+0200
TZNAME:EET
DTSTART:20251026T010000
END:STANDARD
END:VTIMEZONE
BEGIN:VEVENT
DTSTART;TZID=Europe/Tallinn:20251117T080000
DTEND;TZID=Europe/Tallinn:20251119T170000
DTSTAMP:20260425T023037
CREATED:20251103T162223Z
LAST-MODIFIED:20251103T162223Z
UID:10011759-1763366400-1763571600@www.pikk.ee
SUMMARY:Taimekaitse aluskoolitus professionaalsele kasutajale (22 t)
DESCRIPTION:Taimekaitse aluskoolitus professionaalsele kasutajale (22 t) \nKoolitus toimub 17.-19. november 2025\nKoolitajad: Kaja Marrandi\, Marek Kõbu \nKoolituse hind 195 eur. (sisaldab paberkandjal konspekti ja raamatut “Taimehaigused ja -kahjurid\, umbrohud”). \nKoolitusele registreerimine toimub SIIT \nKaasa palun võtta isikut tõendav pildiga dokument! \nTäiendav info:\nRuth Türk\nruth.turk@jkhk.ee\n+372 5329 2188
URL:https://www.pikk.ee/sundmus/taimekaitse-aluskoolitus-professionaalsele-kasutajale-22-t-29/
CATEGORIES:Taimekaitse
END:VEVENT
BEGIN:VEVENT
DTSTART;VALUE=DATE:20251119
DTEND;VALUE=DATE:20251126
DTSTAMP:20260425T023037
CREATED:20250806T103720Z
LAST-MODIFIED:20251031T102916Z
UID:10011641-1763510400-1764115199@www.pikk.ee
SUMMARY:Katmikala- ja avamaatootmise automatiseerimine
DESCRIPTION:Koht: Räpina Aianduskool\, Aianduse 6\, Räpina\nAeg: 19.11. – 25.11.2025 Kontaktpäevad on 19. – 21. november.\nMaht: 35 ak h (24 kontakttundi)\, 1 EKAP\nHind: Osalejale tasuta\, kaasrahastatakse ESF  ja Eesti riigi vahenditest “Täiskasvanuhariduse arendamine ja mitteformaalsete õppimisvõimaluste pakkumine” meetme raames haridus- ja teadusministri 23.01.2025 käskkirja nr 1.1-2/25/10 alusel.\nKoolitajad: Tamar Nassar – TaMi Automatics OÜ tegevjuht\, Räpina Aianduskooli kasvuhoonesimulaatori projektipartner; Tarmo Kannik – Paul-Tech’ist ja Mart Kiisküla – Dotnuva Baltic AS.\nKoolitusjuht: Elina Oeselg\, 56671936\, elina.oeselg@aianduskool.ee \nSihtgrupp\nPõllumajandus- ja aiandustootjad. Eelistatud on erialase tasemehariduseta täiskasvanud\, keskhariduseta täiskasvanud ja aegunud oskustega täiskasvanud. \nÕpiväljund\nKursuse läbinu \n\nValib ja rakendab erinevaid andureid substraadi\, kliima ja taimede seireks ning analüüsib kogutud andmeid otsuste tegemiseks.\nOmab teadmised kliimakontrolli süsteemidest\, hüdropoonikast\, akvapoonikast.\nMõistab täppispõllumajanduse kontseptsioone ja rakendab täppisviljelusmeetodeid ressursikasutuse optimeerimiseks.\n\nRegistreeru koolitusele SIIT.\nÕppesisu\nA: Auditoorne õpe (24 tundi) \n\nSissejuhatus põllumajanduse automaatikasse\n\nPõllumajanduse automaatika ülevaade: Ulatus\, eelised ja väljakutsed.\nPõllumajanduse automaatikas kasutatavad peamised tehnoloogiad: Andurid\, robotid\, tehisintellekt\, IoT ja droonid.\n\n\nAndurid ja monitoorimissüsteemid\n\nPõllumajanduses kasutatavate andurite tüübid: Substraadi\, kliima ja taimede andurid.\nAndmete kogumine ja haldamine: Andmete kogumise\, salvestamise ja analüüsimise tehnikad.\nKaugseire ja satelliidipildid: Täppispõllumajanduses kasutamine.\n\n\nAsjade interneti (IoT) kasutamine põllumajanduses\n\nIoT Süsteemid ja arhitektuur: IoT süsteemide disain ja rakendamine põllumajanduses.\nNutikad põllumajanduslahendused: IoT kastmiseks\, väetamiseks ja keskkonna kontrolliks.\nTurvalisus ja privaatsus: Põllumajandusandmete terviklikkuse ja konfidentsiaalsuse tagamine.\n\n\nAutomaatika kasvuhoone tootmises\n\nKliimakontrolli süsteemid: Automaatsed süsteemid temperatuuri\, niiskuse ja valguse juhtimiseks.\nHüdropoonika ja Akvapoonika: Automaatika mullata kasvatamise süsteemides.\n\n\nPõllutööde automaatika\n\nTäppispõllumajandus: Täppisviljelusmeetodite rakendamine optimaalse ressursikasutuse saavutamiseks.\nAutomaatne põllu jälgimine: AI ja IoT kasutamine reaalajas põlluolukorra jälgimiseks.\nSäästva põllumajanduse praktikad: Automaatika kasutamine säästvas põllumajanduses.\n\n\nMajanduslik- ja keskkonnamõju\n\nKulu-tulu analüüs: Automaatikatehnoloogiate majandusliku elujõulisuse hindamine.\nKeskkonnasäästlikkus: Keskkonnamõju ja eeliste hindamine.\nSotsiaalsed ja eetilised kaalutlused: Tööjõu\, eetiliste ja ühiskondlike mõjude käsitlemine.\n\n\nJuhtumiuuringud ja praktilised rakendused\n\nEdukad loonäited: Erinevates põllumajandusseadetes rakendatud automaatikalahenduste analüüs.\nTööstuse suundumused ja tulevikuväljavaated: Uute tehnoloogiate uurimine ja nende potentsiaalne mõju.\n\n\n\nC: Iseseisev töö (11 tundi) \nProjektitöö: Kasvuhoone või põllutööde stsenaariumi automaatikasüsteemi kavandamine ja simuleerimine.
URL:https://www.pikk.ee/sundmus/katmikala-ja-avamaatootmise-automatiseerimine/
LOCATION:Põlvamaa\, Põlvamaa\, Eesti
CATEGORIES:Aiandus,Keskkond,Maaettevõtlus,Mahemajandus,Taimekasvatus,Tootmine ja kvaliteet
ORGANIZER;CN="R%C3%A4pina Aianduskool":MAILTO:elina.oeselg@aianduskool.ee
GEO:58.1160622;27.2066394
END:VEVENT
BEGIN:VEVENT
DTSTART;TZID=Europe/Tallinn:20251119T100000
DTEND;TZID=Europe/Tallinn:20251119T120000
DTSTAMP:20260425T023037
CREATED:20251012T180650Z
LAST-MODIFIED:20251123T141119Z
UID:10011737-1763546400-1763553600@www.pikk.ee
SUMMARY:AKIS kavandamine
DESCRIPTION:METK kutsub AKIS teemalisele ülevaate ja plaanide seadmise veebiarutelule\n\nArutelu toimub: 19. novembril kell 10.00 – 12:00\nToimumiskoht veebis\, Teams  \n\nMitmete põllumajanduse ja toidu tootmise eesmärkide saavutamiseks on vajalik hästi toimiv ja koostöine teadmiste ja innovatsioonisüsteem (AKIS ehk Agricultural Knowledge and Innovation System). Maaelu Teadmuskeskus (METK) sai selle süsteemi arendamise ülesande 2023. aastal. Veebiseminaril annab METK ülevaate\, mis on tehtud ning kuhu me edasi suundume.  Eelkõige soovime valideerida 2026. aastaks kavandatud tegevusi \nKutsutud osalejad: AKIS nõukogu liikmed\, teadmussiirde valdkondlike nõukogude liikmed\, AKIS partnerid\, nõustajad ja konsulendid\, Regionaal- ja Põllumajandusministeeriumi esindajad\, erialaorganisatsioonid\, AKIS teemast huvitatud isikud. \nAjakava\n10.00          Sissejuhatus ja avasõnad –  Hanna Tamsalu. \n10.05          Ülevaade AKIS tegevuskava täitmisest ning 2026. aastaks kavandatud AKIS tegevustest – Katrin Pihor\, METK võrgustiku osakonna juhataja. \n\nÜlevaade järgmise perioodi ÜPP kavanditest seoses AKISega – Terje Kaelep\, REM teadus- ja arendusosakond\, valdkonnajuht\n\n10.30           Küsimused ja vastused\, paus 5 min \n11:00           Arutelu: AKIS tegevuste fookus \n11.40            Ülevaade rahvusvahelistest projektidest Eesti AKISe toetamisel\, sh modernAKIS – Hanna Tamsalu\, METK \n11.55            Kokkuvõte ja edasised sammud \n\nRegistreerunud osalejatele saadeti materjalid ja ettekanne ette.\nKüsimuste-vastuste jaoks kasutame keskkonda Slido: Sli.do #3273570 \n\nÜrituse korraldame projekti modernAKIS põhimõtteid järgides (Communities of Practice). Vaata projekti koolitusmaterjale ja teabesalve: https://akisconnect.eu/\nEesti AKIS-korralduse kohta saad rohkem lugeda siit: https://www.pikk.ee/nouandeteenistus/akis/\n\nSeminari salvestame\, aga aruteluosa ei jää järelvaadatavaks. \nTagasiside üritusele: uuringud.agri.ee \nKontakt: Hanna Tamsalu\, hanna.tamsalu@metk.agri.ee\, 5201078
URL:https://www.pikk.ee/sundmus/akis-kavandamine/
LOCATION:Veebis\, Eesti
CATEGORIES:Haridus
ATTACH;FMTTYPE=image/jpeg:https://www.pikk.ee/wp-content/uploads/2024/05/METK-modernAKIS-jpg.webp
END:VEVENT
BEGIN:VEVENT
DTSTART;TZID=Europe/Tallinn:20251119T100000
DTEND;TZID=Europe/Tallinn:20251119T130000
DTSTAMP:20260425T023037
CREATED:20250925T122229Z
LAST-MODIFIED:20251009T094840Z
UID:10011707-1763546400-1763557200@www.pikk.ee
SUMMARY:Koolitusprogramm toidusektorile: Digitaalne müük ja rahvusvaheline e-kaubandus
DESCRIPTION:Osalemiseks täida registreerumisvorm (hiljemalt 22.oktoober 2025): Koolitusprogramm toidusektorile: Digitaalne müük ja rahvusvaheline e-kaubandus | Eesti Kaubandus-Tööstuskoda \n  \nToidusektori ettevõtted on oodatud osalema veebis toimuval täiendkoolituse programmis „Digitaalne müük ja rahvusvaheline e-kaubandus“\, mis koosneb 12 koolituspäevast\, millest igaüks 4 akadeemilist tundi. \nKoolitussarja eesmärk on toetada ettevõtteid nende rahvusvahelises kasvus\, pakkudes vajalikke praktilisi teadmisi ja oskusi digitaalsete müügikanalite tõhusaks kasutamiseks. Koolituse kaudu soovitakse vähendada levinud takistusi nagu müügistrateegiate puudulikkus ja vähesed teadmised e-kaubandusest\, mis sageli pärsivad ettevõtete laienemist välisturgudele.  Koolituse kaudu arendatakse osalejate võimekust üles ehitada toimiv rahvusvaheline müügiprotsess\, hallata kliendisuhteid digitaalsetes kanalites ning koostada praktilisi tegevusplaane\, mis on kohandatud just nende enda toodete ja teenuste jaoks. Programmi lisaväärtuseks on kogenud koolitaja praktilised juhtnöörid ja edulugude analüüs\, mis aitavad osalejatel mõista reaalseid turuolukordi ning rakendada õpitut oma ettevõtte tegevuses. Lõppeesmärk on suurendada osalevate ettevõtete ekspordipotentsiaali ning toetada toidusektori VKE-de rahvusvahelist konkurentsivõimet. \n  \nSihtrühm: toidusektori väikse- ja keskmise suurusega ettevõtteid\, kes soovivad laiendada oma müüki rahvusvahelistes e-kanalites. \n  \nKoolitus kombineerib teooria\, praktika ja individuaalse töö. Koolituse läbinutele väljastatakse sellekohane tõend. \n  \nAjakava: \n\n29.10.2025   Sissejuhatus e-kaubanduse maailma; E-ärimudelid\n\nTunnis tutvustatakse osalejatele e-kaubanduse maailma\, keskendudes 2025. a hetkeolukorrale ja trendidele\, eriti toidu- ja joogisektoris. Uuritavad fookusriigid: Eesti\, Läti\, Leedu\, Soome\, Rootsi\, Saksamaa ja Ühendkuningriik. \nTutvutakse levinumate e-ärimudelitega nagu pure player\, D2C\, B2B\, B2C\, dropshipping\, subscription ja marketplace. Arutletakse iga mudeli eeliste ja puuduste üle. \n\n12.11.2025   Rahvusvahelistumine: ekspordiks valmisolek; Konkurentsianalüüs sihtturul\n\nSee tund keskendub ekspordi- ja rahvusvahelistumise strateegiatele. Antakse praktilisi soovitusi selle kohta\, kuidas valida sihtriik ja milliseid tegureid hinnata enne rahvusvahelise veebipõhise äri alustamist \nTunni teises pooles keskendutakse otseste konkurentide uurimisele ja tuvastamisele valitud sihtturul. Tutvustatakse tööriistu ja meetodeid konkurentide kommunikatsiooni- ja turundusstrateegiate analüüsimiseks. \n\n19.11.2025  Potentsiaalse kliendi analüüs sihtturul; Müügivahendid: oma veebipoest marketplace’ideni \n\nSee tund keskendub potentsiaalse kliendi analüüsimisele sihtriigis\, lähtudes võtmemõistetest nagu kasutajaharjumused ja klienditeekond. Kasutades buyer persona tööriista\, loovad osalejad ideaalkliendi profiili\, mis toetab turundusstrateegiate väljatöötamist.\nTutvustatakse kõiki peamisi tööriistu\, mis on saadaval veebimüügiks – alates oma veebilehtedest kuni erinevate müügiplatvormideni (marketplace’ideni). Uurime iga valiku tugevusi ja nõrkusi\, kulusid ning funktsionaalsust. \n\n26.11.2025  E-kaubanduse tiim; Kuluprognoos ja eelarvestamine\n\nVälismaise veebimüügiprojekti käivitamiseks on vaja luua tugev meeskond (töötajad ja/või allhankijad)\, kuhu kuuluvad e-kaubanduse eksperdid\, juristid\, raamatupidajad\, kullerid ja teised spetsialistid. Tunnis antakse nõu\, kust leida sobivaid partnereid\, milliseid lepingulisi aspekte tuleb enne allkirjastamist arvesse võtta\, millised oskused on vajalikud\, millised on kulud või teenustasud ning käsitletakse mitmeid teisi praktilisi nüansse. \nTunni teises pooles koostatakse näidis e-kaubanduse projekti kuluplaan\, kasutades tabelarvutusprogrammi (näiteks Excelit). \n\n04.12.2025   Kategooriapuu struktuur; Tootekaart\n\nFunktsionaalse e-kaubanduse jaoks on vajalik määratleda ja luua tootekategooriad ning alamkategooriad. Koolitaja selgitab\, kuidas tooteid jagada\, milliste kriteeriumide alusel ning mida tähendavad tooteatribuudid. \nRäägime tootekaardist: kuidas tooteid veebis parimal viisil esitleda\, kuidas kirjutada Google’i jaoks atraktiivseid tootenimesid ning kasutada korrektset tootefotograafiat. Samuti selgitatakse erinevusi tootekoodide vahel \n\n10.12.2025   Maksemeetodid veebis; Ladu\, pakendamine ja logistika\n\nTund käsitleb peamisi e-kaubanduses kasutatavaid makseviise: alates pangaülekannetest kuni sularaha kättesaamisel lahenduseni (COD)\, deebet- ja krediitkaartide\, järelmaksu (nt Klarna)\, makseteenuse pakkujate (PSP-de)\, makseväravate ja tagasimaksete (chargeback) kaudu. Samuti toimub makseviiside hindamine ja valik arvestades toidusektori spetsiifikat e-kaubanduses. \nTunni teises pooles tutvustame toidusektori e-kaubanduse logistilisi aspekte: pakendamine ja külmaahela nõuetele vastavus\, kaitsematerjalid\, saatmiskulud ja transpordidokumentatsioon\, kolmanda osapoole logistikateenused (3PL) ning erinevate riikide sertifikaadid ja seadusandlikud nõuded. \n\n18.12.2025   Otsingumootorid ja märksõnad; SEO: orgaaniline turundus\n\nPärast lühikest sissejuhatust digitaalturunduse tööriistadesse selgitatakse\, kuidas töötavad otsingumootorid nagu Google\, Bing ja Yandex. Teemadeks on web crawlers\, Page Rank\, domain authority\, indekseerimine\, orgaaniline järjestus\, otsingu eesmärk\, märksõnade uurimine ja märksõnade planeerija loomine spetsiaalsete tööriistade abil. \nTunni teises pooles selgitame\, kuidas saavutada orgaaniline (tasuta) nähtavus otsingumootorites nagu Google või Yandex. Käsitletakse veebilehe optimeerimise põhielemente (on-page SEO)\, saidi jõudluse parandamist (core web vitals) ning tagasilinkide hankimist (off-page SEO).  \n\n14.01.2026   SEA: tasuline turundus otsingumootorites; Sotsiaalmeedia turundus (SMM)\n\nSee tund uurib tasulisi reklaame otsingumootorites. Selgitatakse\, kuidas toimivad kliki eest tasumise (PPC) reklaamid ning milliseid kampaaniatüüpe on võimalik käivitada: otsingureklaamidest kuni toodete loetelu reklaamideni\, sealhulgas Google’i tehisintellekti juhitud kampaaniad. \nTunni teine pool keskendub müügitehnikatele sotsiaalvõrgustikes nagu Facebook\, Instagram ja TikTok. Õppetöö hõlmab kampaaniate loomist Meta Business Suite’i abil ning TikToki otseostude võimaluste kasutamist. \n\n21.01.2026   Marketplaces; Lead Generation B2B ja B2C jaoks\n\nKuidas toimivad turuplatsid: alates otsesest saatmisest (Fulfillment by Merchant) kuni turuplatsi enda hallatava logistika ning tasude\, komisjonitasude ja üldiste või nišiturgu teenindavate turuplatside põhimõteteni. Õppetund käsitleb ka Amazon Selleri ja TikTok Shopi funktsionaalsust ning tagapõhja. \nTunni teises pooles selgitame\, kuidas läbi viia leadide genereerimise tegevusi\, et saada potentsiaalseid kliente nii B2C kui ka B2B kontekstis (restoranid\, suured jaemüüjad\, välismaised hulgimüüjad jne). Samuti käsitletakse\, kuidas luua maandumisleht koos kontaktvormiga\, kasutades selleks spetsiaalset tööriista. \n\n28.01.2026   CRM e-kaubanduses; E-posti turundus\n\nSee tund käsitleb CRM-tarkvara kasutamise eeliseid e-kaubanduses: alates kontaktide ja ettevõtete haldamisest kuni kõnede ja ülesannete juhtimiseni. CRM-süsteem on oluline tööriist igale ettevõttele\, kes soovib kasvada ja üles ehitada struktureeritud meeskonna. \nE-post on endiselt müügi põhivahend. Tunni teises osas tutvustame uudiskirjade loomise ja kirjutamise tehnikaid. Samuti käsitletakse kõige levinumaid tööriistu ja olulisi tulemusnäitajaid (KPI-sid)\, mida analüüsida pärast uudiskirja saatmist. \n\n04.02.2026   Maine veebis kui usaldusväärsuse tööriist; Kogukonnad: sotsiaalmeedias ja sõnumirakendustes\n\nVeebis on oma maine jälgimine ülioluline. See tund tutvustab tööriistu tugeva maine loomiseks nii tasuta kanalite kaudu kui ka usaldusmärkide (trustmarks) abil. \nKogukonnad on liikunud foorumitest sotsiaalvõrgustikesse ja sõnumirakendustesse nagu WhatsApp või WeChat. Tunni teine osa keskendub strateegiatele\, kuidas üles ehitada kogukond oma toodete e-kaubanduse ümber. \n\n11.02.2026   Müügiprognoosid; Analüüsi- ja seirevahendid\n\nSee tund keskendub veebimüügi prognoosimisele\, kasutades varasemates tundides kogutud andmeid. Harjutuse lõpus arvutavad osalejad välja igakuise kasumi või kahjumi ning hindavad tasuvuspunkti. \nTunni teises osas määratleme e-kaubanduse peamised KPI-d ja vajalikud tööriistad nende jälgimiseks (nt Google Analytics). Lisaks käsitleme edasijõudnutele mõeldud tööriistu nagu heatmap’id ja hiireliigutuste jälgimine (Clarity). \n  \nTäpsem info sündmuse kohta (lektorite tutvustused\, fookusteemad jm.): https://www.koda.ee/et/sundmused/koolitusprogramm-toidusektorile-digitaalne-muuk-ja-rahvusvaheline-e-kaubandus \n  \nKoolitus on tasuta ja sellest võivad osa võtta kõik huvitatud isikud. Osalemine on vähese tähtsusega abi (VTA)\, abisumma ühe osavõtja kohta arvutatakse osavõtjate lõpliku arvu järgi\, kuid see ei ületa 1331 eurot. \nEttevõtte esindajana osalejale on infopäev tasuta\, kui ettevõttel on piisavalt vähese tähtsusega abi (VTA) jääki. Ettevõtja peab pidama tekkepõhist arvestust VTA kasutamise üle. VTA vaba jääki saab kontrollida ka veebilehelt https://fin.ee/riigihanked-riigiabi-osalused-kinnisvara/riigiabi \n  \nKoolitus viiakse läbi „Põllumajanduslike teadmiste ja innovatsiooni süsteemi“ (AKIS) raames. Kaasrahastanud Euroopa Liit. \n  \nLisainfo: \nMerit Fimberg-Espuch \nProjektijuht\, Eesti kaubandus-tööstuskoda \nmerit@koda.ee \n+372 604 0066
URL:https://www.pikk.ee/sundmus/koolitusprogramm-toidusektorile-digitaalne-muuk-ja-rahvusvaheline-e-kaubandus-koopia-koopia/
LOCATION:Veebis\, Eesti
CATEGORIES:Toit ja toiduohutus,Turundus
END:VEVENT
END:VCALENDAR