BEGIN:VCALENDAR
VERSION:2.0
PRODID:-//PIKK.ee - ECPv6.13.2.1//NONSGML v1.0//EN
CALSCALE:GREGORIAN
METHOD:PUBLISH
X-WR-CALNAME:PIKK.ee
X-ORIGINAL-URL:https://www.pikk.ee
X-WR-CALDESC:Events for PIKK.ee
REFRESH-INTERVAL;VALUE=DURATION:PT1H
X-Robots-Tag:noindex
X-PUBLISHED-TTL:PT1H
BEGIN:VTIMEZONE
TZID:Europe/Tallinn
BEGIN:DAYLIGHT
TZOFFSETFROM:+0200
TZOFFSETTO:+0300
TZNAME:EEST
DTSTART:20260329T010000
END:DAYLIGHT
BEGIN:STANDARD
TZOFFSETFROM:+0300
TZOFFSETTO:+0200
TZNAME:EET
DTSTART:20261025T010000
END:STANDARD
END:VTIMEZONE
BEGIN:VEVENT
DTSTART;TZID=Europe/Tallinn:20260119T143000
DTEND;TZID=Europe/Tallinn:20260119T170000
DTSTAMP:20260423T041602
CREATED:20260107T082210Z
LAST-MODIFIED:20260115T123821Z
UID:10011814-1768833000-1768842000@www.pikk.ee
SUMMARY:Infopäev „ESG aruandlus – kas kohustus suurele ettevõttele või võimalus väikeettevõttele?“
DESCRIPTION:Toimumise aeg ja koht: 19. jaanuar 2026 kell 14.30 – 17.00 infopäevana veebis \n  \nRegistreerumine infopäevale toimub  SIIT \nKoolituse toimumiseks on vajalik vähemalt 10 osaleja eelregistreerumine. Väiksema huvi korral jätab korraldaja endale õiguse koolitus ära jätta. \n  \nSihtrühm:  Infopäev on suunatud põllumajandus- ja toidusektori ettevõtjatele ning nende töötajatele\, eelkõige toiduainete tootmise\, töötlemise ja pakendamisega tegelevate ettevõtete juhtidele ja spetsialistidele\, kelle tööülesanneteks on toiduohutuse ja kvaliteedijuhtimissüsteemide arendamine\, rakendamine ja haldamine vastavalt BRC Food Safety standardi nõuetele. \n  \nInfopäeva eesmärk ja lühike sündmuse kirjeldus: \nInfopäeva eesmärk on anda ettevõtetele esmased teadmised ESG (Environmental\, Social\, Governance) põhimõtetest ja nende rakendamisest. \n–           Alustatakse teoreetilisest ülevaatest\, kus tutvustatakse kolme ESG põhivaldkonda: keskkond (E)\, sotsiaalne vastutus (S) ja juhtimine (G). \n–           Jagatakse edulugusid Eestist\, kus ettevõtted on ESG põhimõtteid edukalt rakendanud. \n–           Arutatakse\, kuidas luua ESG-aruannet või millised võiksid olla esimesed sammud teie ettevõttes ESG-valdkonnas. \n–           Räägitakse\, mis seisus on kestlikkusaruandlusega seonduvad muudatused ja millised on uued regulatsioonid ning direktiivid\, mis Euroopa Liidust lähiaastail veel tulemas on. \n  \nAjakava: \n14.30-16.00 Ülevaade kestlikkusega seonduvatest terminitest\, regulatsioonidest\, raamistikest ja mõõdikutest\, mida ettevõtja peaks tundma\, et olla bürokraatia- ning tulevikukindel. Edulood ja näited Eestist\, kuidas kestlikkus on ettevõtte strateegia osa\, mitte eraldi dokument. \n16.00-17.00 Millest alustada ja miks\, et olla võrreldav ning konkurentsis Põhjamaade turgudel\, pankade silmis kui ka suurklientidega suheldes. Kahese olulisuse hindamine\, KHG mõõtmine või EPD? \n*korraldajal on õigus teha muudatusi infopäeva ajakavas \n  \nInfopäeva lektorid ja läbiviijad: Infopäeva läbiviijaks on koolitaja Anu Ruul. \nAnu Ruul on kestliku innovatsiooni strateeg ja Eesti üks kogenumaid (kestliku) innovatsiooniprotsessi koolitajaid. \n  \nInfopäev on sissejuhatuseks täiendkoolitusele „ESG kestlikkusaruandlusega seotud andmete kogumise ja kahese olulisuse hindamise praktikum“ \n  \nÜritus viiakse läbi „Põllumajanduslike teadmiste ja innovatsiooni süsteemi“ (AKIS) raames. Kaasrahastab Euroopa Liit. \n  \nLisainfo: \nLiina Laineveer \nLiina.laineveer@toiduliit.ee\n+372 5205877 \n \n 
URL:https://www.pikk.ee/sundmus/infopaev-esg-aruandlusest/
LOCATION:Veebis\, Eesti
END:VEVENT
END:VCALENDAR