BEGIN:VCALENDAR
VERSION:2.0
PRODID:-//PIKK.ee - ECPv6.13.2.1//NONSGML v1.0//EN
CALSCALE:GREGORIAN
METHOD:PUBLISH
X-ORIGINAL-URL:https://www.pikk.ee
X-WR-CALDESC:Events for PIKK.ee
REFRESH-INTERVAL;VALUE=DURATION:PT1H
X-Robots-Tag:noindex
X-PUBLISHED-TTL:PT1H
BEGIN:VTIMEZONE
TZID:Europe/Tallinn
BEGIN:DAYLIGHT
TZOFFSETFROM:+0200
TZOFFSETTO:+0300
TZNAME:EEST
DTSTART:20260329T010000
END:DAYLIGHT
BEGIN:STANDARD
TZOFFSETFROM:+0300
TZOFFSETTO:+0200
TZNAME:EET
DTSTART:20261025T010000
END:STANDARD
END:VTIMEZONE
BEGIN:VEVENT
DTSTART;TZID=Europe/Tallinn:20260123T100000
DTEND;TZID=Europe/Tallinn:20260123T134500
DTSTAMP:20260424T145029
CREATED:20260112T100709Z
LAST-MODIFIED:20260112T100709Z
UID:10011823-1769162400-1769175900@www.pikk.ee
SUMMARY:Mahelinnukasvatuse infopäev - broilerikasvatus
DESCRIPTION:Toimumise aeg: 23.01.2026 kell 10:00\nToimumise koht: veebis\, keskkond zoom \nKorraldaja: Mahepõllumajanduse Koostöökogu \nSihtrühm: Mahelinnukasvatajad ja mahelinnukasvatusega alustamisest huvitatud tootjad \nPäevakava* 10:00-13:45: \n– Mahetootmiseks sobivad tõud ja geneetika\n– Tibude varajane käsitlus ja söötmine\n– Broilerite söötmine\n– Pidamissüsteemid ja vabaõhulahendused\n– Väikesemahulised tapamajad broileritele\n– Kohalik vaade mahebroilerikasvatusele \nPõhilektor on Axel Hilckmann\, mahelinnukasvatuse nõustaja Saksamaalt. Kohalikku kogemust jagab Lauri Bobrovski (Äntu Mõis OÜ). \n*Korraldajal on õigus teha päevakavas muudatusi \nInfopäeval on tõlge eesti keelde. \nInfopäev on tasuta. Osalemiseks on vaja registreeruda hiljemalt 21.01 siin: \nhttps://forms.gle/itAXsYmkMy96Y1xx8 \nLisainfo:\nmaheteave@gmail.com \nInfopäev on rahastatud “Põllumajanduslike teadmiste ja innovatsiooni süsteemi” ehk AKIS programmi raames.
URL:https://www.pikk.ee/sundmus/mahelinnukasvatuse-infopaev-broilerikasvatus/
LOCATION:Veebis\, Eesti
CATEGORIES:Loomakasvatus,Mahemajandus
END:VEVENT
END:VCALENDAR