BEGIN:VCALENDAR
VERSION:2.0
PRODID:-//PIKK.ee - ECPv6.13.2.1//NONSGML v1.0//EN
CALSCALE:GREGORIAN
METHOD:PUBLISH
X-WR-CALNAME:PIKK.ee
X-ORIGINAL-URL:https://www.pikk.ee
X-WR-CALDESC:Events for PIKK.ee
REFRESH-INTERVAL;VALUE=DURATION:PT1H
X-Robots-Tag:noindex
X-PUBLISHED-TTL:PT1H
BEGIN:VTIMEZONE
TZID:Europe/Tallinn
BEGIN:DAYLIGHT
TZOFFSETFROM:+0200
TZOFFSETTO:+0300
TZNAME:EEST
DTSTART:20260329T010000
END:DAYLIGHT
BEGIN:STANDARD
TZOFFSETFROM:+0300
TZOFFSETTO:+0200
TZNAME:EET
DTSTART:20261025T010000
END:STANDARD
END:VTIMEZONE
BEGIN:VEVENT
DTSTART;VALUE=DATE:20260125
DTEND;VALUE=DATE:20260130
DTSTAMP:20260419T175815
CREATED:20251219T094814Z
LAST-MODIFIED:20251219T094814Z
UID:10011804-1769299200-1769731199@www.pikk.ee
SUMMARY:Õppereis Dubaisse Gulfoodi messile
DESCRIPTION:Ürituse lühikirjeldus \nKutsume osalema õppereisile Dubaisse rahvusvahelisele toidumessile Gulfood 2026\, mis toimub 25.–29. jaanuaril 2026. Õppereisi eesmärk on suurendada Eesti põllumajandus- ja toidutootjate ekspordialaseid teadmisi ning tootearenduse võimekust\, tutvustades osalejatele Gulfood 2026 messi kaudu innovaatilisi tooteid\, rahvusvahelisi toidu- ja tarbimistrende\, turustamisvõimalusi ning potentsiaalseid koostööpartnereid sihtturul. \nSihtrühm: õppereis on suunatud mahetootjatele\, põllumajandustoodete töötlejatele ja toidukäitlejatele ning toimub juhul\, kui osaleb vähemalt viis ettevõtet. \nGulfoodi mess leiab aset 26-30. jaanuar 2026. Sellest tulenevalt plaanime väljalendu 25. jaanuar\, et olla kohal messi esimeseks päevaks ja tagasilendu 29. jaanuar. \nSeekordne Gulfood on eriline ja mitu korda suurem\, kuna leiab aset kahes kohas: Dubai Exhibition Centre ja World Trade Centre. Mõlemat kohta on plaanis reisi käigus külastada. \n  \nRegistreerimine: Õppereis Dubaisse Gulfoodi messile | Eesti Kaubandus-Tööstuskoda \n  \nAjakava: \n*korraldajal on õigus teha muudatusi reisi ajakavas \n\njaanuar 2026\n\nSinnalend vastavalt lennugraafikule. \nTransfeer lennujaamast hotelli. \n\njaanuar 2026\n\n10:00-18:00 Messi ühiskülastus Dubai Expo alal. \nPäeva esimeses pooles on plaanis tunnine orientatsioonikohtumine toidusektori nõustamis- ja turustamisettevõttega Brands Beyond Border\, kes annab ülevaate regiooni võimalustest\, turu toimimisloogikast\, tarbimistrendidest ja turustuskanalitest Dubais ja laiemalt Laheriikides. \nKülastame messistende vastavalt Eesti ettevõtete huvidele\, kus eelnevalt on külastusajad kokku lepitud. \nKülastame muuhulgas ka Eesti riikliku messistendi. \nPäeva jooksul on osalejatel võimalik lisaks osa võtta ja messialal toimuvatest üritustest või World Economy Summitist. \n19:00 Ühine õhtusöök kutsutud külalistega. Külalistena kutsume paar võimalikku koostööpartnerit või distribuutorit Dubaist\, kellega saab juba vabamas vormis suhelda\, arutada võimalikku koostööd ning saada siseinfot turu toimimise kohta. \n\njaanuar 2026\n\n10:00-18:00 Messi ühiskülastus. Sel päeval külastame messiala World Trade Centeris. \nKülastame stende\, kus oleme eelnevalt kohtumised kokku leppinud. \nMessialal on võimalus osa võtta ka erinevatest sündmustest\, nt Top Table\, Food startups\, Future Food 500. Future food ala toob kokku idufirmad ja visionäärid\, kes juhivad ülemaailmse toiduainetööstuse arengut. \nÕhtul: ühine õhtusöök meie kohaliku partneriga. \n\njaanuar 2026\n\nKolmandal päeval saab iga osaleja külastada just seda messiala (kas World trade centeris või Expol)\, mis haakub tema huvide ja tootekategooriaga\, kuna need on kahe messikeskuse vahel ära jaotatud. \nÕhtul: ühine õhtusöök ja kokkuvõtete tegemine õppereisist. \n\njaanuar 2026\n\nTransfeer lennujaama ja tagasisõit Eestisse. \nHIND: \nHinnas sisalduvad: Edasi-tagasi lennupiletid\, majutus 4 ööd\, messipääsmed\, õhtusöögid\, kohapealne transport ja programm.Õppereisil osalemine on vähese tähtsusega abi summas ca 1566 €\, millele lisandub osaleva ettevõtte omaosalus summas ca 1610 € (olenevalt lennupiletite maksumusest). \nNB! Osalejate arv on piiratud (eeldatavalt 9 osalejat). Kui ettevõte loobub osalemast pärast oma osalemise kinnitamist õppereisil\, on korraldajal õigus esitada arve tekkinud kulude kohta\, mis ei ole tagastatavad. Korraldaja jätab endale õiguse piirata ühest ettevõttest tulevate osalejate arvu. \n  \nÜritus viiakse läbi „Põllumajanduslike teadmiste ja innovatsiooni süsteemi“ (AKIS) raames. Kaasrahastab Euroopa Liit. \nSündmuse link: Õppereis Dubaisse Gulfoodi messile | Eesti Kaubandus-Tööstuskoda \n  \nLisainfo: \nMerit Fimberg-Espuch \nProjektijuht\, Eesti kaubandus-tööstuskoda \nmerit@koda.ee \n+372 604 0066
URL:https://www.pikk.ee/sundmus/oppereis-dubaisse-gulfoodi-messile/
CATEGORIES:Toit ja toiduohutus
END:VEVENT
BEGIN:VEVENT
DTSTART;TZID=Europe/Tallinn:20260127T080000
DTEND;TZID=Europe/Tallinn:20260129T170000
DTSTAMP:20260419T175815
CREATED:20260114T174232Z
LAST-MODIFIED:20260114T174232Z
UID:10011829-1769500800-1769706000@www.pikk.ee
SUMMARY:Taimekaitse aluskoolitus professionaalsele kasutajale (22 t)
DESCRIPTION:Taimekaitse aluskoolitus professionaalsele kasutajale (22 t) \nKoolitus toimub 27.-29. jaanuar 2026  \nJärvamaa Rakendusliku Kolledži Särevere õppekohas \nKoolitajad: Kaja Marrandi\, Marek Kõbu \nKoolitusele registreerimine toimub SIIT \nhind 195 eurot (sisaldab paberkandjal konspekti ja raamatut “Taimehaigused ja -kahjurid\, umbrohud”) \nKaasa palun võtta isikut tõendav pildiga dokument! \nTäiendav info:\nRuth Türk\nruth.turk@kolledz.ee\n+372 5329 2188
URL:https://www.pikk.ee/sundmus/taimekaitse-aluskoolitus-professionaalsele-kasutajale-22-t-30/
LOCATION:Järvamaa\, Järvamaa\, Eesti
CATEGORIES:Taimekaitse
GEO:58.8866713;25.5000624
END:VEVENT
BEGIN:VEVENT
DTSTART;TZID=Europe/Tallinn:20260127T100000
DTEND;TZID=Europe/Tallinn:20260127T135000
DTSTAMP:20260419T175815
CREATED:20260114T080701Z
LAST-MODIFIED:20260115T123318Z
UID:10011828-1769508000-1769521800@www.pikk.ee
SUMMARY:Infopäev toidulisandite tootjatele ja müüjatele
DESCRIPTION:Registreerumine 27.01.2026 infopäevale toidulisandite tootjatele ja müüjatele toimub  SIIT \nInfopäev viiakse läbi tingimusel\, et eelregistreerunuid on vähemalt 10.  \n  \nInfopäeva sisu: \nToidulisand on inimesele toitainete või muude füsioloogilise toimega ainete (nt vitamiinid\, mineraaltoitaineid\, kofeiin\, taimede ekstraktid\, rasvhapped jne) kontsentreeritud allikaks ja seda kasutatakse tavatoidu täiendamiseks. Toidulisandid on ette nähtud tarbimiseks kindlate annuste või kogustena. Neid turustatakse müügipakendisse pakendatuna kindlate annustena\, nagu kapslid\, pastillid\, tabletid\, pulbrikotikesed\, vedelikuampullid\, tilgutuspudelid jmt. Toidulisandid ei anna oluliselt energiat. Eestis loetakse toidulisandiks tooteid\, mille soovitusliku päevase koguse energiasisaldus on kuni 40 kcal tahkes toidus ja 20 kcal vedelikes (aluseks on toitumisalase väite „madala energiasisaldusega“ tingimused). Toidulisandi esmakordsel turuleviimisel Eestis tuleb sellest teavitada Põllumajandus- ja Toiduametit. Teavitama peab toidulisandi turuleviija\, kelleks võib olla näiteks toidulisandi tootja\, maaletooja\, turustaja või tootja volitatud esindaja Eestis. \nInfopäeval keskendutakse valdkonda puudutavale õigusaktidele ja toidulisandite kohta kehtivatele nõuetele. Lektoriteks on oma valdkonna spetsialistid. \n  \nPÄEVAKAVA: \nModeraator:     Sirje Potisepp Toiduliidu juhataja \n9:45 – 10:00       Registreerimine Teamsis \n10:00 – 10:30     Toidulisandite seadusandlus \nEvelin Kivima Regionaal- ja põllumajandusministeeriumi toiduohutuse osakonna peaspetsialist \n10:30 – 11:00     Toodete määratlemine\, ravimtaimed \n                               Evelin Saar Ravimiameti järelevalveosakonna spetsialist \n11:00 – 11:10     Piiripealsete toodete valdkonna tutvustus \nAljona Honga Terviseameti kemikaaliohutuse osakonna peaspetsialist \n11:10 – 11:40     Toidulisanditest teavitamine ja toidulisandite järelevalve tulemused \nBrigitte Salmus Põllumajandus- ja Toiduameti toidulisandite ja uuendtoidu peaspetsialist \n11:40 – 12:10     LÕUNAPAUS \n12:10 – 12:55     Toitumis- ja tervisealaste väidete esitamine toidulisandite puhul \nTiiu Rand Põllumajandus- ja Toiduameti toiduosakonna peaspetsilist \n12:55 – 13:15     Toidulisandite tarbimisuuringu tulemustest \nJüri Ruut LABRIS riskihindamise osakonna juhtivspetsialist \n13:15 – 13:45     Läbipaistvusest usalduseni: Ecoshi teekond\, sisekultuur ja vastutus toidulisandite turul \n                               Karl Kesküll Ecosh teadus- ja arendusspetsialist ning laborijuht \n13:45 – 13:50     Päeva kokkuvõte \n*korraldajal on õigus teha muudatusi infopäeva ajakavas \n  \nÜritus viiakse läbi „Põllumajanduslike teadmiste ja innovatsiooni süsteemi“ (AKIS) raames. Kaasrahastab Euroopa Liit. \n  \nLisainfo: \nLiina Laineveer \nLiina.laineveer@toiduliit.ee\n+372 5205877
URL:https://www.pikk.ee/sundmus/infopaev-toidulisandite-tootjatele-ja-muujatele/
LOCATION:Veebis\, Eesti
CATEGORIES:Toit ja toiduohutus
END:VEVENT
BEGIN:VEVENT
DTSTART;TZID=Europe/Tallinn:20260127T110000
DTEND;TZID=Europe/Tallinn:20260127T123000
DTSTAMP:20260419T175815
CREATED:20260121T071743Z
LAST-MODIFIED:20260121T071743Z
UID:10011843-1769511600-1769517000@www.pikk.ee
SUMMARY:„Maapiirkonna ettevõtjate konkurentsivõime suurendamise investeeringutoetuse taotluse esitamine e-PRIAs“.
DESCRIPTION:27. jaanuaril kell 11.00–12.30 toimub veebiseminar „Maapiirkonna ettevõtjate konkurentsivõime suurendamise investeeringutoetuse taotluse esitamine e-PRIAs“. \n\nSeminaril räägime 1. veebruarist kehtima hakkavatest määruse muudatustest ning tingimustest toetuse taotlemisel.\nSamuti vaatame samm-sammult üle\, kuidas esitada toetustaotlust e-PRIAs ning millele seejuures tähelepanu pöörata.\n\nToetuse tingimustest ning määruse muudatustest räägib Allar Korjas Regionaal- ja Põllumajandusministeeriumist ning toetustaotluse esitamisest räägib Elis Blaubrük PRIAst. \nSeminar toimub Teamsi keskkonnas ning osalemiseks on kindlasti vaja registreeruda. Registreeru seminarile siin.\nOsalemislink saabub automaatse kirjaga registreerimisankeedis kirjutatud e-posti aadressile. Teamsi lingil klõpsates suunatakse külaline esmalt n-ö ootesaali. \nSelleks\, et saaksime veebiseminari paremini ette valmistada\, palume küsimused\, millele vastuseid ootate\, saata PRIAle hiljemalt 23. jaanuaril. Küsimuste lisamiseks vajutage siia. Küsimusi saab esitada kirjalikult ka veebiseminari ajal seminari vestlusaknas. \nSeminari salvestus on pärast toimumist järelvaadatav Youtube’is. Salvestuse lingi ja seminaril esitatud küsimuste vastused lisame esimesel võimalusel pärast seminari toimumist PRIA kodulehe uudiste rubriiki ja toetuse lehele. Jälgige meie kodulehte ja Facebooki kanalit. \nToetuse kohta saab täpsemat infot PRIA kodulehelt ning küsimuste korral saab infot\, kirjutades aadressile info@pria.ee.
URL:https://www.pikk.ee/sundmus/veebiseminar-epria/
LOCATION:Veebis\, Eesti
CATEGORIES:Finantsmajandus,Maaettevõtlus
END:VEVENT
BEGIN:VEVENT
DTSTART;TZID=Europe/Tallinn:20260127T130000
DTEND;TZID=Europe/Tallinn:20260127T160000
DTSTAMP:20260419T175815
CREATED:20260108T080134Z
LAST-MODIFIED:20260204T123727Z
UID:10011816-1769518800-1769529600@www.pikk.ee
SUMMARY:27.01.2026 infopäev veebis “Sööda keemiline ja bioloogiline ohutus ning kvaliteet“ 
DESCRIPTION:Eesti Põllumajandus-Kaubanduskoda kutsub osalema infopäevale “Sööda keemiline ja bioloogiline ohutus ning kvaliteet“  \nInfopäeva eesmärk on anda sööda käitlemise ja tootmisega tegelevatele ettevõtjatele ajakohast teavet sööda ohutuse ja kvaliteedi tagamise kohta. Fookuses on keemilise ja bioloogilise ohutuse tagamine\, nõuetele vastavus ning valdkonna uuemad seadusandlikud muudatused. Infopäev toetab järjepidevat teabe edastamist ja aitab osalejatel saada vastuseid valdkonna aktuaalsetele küsimustele. \nToimumisaeg: 27. jaanuar 2026 kell 13.00 – 16.00\nToimumiskoht: veebikeskkond Zoom   \nVaata järgi SIIT \nPäevakavas*:   \n\nAktuaalsed teemad söödaohutuse tagamisel – Eda Ernes\, ReM toiduohutuse osakond \n\n\nTaimekaitsevahendite jäägid söödas – Peep Põdder\, LABRIS \n\n\nEnesekontrolliplaan ja HACCP söödakäitlejale – Katrin Laikoja\, Eesti Maaülikool  \n\n\nMükotoksiinide analüüsitulemused Eestis toodetud söötades –  Pilleriin Puskar\, Alltech Eesti OÜ \n\n\nHead praktikad – Margus Algo\, Ranna Farm OÜ\n\n*Korraldaja jätab endale õiguse teha päevakavas muudatusi   \nLisainfo: Gelis Pihelgas\, EPKK projektijuht\, e-post: gelis@epkk.ee \, tel:+372 505 6961  \nSündmus toimub Euroopa Liidu ühise strateegiakava 2023-2027 kohase Põllumajanduse teadmussiirde ja innovatsiooni süsteemi (AKIS) arendamise toetuse raames\, rahastab Euroopa MaaeluPõllumajandusfond. 
URL:https://www.pikk.ee/sundmus/27-01-2026-infopaev-veebis-sooda-keemiline-ja-bioloogiline-ohutus-ning-kvaliteet/
LOCATION:Veebis\, Eesti
CATEGORIES:Loomakasvatus
ORGANIZER;CN="Eesti P%C3%B5llumajandus-Kaubanduskoda":MAILTO:info@epkk.ee
END:VEVENT
END:VCALENDAR